BEGIN:VCALENDAR
VERSION:2.0
PRODID:-//North Jersey Masters Running Club - ECPv6.15.18//NONSGML v1.0//EN
CALSCALE:GREGORIAN
METHOD:PUBLISH
X-ORIGINAL-URL:https://njmasters.com
X-WR-CALDESC:Events for North Jersey Masters Running Club
REFRESH-INTERVAL;VALUE=DURATION:PT1H
X-Robots-Tag:noindex
X-PUBLISHED-TTL:PT1H
BEGIN:VTIMEZONE
TZID:UTC
BEGIN:STANDARD
TZOFFSETFROM:+0000
TZOFFSETTO:+0000
TZNAME:UTC
DTSTART:20230101T000000
END:STANDARD
END:VTIMEZONE
BEGIN:VEVENT
DTSTART;TZID=UTC:20240812T090000
DTEND;TZID=UTC:20240812T103000
DTSTAMP:20260419T231333
CREATED:20240605T182015Z
LAST-MODIFIED:20240626T185012Z
UID:10001170-1723453200-1723458600@njmasters.com
SUMMARY:Group Run
DESCRIPTION:Ridgewood Duck pond
URL:https://njmasters.com/event/group-run-188/
LOCATION:Ridgewood Duck Pond\, 1133 E. Ridgewood Ave\, Ridgewood\, NJ\, 07450
CATEGORIES:Group Run
END:VEVENT
BEGIN:VEVENT
DTSTART;TZID=UTC:20240812T190000
DTEND;TZID=UTC:20240812T200000
DTSTAMP:20260419T231333
CREATED:20240609T210337Z
LAST-MODIFIED:20240729T223924Z
UID:10001179-1723489200-1723492800@njmasters.com
SUMMARY:Morris County Summer Striders CC 5K Series
DESCRIPTION:
URL:https://njmasters.com/event/morris-county-summer-striders-cc-5k-series-4/
LOCATION:NJ
CATEGORIES:Races
END:VEVENT
END:VCALENDAR