BEGIN:VCALENDAR
VERSION:2.0
PRODID:-//North Jersey Masters Running Club - ECPv6.15.18//NONSGML v1.0//EN
CALSCALE:GREGORIAN
METHOD:PUBLISH
X-WR-CALNAME:North Jersey Masters Running Club
X-ORIGINAL-URL:https://njmasters.com
X-WR-CALDESC:Events for North Jersey Masters Running Club
REFRESH-INTERVAL;VALUE=DURATION:PT1H
X-Robots-Tag:noindex
X-PUBLISHED-TTL:PT1H
BEGIN:VTIMEZONE
TZID:UTC
BEGIN:STANDARD
TZOFFSETFROM:+0000
TZOFFSETTO:+0000
TZNAME:UTC
DTSTART:20230101T000000
END:STANDARD
END:VTIMEZONE
BEGIN:VEVENT
DTSTART;TZID=UTC:20240820T180000
DTEND;TZID=UTC:20240820T193000
DTSTAMP:20260419T230937
CREATED:20240811T224226Z
LAST-MODIFIED:20240819T023003Z
UID:10001189-1724176800-1724182200@njmasters.com
SUMMARY:Tuesday Track Workout
DESCRIPTION:With Coach Joel: \nWarmup mile. \nTrack drills. 2×100 strides. Everyone will get timed for a mile. \nAfter a decent break\, will finish with 4-7×200 with 200jog. \nWarm down 2-3 laps. \n(Reminder for Summer Party Wed 21st) \n 
URL:https://njmasters.com/event/tuesday-track-workout-19/
LOCATION:Ben Franklin Middle School\, 335 N Van Dien Ave\, Ridgewood\, NJ\, 07450\, United States
CATEGORIES:Workouts
END:VEVENT
END:VCALENDAR