BEGIN:VCALENDAR
VERSION:2.0
PRODID:-//North Jersey Masters Running Club - ECPv6.15.18//NONSGML v1.0//EN
CALSCALE:GREGORIAN
METHOD:PUBLISH
X-ORIGINAL-URL:https://njmasters.com
X-WR-CALDESC:Events for North Jersey Masters Running Club
REFRESH-INTERVAL;VALUE=DURATION:PT1H
X-Robots-Tag:noindex
X-PUBLISHED-TTL:PT1H
BEGIN:VTIMEZONE
TZID:UTC
BEGIN:STANDARD
TZOFFSETFROM:+0000
TZOFFSETTO:+0000
TZNAME:UTC
DTSTART:20230101T000000
END:STANDARD
END:VTIMEZONE
BEGIN:VEVENT
DTSTART;VALUE=DATE:20240915
DTEND;VALUE=DATE:20240916
DTSTAMP:20260419T214101
CREATED:20240113T191335Z
LAST-MODIFIED:20240113T192912Z
UID:10001040-1726358400-1726444799@njmasters.com
SUMMARY:BY HOOK OR CROOK 12K ALL DIVISIONS/USATF MASTERS 12K CHAMPIONSHIP *800 POINT EVENT
DESCRIPTION:
URL:https://njmasters.com/event/by-hook-or-crook-12k-all-divisions-usatf-masters-12k-championship/
LOCATION:NJ
END:VEVENT
BEGIN:VEVENT
DTSTART;TZID=UTC:20240915T073000
DTEND;TZID=UTC:20240915T093000
DTSTAMP:20260419T214101
CREATED:20240902T164501Z
LAST-MODIFIED:20240902T164501Z
UID:10001204-1726385400-1726392600@njmasters.com
SUMMARY:Group Run
DESCRIPTION:Group Run Glen Rock Duck Pond
URL:https://njmasters.com/event/group-run-200/
LOCATION:Glen Rock Duck pond
CATEGORIES:Group Run
END:VEVENT
END:VCALENDAR