BEGIN:VCALENDAR
VERSION:2.0
PRODID:-//North Jersey Masters Running Club - ECPv6.15.18//NONSGML v1.0//EN
CALSCALE:GREGORIAN
METHOD:PUBLISH
X-WR-CALNAME:North Jersey Masters Running Club
X-ORIGINAL-URL:https://njmasters.com
X-WR-CALDESC:Events for North Jersey Masters Running Club
REFRESH-INTERVAL;VALUE=DURATION:PT1H
X-Robots-Tag:noindex
X-PUBLISHED-TTL:PT1H
BEGIN:VTIMEZONE
TZID:UTC
BEGIN:STANDARD
TZOFFSETFROM:+0000
TZOFFSETTO:+0000
TZNAME:UTC
DTSTART:20230101T000000
END:STANDARD
END:VTIMEZONE
BEGIN:VEVENT
DTSTART;TZID=UTC:20241103T070000
DTEND;TZID=UTC:20241103T170000
DTSTAMP:20260419T185914
CREATED:20240923T013512Z
LAST-MODIFIED:20240923T013512Z
UID:10001220-1730617200-1730653200@njmasters.com
SUMMARY:NY CITY MARATHON
DESCRIPTION:Marathon Day!!\nNovember 3rd\, 2024
URL:https://njmasters.com/event/ny-city-marathon/
LOCATION:NY City Staten Island
CATEGORIES:Races
END:VEVENT
BEGIN:VEVENT
DTSTART;TZID=UTC:20241103T080000
DTEND;TZID=UTC:20241103T110000
DTSTAMP:20260419T185914
CREATED:20241029T183720Z
LAST-MODIFIED:20241029T190203Z
UID:10001246-1730620800-1730631600@njmasters.com
SUMMARY:Group Run
DESCRIPTION:@Glen Rock Duck Pond \nRemember to Turn your clocks back for today’s Fall Scheduled time. \n  \n**Meet in the second parking area by the pavilion.** There will be several pace groups and a range of abilities within each.
URL:https://njmasters.com/event/group-run-229/
LOCATION:Glen Rock Duck pond
CATEGORIES:Group Run
ATTACH;FMTTYPE=image/jpeg:https://njmasters.com/wp-content/uploads/2016/04/Summer-2022-Group-Run.jpg
END:VEVENT
BEGIN:VEVENT
DTSTART;TZID=UTC:20241103T083000
DTEND;TZID=UTC:20241103T100000
DTSTAMP:20260419T185914
CREATED:20241022T044253Z
LAST-MODIFIED:20241022T044504Z
UID:10001244-1730622600-1730628000@njmasters.com
SUMMARY:9th Annual Hero 5K Run/Walk
DESCRIPTION:Support the Veterans as you run on this scenic route through campus.
URL:https://njmasters.com/event/9th-annual-hero-5k-run-walk/
LOCATION:NJ
CATEGORIES:Races
END:VEVENT
END:VCALENDAR