BEGIN:VCALENDAR
VERSION:2.0
PRODID:-//North Jersey Masters Running Club - ECPv6.15.18//NONSGML v1.0//EN
CALSCALE:GREGORIAN
METHOD:PUBLISH
X-ORIGINAL-URL:https://njmasters.com
X-WR-CALDESC:Events for North Jersey Masters Running Club
REFRESH-INTERVAL;VALUE=DURATION:PT1H
X-Robots-Tag:noindex
X-PUBLISHED-TTL:PT1H
BEGIN:VTIMEZONE
TZID:UTC
BEGIN:STANDARD
TZOFFSETFROM:+0000
TZOFFSETTO:+0000
TZNAME:UTC
DTSTART:20230101T000000
END:STANDARD
END:VTIMEZONE
BEGIN:VEVENT
DTSTART;VALUE=DATE:20241117
DTEND;VALUE=DATE:20241118
DTSTAMP:20260419T190043
CREATED:20240113T191821Z
LAST-MODIFIED:20240113T191821Z
UID:10001045-1731801600-1731887999@njmasters.com
SUMMARY:GARDEN STATE 8K XC ALL DIVISIONS
DESCRIPTION:
URL:https://njmasters.com/event/garden-state-8k-xc-all-divisions/
LOCATION:NJ
END:VEVENT
BEGIN:VEVENT
DTSTART;TZID=UTC:20241117T080000
DTEND;TZID=UTC:20241117T110000
DTSTAMP:20260419T190043
CREATED:20241029T184300Z
LAST-MODIFIED:20241029T184323Z
UID:10001249-1731830400-1731841200@njmasters.com
SUMMARY:Group Run
DESCRIPTION:  \n@Glen Rock Duck Pond \n**Meet in the second parking area by the pavilion.** There will be several pace groups and a range of abilities within each.
URL:https://njmasters.com/event/group-run-232/
LOCATION:Glen Rock Duck pond
CATEGORIES:Group Run
END:VEVENT
END:VCALENDAR