BEGIN:VCALENDAR
VERSION:2.0
PRODID:-//North Jersey Masters Running Club - ECPv6.15.18//NONSGML v1.0//EN
CALSCALE:GREGORIAN
METHOD:PUBLISH
X-ORIGINAL-URL:https://njmasters.com
X-WR-CALDESC:Events for North Jersey Masters Running Club
REFRESH-INTERVAL;VALUE=DURATION:PT1H
X-Robots-Tag:noindex
X-PUBLISHED-TTL:PT1H
BEGIN:VTIMEZONE
TZID:UTC
BEGIN:STANDARD
TZOFFSETFROM:+0000
TZOFFSETTO:+0000
TZNAME:UTC
DTSTART:20230101T000000
END:STANDARD
END:VTIMEZONE
BEGIN:VEVENT
DTSTART;TZID=UTC:20241128T090000
DTEND;TZID=UTC:20241128T100000
DTSTAMP:20260419T173827
CREATED:20241030T041857Z
LAST-MODIFIED:20241115T034047Z
UID:10001262-1732784400-1732788000@njmasters.com
SUMMARY:Upper Saddle River 5k Run
DESCRIPTION:https://www.raceforum.com/event/347463/sign-up
URL:https://njmasters.com/event/upper-saddle-river-5k-run/
LOCATION:NJ
CATEGORIES:Races
END:VEVENT
BEGIN:VEVENT
DTSTART;TZID=UTC:20241128T090000
DTEND;TZID=UTC:20241128T100000
DTSTAMP:20260419T173827
CREATED:20241030T042210Z
LAST-MODIFIED:20241030T042210Z
UID:10001263-1732784400-1732788000@njmasters.com
SUMMARY:The Glen Rock Thanksgiving Day 5K Run
DESCRIPTION:
URL:https://njmasters.com/event/the-glen-rock-thanksgiving-day-5k-run/
LOCATION:Glen Rock
CATEGORIES:Races
END:VEVENT
BEGIN:VEVENT
DTSTART;TZID=UTC:20241128T090000
DTEND;TZID=UTC:20241128T110000
DTSTAMP:20260419T173827
CREATED:20240113T191539Z
LAST-MODIFIED:20241030T042811Z
UID:10001042-1732784400-1732791600@njmasters.com
SUMMARY:ASHENFELTER 8K ALL DIVISIONS CHAMPIONSHIP
DESCRIPTION:
URL:https://njmasters.com/event/ashenfelter-8k-all-divisions/
LOCATION:Glen Ridge
CATEGORIES:Races
END:VEVENT
END:VCALENDAR