BEGIN:VCALENDAR
VERSION:2.0
PRODID:-//North Jersey Masters Running Club - ECPv6.15.18//NONSGML v1.0//EN
CALSCALE:GREGORIAN
METHOD:PUBLISH
X-WR-CALNAME:North Jersey Masters Running Club
X-ORIGINAL-URL:https://njmasters.com
X-WR-CALDESC:Events for North Jersey Masters Running Club
REFRESH-INTERVAL;VALUE=DURATION:PT1H
X-Robots-Tag:noindex
X-PUBLISHED-TTL:PT1H
BEGIN:VTIMEZONE
TZID:UTC
BEGIN:STANDARD
TZOFFSETFROM:+0000
TZOFFSETTO:+0000
TZNAME:UTC
DTSTART:20230101T000000
END:STANDARD
END:VTIMEZONE
BEGIN:VEVENT
DTSTART;TZID=UTC:20241209T093000
DTEND;TZID=UTC:20241209T110000
DTSTAMP:20260419T173758
CREATED:20241205T192537Z
LAST-MODIFIED:20241205T192537Z
UID:10001275-1733736600-1733742000@njmasters.com
SUMMARY:Group Run
DESCRIPTION:Meet at the Ridgewood Duck Pond in the last parking lot closest to the path
URL:https://njmasters.com/event/group-run-250/
LOCATION:NJ
CATEGORIES:Group Run
ATTACH;FMTTYPE=image/jpeg:https://njmasters.com/wp-content/uploads/2016/04/Summer-2022-Group-Run.jpg
END:VEVENT
BEGIN:VEVENT
DTSTART;TZID=UTC:20241209T180000
DTEND;TZID=UTC:20241209T210000
DTSTAMP:20260419T173758
CREATED:20241126T192106Z
LAST-MODIFIED:20241205T193044Z
UID:10001265-1733767200-1733778000@njmasters.com
SUMMARY:HOLIDAY SOCIAL AT THE STEEL WHEEL
DESCRIPTION:
URL:https://njmasters.com/event/holiday-social-at-the-steel-wheel/
LOCATION:Steel Wheel\, Ridgewood\, NJ
ATTACH;FMTTYPE=image/png:https://njmasters.com/wp-content/uploads/2023/04/SteelWheelTavern2.png
END:VEVENT
END:VCALENDAR