BEGIN:VCALENDAR
VERSION:2.0
PRODID:-//North Jersey Masters Running Club - ECPv6.15.18//NONSGML v1.0//EN
CALSCALE:GREGORIAN
METHOD:PUBLISH
X-WR-CALNAME:North Jersey Masters Running Club
X-ORIGINAL-URL:https://njmasters.com
X-WR-CALDESC:Events for North Jersey Masters Running Club
REFRESH-INTERVAL;VALUE=DURATION:PT1H
X-Robots-Tag:noindex
X-PUBLISHED-TTL:PT1H
BEGIN:VTIMEZONE
TZID:UTC
BEGIN:STANDARD
TZOFFSETFROM:+0000
TZOFFSETTO:+0000
TZNAME:UTC
DTSTART:20240101T000000
END:STANDARD
END:VTIMEZONE
BEGIN:VEVENT
DTSTART;TZID=UTC:20250101T110000
DTEND;TZID=UTC:20250101T120000
DTSTAMP:20260419T155054
CREATED:20241126T192509Z
LAST-MODIFIED:20241205T192820Z
UID:10001267-1735729200-1735732800@njmasters.com
SUMMARY:FIRST DAY 5K!
DESCRIPTION:
URL:https://njmasters.com/event/first-day-5k-2/
LOCATION:Memorial Middle School Fairlawn\, NJ\, Fairlawn
ATTACH;FMTTYPE=image/jpeg:https://njmasters.com/wp-content/uploads/2023/03/2023-Team-Pic-First-Day-Race-2-1.jpg
END:VEVENT
END:VCALENDAR