BEGIN:VCALENDAR
VERSION:2.0
PRODID:-//North Jersey Masters Running Club - ECPv6.15.18//NONSGML v1.0//EN
CALSCALE:GREGORIAN
METHOD:PUBLISH
X-ORIGINAL-URL:https://njmasters.com
X-WR-CALDESC:Events for North Jersey Masters Running Club
REFRESH-INTERVAL;VALUE=DURATION:PT1H
X-Robots-Tag:noindex
X-PUBLISHED-TTL:PT1H
BEGIN:VTIMEZONE
TZID:UTC
BEGIN:STANDARD
TZOFFSETFROM:+0000
TZOFFSETTO:+0000
TZNAME:UTC
DTSTART:20240101T000000
END:STANDARD
END:VTIMEZONE
BEGIN:VEVENT
DTSTART;VALUE=DATE:20250107
DTEND;VALUE=DATE:20250108
DTSTAMP:20260419T155349
CREATED:20250107T202319Z
LAST-MODIFIED:20250107T202319Z
UID:10001305-1736208000-1736294399@njmasters.com
SUMMARY:NJM Beginner Program Start ( Wednesday Class)
DESCRIPTION:
URL:https://njmasters.com/event/njm-beginner-program-start-wednesday-class/
LOCATION:NJ
END:VEVENT
BEGIN:VEVENT
DTSTART;VALUE=DATE:20250107
DTEND;VALUE=DATE:20250108
DTSTAMP:20260419T155349
CREATED:20250107T202404Z
LAST-MODIFIED:20250107T202404Z
UID:10001306-1736208000-1736294399@njmasters.com
SUMMARY:NJM Beginner Program Starts ( Saturday Class)
DESCRIPTION:
URL:https://njmasters.com/event/njm-beginner-program-starts-saturday-class/
LOCATION:NJ
END:VEVENT
END:VCALENDAR