BEGIN:VCALENDAR
VERSION:2.0
PRODID:-//North Jersey Masters Running Club - ECPv6.15.18//NONSGML v1.0//EN
CALSCALE:GREGORIAN
METHOD:PUBLISH
X-WR-CALNAME:North Jersey Masters Running Club
X-ORIGINAL-URL:https://njmasters.com
X-WR-CALDESC:Events for North Jersey Masters Running Club
REFRESH-INTERVAL;VALUE=DURATION:PT1H
X-Robots-Tag:noindex
X-PUBLISHED-TTL:PT1H
BEGIN:VTIMEZONE
TZID:UTC
BEGIN:STANDARD
TZOFFSETFROM:+0000
TZOFFSETTO:+0000
TZNAME:UTC
DTSTART:20240101T000000
END:STANDARD
END:VTIMEZONE
BEGIN:VEVENT
DTSTART;TZID=UTC:20250201T080000
DTEND;TZID=UTC:20250201T100000
DTSTAMP:20260419T142506
CREATED:20250202T203821Z
LAST-MODIFIED:20250202T203821Z
UID:10001336-1738396800-1738404000@njmasters.com
SUMMARY:Group Run
DESCRIPTION:Glen Rock Duck Pond \n**Meet in the second parking area by the pavilion.** There will be several pace groups and a range of abilities within each.
URL:https://njmasters.com/event/group-run-288/
LOCATION:Glen Rock Duck pond
CATEGORIES:Group Run
ATTACH;FMTTYPE=image/jpeg:https://njmasters.com/wp-content/uploads/2016/04/Summer-2022-Group-Run.jpg
END:VEVENT
BEGIN:VEVENT
DTSTART;TZID=UTC:20250201T090000
DTEND;TZID=UTC:20250201T103000
DTSTAMP:20260419T142506
CREATED:20241129T203042Z
LAST-MODIFIED:20250112T023417Z
UID:10001268-1738400400-1738405800@njmasters.com
SUMMARY:Penguin 5K Race
DESCRIPTION:Place\nImmaculate Heart of Mary Church – Wayne\, NJ\n\n\n\n\nDescription\n(Coed Team Championship 700/500pt) \n\n\nRun the icicles off your feet for one of the best winter races!\nThe faster you run\, the faster you can drink your Hot Cocoa! \nNEW LOCATION & NEW COURSE!\nOur event site and Start/Finish lines have moved to Immaculate Heart of Mary Church – 580 Ratzer Rd. Wayne\, NJ. \nA portion of the proceeds benefits the Wayne Interfaith Network Food Pantry.
URL:https://njmasters.com/event/penguin-5k-race/
LOCATION:NJ
CATEGORIES:Races
END:VEVENT
END:VCALENDAR