BEGIN:VCALENDAR
VERSION:2.0
PRODID:-//North Jersey Masters Running Club - ECPv6.15.18//NONSGML v1.0//EN
CALSCALE:GREGORIAN
METHOD:PUBLISH
X-WR-CALNAME:North Jersey Masters Running Club
X-ORIGINAL-URL:https://njmasters.com
X-WR-CALDESC:Events for North Jersey Masters Running Club
REFRESH-INTERVAL;VALUE=DURATION:PT1H
X-Robots-Tag:noindex
X-PUBLISHED-TTL:PT1H
BEGIN:VTIMEZONE
TZID:UTC
BEGIN:STANDARD
TZOFFSETFROM:+0000
TZOFFSETTO:+0000
TZNAME:UTC
DTSTART:20240101T000000
END:STANDARD
END:VTIMEZONE
BEGIN:VTIMEZONE
TZID:America/New_York
BEGIN:DAYLIGHT
TZOFFSETFROM:-0500
TZOFFSETTO:-0400
TZNAME:EDT
DTSTART:20240310T070000
END:DAYLIGHT
BEGIN:STANDARD
TZOFFSETFROM:-0400
TZOFFSETTO:-0500
TZNAME:EST
DTSTART:20241103T060000
END:STANDARD
BEGIN:DAYLIGHT
TZOFFSETFROM:-0500
TZOFFSETTO:-0400
TZNAME:EDT
DTSTART:20250309T070000
END:DAYLIGHT
BEGIN:STANDARD
TZOFFSETFROM:-0400
TZOFFSETTO:-0500
TZNAME:EST
DTSTART:20251102T060000
END:STANDARD
BEGIN:DAYLIGHT
TZOFFSETFROM:-0500
TZOFFSETTO:-0400
TZNAME:EDT
DTSTART:20260308T070000
END:DAYLIGHT
BEGIN:STANDARD
TZOFFSETFROM:-0400
TZOFFSETTO:-0500
TZNAME:EST
DTSTART:20261101T060000
END:STANDARD
END:VTIMEZONE
BEGIN:VEVENT
DTSTART;VALUE=DATE:20250426
DTEND;VALUE=DATE:20250427
DTSTAMP:20260419T111440
CREATED:20250107T202102Z
LAST-MODIFIED:20250126T030824Z
UID:10001304-1745625600-1745711999@njmasters.com
SUMMARY:Clinton 5K/15K
DESCRIPTION:
URL:https://njmasters.com/event/clinton-5k-15k/
LOCATION:NJ
CATEGORIES:Races
END:VEVENT
BEGIN:VEVENT
DTSTART;TZID=UTC:20250426T070000
DTEND;TZID=UTC:20250426T170000
DTSTAMP:20260419T111440
CREATED:20250126T030322Z
LAST-MODIFIED:20250126T030322Z
UID:10001325-1745650800-1745686800@njmasters.com
SUMMARY:Wayne Rotary Run 5k
DESCRIPTION:Coed Team Championships/Wildcard Events
URL:https://njmasters.com/event/wayne-rotary-run-5k/
LOCATION:NJ
CATEGORIES:Races
END:VEVENT
BEGIN:VEVENT
DTSTART;TZID=America/New_York:20250426T080000
DTEND;TZID=America/New_York:20250426T090000
DTSTAMP:20260419T111440
CREATED:20250305T032743Z
LAST-MODIFIED:20250305T032956Z
UID:10001574-1745654400-1745658000@njmasters.com
SUMMARY:Ridgewood Run 10K Training Program
DESCRIPTION:
URL:https://njmasters.com/event/ridgewood-run-10k-training-program/2025-04-26/
LOCATION:Glen Rock Duck pond
END:VEVENT
BEGIN:VEVENT
DTSTART;TZID=America/New_York:20250426T080000
DTEND;TZID=America/New_York:20250426T100000
DTSTAMP:20260419T111440
CREATED:20250305T033321Z
LAST-MODIFIED:20250305T033321Z
UID:10001644-1745654400-1745661600@njmasters.com
SUMMARY:BEGINNER PROGRAM TRAINING
DESCRIPTION:
URL:https://njmasters.com/event/beginner-program-training-2/2025-04-26/
LOCATION:Glen Rock Duck Pond\, 658 County Rte S79\, Glen Rock\, NJ\, 07452\, United States
END:VEVENT
END:VCALENDAR