BEGIN:VCALENDAR
VERSION:2.0
PRODID:-//North Jersey Masters Running Club - ECPv6.15.18//NONSGML v1.0//EN
CALSCALE:GREGORIAN
METHOD:PUBLISH
X-WR-CALNAME:North Jersey Masters Running Club
X-ORIGINAL-URL:https://njmasters.com
X-WR-CALDESC:Events for North Jersey Masters Running Club
REFRESH-INTERVAL;VALUE=DURATION:PT1H
X-Robots-Tag:noindex
X-PUBLISHED-TTL:PT1H
BEGIN:VTIMEZONE
TZID:America/New_York
BEGIN:DAYLIGHT
TZOFFSETFROM:-0500
TZOFFSETTO:-0400
TZNAME:EDT
DTSTART:20240310T070000
END:DAYLIGHT
BEGIN:STANDARD
TZOFFSETFROM:-0400
TZOFFSETTO:-0500
TZNAME:EST
DTSTART:20241103T060000
END:STANDARD
BEGIN:DAYLIGHT
TZOFFSETFROM:-0500
TZOFFSETTO:-0400
TZNAME:EDT
DTSTART:20250309T070000
END:DAYLIGHT
BEGIN:STANDARD
TZOFFSETFROM:-0400
TZOFFSETTO:-0500
TZNAME:EST
DTSTART:20251102T060000
END:STANDARD
BEGIN:DAYLIGHT
TZOFFSETFROM:-0500
TZOFFSETTO:-0400
TZNAME:EDT
DTSTART:20260308T070000
END:DAYLIGHT
BEGIN:STANDARD
TZOFFSETFROM:-0400
TZOFFSETTO:-0500
TZNAME:EST
DTSTART:20261101T060000
END:STANDARD
END:VTIMEZONE
BEGIN:VEVENT
DTSTART;TZID=America/New_York:20250603T180000
DTEND;TZID=America/New_York:20250603T193000
DTSTAMP:20260419T081241
CREATED:20250602T124235Z
LAST-MODIFIED:20250602T124715Z
UID:10001805-1748973600-1748979000@njmasters.com
SUMMARY:Tuesday Track Workout + ADIDAS RUNING SHOE DEMO
DESCRIPTION:ADIDAS IS JOINING US AT THE TUESDAY NIGHT TRACK WORKOUT FOR A RUNNING SHOE DEMO!\nSponsored by Road Runner Sports\, Paramus\n\nJune 3\, 2025\n6:00 pm \nBen Franklin Middle School\n335 N. Van Dien\,\nRidgewood\, NJ \nThe event will be held on the track behind the school.\nWe suggest you arrive around 5:45 pm.\n\n\n\n\n\n\nLace up a pair of Adidas running shoes and take them for a test ride around the track. \n** RAFFLE TO WIN A FREE PAIR OF THE ADIOS PRO 4* \nMEET  US ON THE TRACK! \nSEE YOU THERE!\n\n\n\n\nWith Coach Joel: \nWarm up. \nWarmup mile. Track drills. 6x50m with 50 jog. \nAt 5k pace run 100 jog 100 for four laps. \nTake 3:00 recovery. Next do same for three laps. \nTake 2;00 recovery. Next do two laps with 1:00 break. \nThen one lap. Warmdown mile.
URL:https://njmasters.com/event/tuesday-track-workout-34-6/
LOCATION:Ben Franklin Middle School\, 335 N Van Dien Ave\, Ridgewood\, NJ\, 07450\, United States
CATEGORIES:Workouts
ATTACH;FMTTYPE=image/jpeg:https://njmasters.com/wp-content/uploads/2022/03/55826962_3139472089412181_1185756619779080192_n.jpeg
END:VEVENT
END:VCALENDAR