BEGIN:VCALENDAR
VERSION:2.0
PRODID:-//North Jersey Masters Running Club - ECPv6.15.18//NONSGML v1.0//EN
CALSCALE:GREGORIAN
METHOD:PUBLISH
X-ORIGINAL-URL:https://njmasters.com
X-WR-CALDESC:Events for North Jersey Masters Running Club
REFRESH-INTERVAL;VALUE=DURATION:PT1H
X-Robots-Tag:noindex
X-PUBLISHED-TTL:PT1H
BEGIN:VTIMEZONE
TZID:UTC
BEGIN:STANDARD
TZOFFSETFROM:+0000
TZOFFSETTO:+0000
TZNAME:UTC
DTSTART:20240101T000000
END:STANDARD
END:VTIMEZONE
BEGIN:VEVENT
DTSTART;TZID=UTC:20250626T070000
DTEND;TZID=UTC:20250626T170000
DTSTAMP:20260419T081555
CREATED:20250126T030405Z
LAST-MODIFIED:20250126T030405Z
UID:10001326-1750921200-1750957200@njmasters.com
SUMMARY:Tom Fleming Sunset Classic 5 Mile
DESCRIPTION:Coed Team Championships/Wildcard Events
URL:https://njmasters.com/event/tom-fleming-sunset-classic-5-mile/
LOCATION:NJ
CATEGORIES:Races
END:VEVENT
END:VCALENDAR