BEGIN:VCALENDAR
VERSION:2.0
PRODID:-//North Jersey Masters Running Club - ECPv6.15.18//NONSGML v1.0//EN
CALSCALE:GREGORIAN
METHOD:PUBLISH
X-ORIGINAL-URL:https://njmasters.com
X-WR-CALDESC:Events for North Jersey Masters Running Club
REFRESH-INTERVAL;VALUE=DURATION:PT1H
X-Robots-Tag:noindex
X-PUBLISHED-TTL:PT1H
BEGIN:VTIMEZONE
TZID:UTC
BEGIN:STANDARD
TZOFFSETFROM:+0000
TZOFFSETTO:+0000
TZNAME:UTC
DTSTART:20220101T000000
END:STANDARD
END:VTIMEZONE
BEGIN:VEVENT
DTSTART;TZID=UTC:20230304T080000
DTEND;TZID=UTC:20230304T090000
DTSTAMP:20260420T022714
CREATED:20230304T074951Z
LAST-MODIFIED:20230304T074951Z
UID:10000866-1677916800-1677920400@njmasters.com
SUMMARY:GROUP RUN
DESCRIPTION:
URL:https://njmasters.com/event/group-run-37/
LOCATION:Glen Rock Duck Pond\, 658 County Rte S79\, Glen Rock\, NJ\, 07452\, United States
CATEGORIES:Group Run
END:VEVENT
BEGIN:VEVENT
DTSTART;TZID=UTC:20230311T080000
DTEND;TZID=UTC:20230311T093000
DTSTAMP:20260420T022714
CREATED:20230217T080945Z
LAST-MODIFIED:20230217T082213Z
UID:10000746-1678521600-1678527000@njmasters.com
SUMMARY:Group Run
DESCRIPTION:
URL:https://njmasters.com/event/group-rum/
LOCATION:Glen Rock Duck Pond\, 658 County Rte S79\, Glen Rock\, NJ\, 07452\, United States
CATEGORIES:Group Run
END:VEVENT
BEGIN:VEVENT
DTSTART;TZID=UTC:20230312T080000
DTEND;TZID=UTC:20230312T093000
DTSTAMP:20260420T022714
CREATED:20230216T142553Z
LAST-MODIFIED:20230217T072533Z
UID:10000730-1678608000-1678613400@njmasters.com
SUMMARY:Monthly Destination Run / Nyack Beach
DESCRIPTION:
URL:https://njmasters.com/event/monthly-destination-run-nyack-beach/
LOCATION:Nyack Beach\, Nyack\, NY
CATEGORIES:Club Event,Group Run
END:VEVENT
BEGIN:VEVENT
DTSTART;TZID=UTC:20230326T080000
DTEND;TZID=UTC:20230326T093000
DTSTAMP:20260420T022714
CREATED:20230217T081037Z
LAST-MODIFIED:20230217T081037Z
UID:10000748-1679817600-1679823000@njmasters.com
SUMMARY:Group Run
DESCRIPTION:
URL:https://njmasters.com/event/group-run-28/
LOCATION:Glen Rock Duck Pond\, 658 County Rte S79\, Glen Rock\, NJ\, 07452\, United States
CATEGORIES:Group Run
END:VEVENT
END:VCALENDAR