BEGIN:VCALENDAR
VERSION:2.0
PRODID:-//North Jersey Masters Running Club - ECPv6.15.18//NONSGML v1.0//EN
CALSCALE:GREGORIAN
METHOD:PUBLISH
X-WR-CALNAME:North Jersey Masters Running Club
X-ORIGINAL-URL:https://njmasters.com
X-WR-CALDESC:Events for North Jersey Masters Running Club
REFRESH-INTERVAL;VALUE=DURATION:PT1H
X-Robots-Tag:noindex
X-PUBLISHED-TTL:PT1H
BEGIN:VTIMEZONE
TZID:UTC
BEGIN:STANDARD
TZOFFSETFROM:+0000
TZOFFSETTO:+0000
TZNAME:UTC
DTSTART:20230101T000000
END:STANDARD
END:VTIMEZONE
BEGIN:VEVENT
DTSTART;TZID=UTC:20240701T090000
DTEND;TZID=UTC:20240701T103000
DTSTAMP:20260419T094656
CREATED:20240605T174301Z
LAST-MODIFIED:20240626T184203Z
UID:10001141-1719824400-1719829800@njmasters.com
SUMMARY:Group Run
DESCRIPTION:Ridgewood Duck pond
URL:https://njmasters.com/event/group-run-160/
LOCATION:Ridgewood Duck Pond\, 1133 E. Ridgewood Ave\, Ridgewood\, NJ\, 07450
CATEGORIES:Group Run
END:VEVENT
BEGIN:VEVENT
DTSTART;TZID=UTC:20240703T090000
DTEND;TZID=UTC:20240703T103000
DTSTAMP:20260419T094656
CREATED:20240605T174357Z
LAST-MODIFIED:20240626T184129Z
UID:10001142-1719997200-1720002600@njmasters.com
SUMMARY:Group Run
DESCRIPTION:Ridgewood Duck pond
URL:https://njmasters.com/event/group-run-161/
LOCATION:Ridgewood Duck Pond\, 1133 E. Ridgewood Ave\, Ridgewood\, NJ\, 07450
CATEGORIES:Group Run
END:VEVENT
BEGIN:VEVENT
DTSTART;TZID=UTC:20240706T080000
DTEND;TZID=UTC:20240706T100000
DTSTAMP:20260419T094656
CREATED:20240605T175714Z
LAST-MODIFIED:20240605T175714Z
UID:10001152-1720252800-1720260000@njmasters.com
SUMMARY:Group Run
DESCRIPTION:Glen Rock Duck pond
URL:https://njmasters.com/event/group-run-171/
LOCATION:Glen Rock Duck Pond\, 658 County Rte S79\, Glen Rock\, NJ\, 07452\, United States
CATEGORIES:Group Run
END:VEVENT
BEGIN:VEVENT
DTSTART;TZID=UTC:20240707T073000
DTEND;TZID=UTC:20240707T103000
DTSTAMP:20260419T094656
CREATED:20240605T180324Z
LAST-MODIFIED:20240605T180324Z
UID:10001157-1720337400-1720348200@njmasters.com
SUMMARY:Group Run
DESCRIPTION:Glen Rock Duck pond
URL:https://njmasters.com/event/group-run-176/
LOCATION:Glen Rock Duck pond
CATEGORIES:Group Run
END:VEVENT
BEGIN:VEVENT
DTSTART;TZID=UTC:20240708T090000
DTEND;TZID=UTC:20240708T103000
DTSTAMP:20260419T094656
CREATED:20240605T174437Z
LAST-MODIFIED:20240626T184435Z
UID:10001143-1720429200-1720434600@njmasters.com
SUMMARY:Group Run
DESCRIPTION:Ridgewood Duck pond
URL:https://njmasters.com/event/group-run-162/
LOCATION:Ridgewood Duck Pond\, 1133 E. Ridgewood Ave\, Ridgewood\, NJ\, 07450
CATEGORIES:Group Run
END:VEVENT
BEGIN:VEVENT
DTSTART;TZID=UTC:20240710T090000
DTEND;TZID=UTC:20240710T103000
DTSTAMP:20260419T094656
CREATED:20240605T174516Z
LAST-MODIFIED:20240626T184344Z
UID:10001144-1720602000-1720607400@njmasters.com
SUMMARY:Group Run
DESCRIPTION:Ridgewood Duck pond
URL:https://njmasters.com/event/group-run-163/
LOCATION:Ridgewood Duck Pond\, 1133 E. Ridgewood Ave\, Ridgewood\, NJ\, 07450
CATEGORIES:Group Run
END:VEVENT
BEGIN:VEVENT
DTSTART;TZID=UTC:20240713T080000
DTEND;TZID=UTC:20240713T100000
DTSTAMP:20260419T094656
CREATED:20240605T175751Z
LAST-MODIFIED:20240605T175751Z
UID:10001153-1720857600-1720864800@njmasters.com
SUMMARY:Group Run
DESCRIPTION:Glen Rock Duck pond
URL:https://njmasters.com/event/group-run-172/
LOCATION:Glen Rock Duck Pond\, 658 County Rte S79\, Glen Rock\, NJ\, 07452\, United States
CATEGORIES:Group Run
END:VEVENT
BEGIN:VEVENT
DTSTART;TZID=UTC:20240714T073000
DTEND;TZID=UTC:20240714T103000
DTSTAMP:20260419T094656
CREATED:20240605T180406Z
LAST-MODIFIED:20240605T180406Z
UID:10001158-1720942200-1720953000@njmasters.com
SUMMARY:Group Run
DESCRIPTION:Glen Rock Duck pond
URL:https://njmasters.com/event/group-run-177/
CATEGORIES:Group Run
END:VEVENT
BEGIN:VEVENT
DTSTART;TZID=UTC:20240715T090000
DTEND;TZID=UTC:20240715T103000
DTSTAMP:20260419T094656
CREATED:20240605T174549Z
LAST-MODIFIED:20240626T184513Z
UID:10001145-1721034000-1721039400@njmasters.com
SUMMARY:Group Run
DESCRIPTION:Ridgewood Duck pond
URL:https://njmasters.com/event/group-run-164/
LOCATION:Ridgewood Duck Pond\, 1133 E. Ridgewood Ave\, Ridgewood\, NJ\, 07450
CATEGORIES:Group Run
END:VEVENT
BEGIN:VEVENT
DTSTART;TZID=UTC:20240717T090000
DTEND;TZID=UTC:20240717T103000
DTSTAMP:20260419T094656
CREATED:20240605T174644Z
LAST-MODIFIED:20240626T184532Z
UID:10001146-1721206800-1721212200@njmasters.com
SUMMARY:Group Run
DESCRIPTION:Ridgewood Duck pond
URL:https://njmasters.com/event/group-run-165/
LOCATION:Ridgewood Duck Pond\, 1133 E. Ridgewood Ave\, Ridgewood\, NJ\, 07450
CATEGORIES:Group Run
END:VEVENT
BEGIN:VEVENT
DTSTART;TZID=UTC:20240720T080000
DTEND;TZID=UTC:20240720T100000
DTSTAMP:20260419T094656
CREATED:20240605T175855Z
LAST-MODIFIED:20240605T175855Z
UID:10001155-1721462400-1721469600@njmasters.com
SUMMARY:Group Run
DESCRIPTION:Glen Rock Duck pond
URL:https://njmasters.com/event/group-run-174/
CATEGORIES:Group Run
END:VEVENT
BEGIN:VEVENT
DTSTART;TZID=UTC:20240721T073000
DTEND;TZID=UTC:20240721T103000
DTSTAMP:20260419T094656
CREATED:20240605T174723Z
LAST-MODIFIED:20240605T180247Z
UID:10001147-1721547000-1721557800@njmasters.com
SUMMARY:Group Run
DESCRIPTION:Glen Rock Duck pond
URL:https://njmasters.com/event/group-run-166/
LOCATION:Glen Rock Duck Pond\, 658 County Rte S79\, Glen Rock\, NJ\, 07452\, United States
CATEGORIES:Group Run
END:VEVENT
BEGIN:VEVENT
DTSTART;TZID=UTC:20240722T090000
DTEND;TZID=UTC:20240722T103000
DTSTAMP:20260419T094656
CREATED:20240605T174803Z
LAST-MODIFIED:20240626T184559Z
UID:10001148-1721638800-1721644200@njmasters.com
SUMMARY:Group Run
DESCRIPTION:Ridgewood Duck pond
URL:https://njmasters.com/event/group-run-167/
LOCATION:Ridgewood Duck Pond\, 1133 E. Ridgewood Ave\, Ridgewood\, NJ\, 07450
CATEGORIES:Group Run
END:VEVENT
BEGIN:VEVENT
DTSTART;TZID=UTC:20240724T090000
DTEND;TZID=UTC:20240724T103000
DTSTAMP:20260419T094656
CREATED:20240605T175047Z
LAST-MODIFIED:20240626T184651Z
UID:10001151-1721811600-1721817000@njmasters.com
SUMMARY:Group Run
DESCRIPTION:Ridgewood Duck pond
URL:https://njmasters.com/event/group-run-170/
LOCATION:Ridgewood Duck Pond\, 1133 E. Ridgewood Ave\, Ridgewood\, NJ\, 07450
CATEGORIES:Group Run
END:VEVENT
BEGIN:VEVENT
DTSTART;TZID=UTC:20240727T080000
DTEND;TZID=UTC:20240727T100000
DTSTAMP:20260419T094656
CREATED:20240605T175933Z
LAST-MODIFIED:20240605T175933Z
UID:10001156-1722067200-1722074400@njmasters.com
SUMMARY:Group Run
DESCRIPTION:Glen Rock Duck pond
URL:https://njmasters.com/event/group-run-175/
CATEGORIES:Group Run
END:VEVENT
BEGIN:VEVENT
DTSTART;TZID=UTC:20240728T073000
DTEND;TZID=UTC:20240728T093000
DTSTAMP:20260419T094656
CREATED:20240605T175822Z
LAST-MODIFIED:20240605T180120Z
UID:10001154-1722151800-1722159000@njmasters.com
SUMMARY:Group Run
DESCRIPTION:Glen Rock Duck pond
URL:https://njmasters.com/event/group-run-173/
LOCATION:Glen Rock Duck Pond\, 658 County Rte S79\, Glen Rock\, NJ\, 07452\, United States
CATEGORIES:Group Run
END:VEVENT
BEGIN:VEVENT
DTSTART;TZID=UTC:20240729T090000
DTEND;TZID=UTC:20240729T103000
DTSTAMP:20260419T094656
CREATED:20240605T174844Z
LAST-MODIFIED:20240626T184729Z
UID:10001149-1722243600-1722249000@njmasters.com
SUMMARY:Group Run
DESCRIPTION:Ridgewood Duck pond
URL:https://njmasters.com/event/group-run-168/
LOCATION:Ridgewood Duck Pond\, 1133 E. Ridgewood Ave\, Ridgewood\, NJ\, 07450
CATEGORIES:Group Run
END:VEVENT
BEGIN:VEVENT
DTSTART;TZID=UTC:20240731T090000
DTEND;TZID=UTC:20240731T103000
DTSTAMP:20260419T094656
CREATED:20240605T174914Z
LAST-MODIFIED:20240626T184802Z
UID:10001150-1722416400-1722421800@njmasters.com
SUMMARY:Group Run
DESCRIPTION:Ridgewood Duck pond
URL:https://njmasters.com/event/group-run-169/
LOCATION:Ridgewood Duck Pond\, 1133 E. Ridgewood Ave\, Ridgewood\, NJ\, 07450
CATEGORIES:Group Run
END:VEVENT
END:VCALENDAR