BEGIN:VCALENDAR
VERSION:2.0
PRODID:-//North Jersey Masters Running Club - ECPv6.15.18//NONSGML v1.0//EN
CALSCALE:GREGORIAN
METHOD:PUBLISH
X-WR-CALNAME:North Jersey Masters Running Club
X-ORIGINAL-URL:https://njmasters.com
X-WR-CALDESC:Events for North Jersey Masters Running Club
REFRESH-INTERVAL;VALUE=DURATION:PT1H
X-Robots-Tag:noindex
X-PUBLISHED-TTL:PT1H
BEGIN:VTIMEZONE
TZID:UTC
BEGIN:STANDARD
TZOFFSETFROM:+0000
TZOFFSETTO:+0000
TZNAME:UTC
DTSTART:20230101T000000
END:STANDARD
END:VTIMEZONE
BEGIN:VEVENT
DTSTART;TZID=UTC:20240803T080000
DTEND;TZID=UTC:20240803T100000
DTSTAMP:20260419T081533
CREATED:20240605T181021Z
LAST-MODIFIED:20240605T181021Z
UID:10001162-1722672000-1722679200@njmasters.com
SUMMARY:Group Run
DESCRIPTION:Glen Rock Duck pond
URL:https://njmasters.com/event/group-run-181/
CATEGORIES:Group Run
END:VEVENT
BEGIN:VEVENT
DTSTART;TZID=UTC:20240804T073000
DTEND;TZID=UTC:20240804T093000
DTSTAMP:20260419T081533
CREATED:20240605T180713Z
LAST-MODIFIED:20240605T180713Z
UID:10001161-1722756600-1722763800@njmasters.com
SUMMARY:Group Run
DESCRIPTION:Glen Rock Duck pond
URL:https://njmasters.com/event/group-run-180/
CATEGORIES:Group Run
END:VEVENT
BEGIN:VEVENT
DTSTART;TZID=UTC:20240805T090000
DTEND;TZID=UTC:20240805T103000
DTSTAMP:20260419T081533
CREATED:20240605T180630Z
LAST-MODIFIED:20240626T184908Z
UID:10001160-1722848400-1722853800@njmasters.com
SUMMARY:Group Run
DESCRIPTION:Ridgewood Duck pond
URL:https://njmasters.com/event/group-run-179/
LOCATION:Ridgewood Duck Pond\, 1133 E. Ridgewood Ave\, Ridgewood\, NJ\, 07450
CATEGORIES:Group Run
END:VEVENT
BEGIN:VEVENT
DTSTART;TZID=UTC:20240807T090000
DTEND;TZID=UTC:20240807T103000
DTSTAMP:20260419T081533
CREATED:20240605T181925Z
LAST-MODIFIED:20240626T184939Z
UID:10001169-1723021200-1723026600@njmasters.com
SUMMARY:Group Run
DESCRIPTION:Ridgewood Duck pond
URL:https://njmasters.com/event/group-run-187/
LOCATION:Ridgewood Duck Pond\, 1133 E. Ridgewood Ave\, Ridgewood\, NJ\, 07450
CATEGORIES:Group Run
END:VEVENT
BEGIN:VEVENT
DTSTART;TZID=UTC:20240810T080000
DTEND;TZID=UTC:20240810T100000
DTSTAMP:20260419T081533
CREATED:20240605T181241Z
LAST-MODIFIED:20240605T181338Z
UID:10001163-1723276800-1723284000@njmasters.com
SUMMARY:Group Run
DESCRIPTION:Glen Rock Duck pond
URL:https://njmasters.com/event/group-run-182/
CATEGORIES:Group Run
END:VEVENT
BEGIN:VEVENT
DTSTART;TZID=UTC:20240811T073000
DTEND;TZID=UTC:20240811T093000
DTSTAMP:20260419T081533
CREATED:20240605T180527Z
LAST-MODIFIED:20240605T180842Z
UID:10001159-1723361400-1723368600@njmasters.com
SUMMARY:group Run
DESCRIPTION:Glen Rock Duck pond
URL:https://njmasters.com/event/group-run-178/
CATEGORIES:Group Run
END:VEVENT
BEGIN:VEVENT
DTSTART;TZID=UTC:20240812T090000
DTEND;TZID=UTC:20240812T103000
DTSTAMP:20260419T081533
CREATED:20240605T182015Z
LAST-MODIFIED:20240626T185012Z
UID:10001170-1723453200-1723458600@njmasters.com
SUMMARY:Group Run
DESCRIPTION:Ridgewood Duck pond
URL:https://njmasters.com/event/group-run-188/
LOCATION:Ridgewood Duck Pond\, 1133 E. Ridgewood Ave\, Ridgewood\, NJ\, 07450
CATEGORIES:Group Run
END:VEVENT
BEGIN:VEVENT
DTSTART;TZID=UTC:20240814T090000
DTEND;TZID=UTC:20240814T103000
DTSTAMP:20260419T081533
CREATED:20240605T182051Z
LAST-MODIFIED:20240626T185032Z
UID:10001171-1723626000-1723631400@njmasters.com
SUMMARY:Group Run
DESCRIPTION:Ridgewood Duck pond
URL:https://njmasters.com/event/group-run-189/
LOCATION:Ridgewood Duck Pond\, 1133 E. Ridgewood Ave\, Ridgewood\, NJ\, 07450
CATEGORIES:Group Run
END:VEVENT
BEGIN:VEVENT
DTSTART;TZID=UTC:20240817T080000
DTEND;TZID=UTC:20240817T100000
DTSTAMP:20260419T081533
CREATED:20240605T181525Z
LAST-MODIFIED:20240605T181525Z
UID:10001166-1723881600-1723888800@njmasters.com
SUMMARY:Group Run
DESCRIPTION:Glen Rock Duck pond
URL:https://njmasters.com/event/group-run-185/
CATEGORIES:Group Run
END:VEVENT
BEGIN:VEVENT
DTSTART;TZID=UTC:20240818T073000
DTEND;TZID=UTC:20240818T093000
DTSTAMP:20260419T081533
CREATED:20240605T181734Z
LAST-MODIFIED:20240605T181745Z
UID:10001168-1723966200-1723973400@njmasters.com
SUMMARY:Group Run
DESCRIPTION:Glen Rock Duck pond
URL:https://njmasters.com/event/grou-run/
CATEGORIES:Group Run
END:VEVENT
BEGIN:VEVENT
DTSTART;TZID=UTC:20240819T090000
DTEND;TZID=UTC:20240819T103000
DTSTAMP:20260419T081533
CREATED:20240605T182313Z
LAST-MODIFIED:20240626T185100Z
UID:10001174-1724058000-1724063400@njmasters.com
SUMMARY:Group Run
DESCRIPTION:Ridgewood Duck pond
URL:https://njmasters.com/event/group-rtun/
LOCATION:Ridgewood Duck Pond\, 1133 E. Ridgewood Ave\, Ridgewood\, NJ\, 07450
CATEGORIES:Group Run
END:VEVENT
BEGIN:VEVENT
DTSTART;TZID=UTC:20240821T090000
DTEND;TZID=UTC:20240821T103000
DTSTAMP:20260419T081533
CREATED:20240605T182135Z
LAST-MODIFIED:20240626T185122Z
UID:10001172-1724230800-1724236200@njmasters.com
SUMMARY:Group Run
DESCRIPTION:Ridgewood Duck pond
URL:https://njmasters.com/event/group-run-190/
LOCATION:Ridgewood Duck Pond\, 1133 E. Ridgewood Ave\, Ridgewood\, NJ\, 07450
CATEGORIES:Group Run
END:VEVENT
BEGIN:VEVENT
DTSTART;TZID=UTC:20240824T080000
DTEND;TZID=UTC:20240824T100000
DTSTAMP:20260419T081533
CREATED:20240605T181452Z
LAST-MODIFIED:20240605T181452Z
UID:10001165-1724486400-1724493600@njmasters.com
SUMMARY:Group Run
DESCRIPTION:Glen Rock Duck pond
URL:https://njmasters.com/event/group-run-184/
CATEGORIES:Group Run
END:VEVENT
BEGIN:VEVENT
DTSTART;TZID=UTC:20240825T073000
DTEND;TZID=UTC:20240825T093000
DTSTAMP:20260419T081533
CREATED:20240605T181655Z
LAST-MODIFIED:20240605T181655Z
UID:10001167-1724571000-1724578200@njmasters.com
SUMMARY:Group Run
DESCRIPTION:Glen Rock Duck pond
URL:https://njmasters.com/event/group-run-186/
CATEGORIES:Group Run
END:VEVENT
BEGIN:VEVENT
DTSTART;TZID=UTC:20240826T090000
DTEND;TZID=UTC:20240826T103000
DTSTAMP:20260419T081533
CREATED:20240605T182359Z
LAST-MODIFIED:20240626T185151Z
UID:10001175-1724662800-1724668200@njmasters.com
SUMMARY:Group Run
DESCRIPTION:Ridgewood Duck pond
URL:https://njmasters.com/event/group-run-192/
CATEGORIES:Group Run
END:VEVENT
BEGIN:VEVENT
DTSTART;TZID=UTC:20240828T090000
DTEND;TZID=UTC:20240828T103000
DTSTAMP:20260419T081533
CREATED:20240605T182210Z
LAST-MODIFIED:20240626T185212Z
UID:10001173-1724835600-1724841000@njmasters.com
SUMMARY:Group Run
DESCRIPTION:Ridgewood Duck pond
URL:https://njmasters.com/event/group-run-191/
LOCATION:Ridgewood Duck Pond\, 1133 E. Ridgewood Ave\, Ridgewood\, NJ\, 07450
CATEGORIES:Group Run
END:VEVENT
BEGIN:VEVENT
DTSTART;TZID=UTC:20240831T080000
DTEND;TZID=UTC:20240831T100000
DTSTAMP:20260419T081533
CREATED:20240605T181419Z
LAST-MODIFIED:20240605T181419Z
UID:10001164-1725091200-1725098400@njmasters.com
SUMMARY:Group Run
DESCRIPTION:Glen Rock Duck pond
URL:https://njmasters.com/event/group-run-183/
CATEGORIES:Group Run
END:VEVENT
END:VCALENDAR