BEGIN:VCALENDAR
VERSION:2.0
PRODID:-//North Jersey Masters Running Club - ECPv6.15.18//NONSGML v1.0//EN
CALSCALE:GREGORIAN
METHOD:PUBLISH
X-ORIGINAL-URL:https://njmasters.com
X-WR-CALDESC:Events for North Jersey Masters Running Club
REFRESH-INTERVAL;VALUE=DURATION:PT1H
X-Robots-Tag:noindex
X-PUBLISHED-TTL:PT1H
BEGIN:VTIMEZONE
TZID:UTC
BEGIN:STANDARD
TZOFFSETFROM:+0000
TZOFFSETTO:+0000
TZNAME:UTC
DTSTART:20220101T000000
END:STANDARD
END:VTIMEZONE
BEGIN:VEVENT
DTSTART;TZID=UTC:20230212T080000
DTEND;TZID=UTC:20230212T090000
DTSTAMP:20260420T023423
CREATED:20230123T075506Z
LAST-MODIFIED:20230123T075521Z
UID:10000801-1676188800-1676192400@njmasters.com
SUMMARY:DESTINATION RUN AT ROSS DOCK
DESCRIPTION:www.njpalisades.org/rossdock.html
URL:https://njmasters.com/event/destination-run-at-ross-dock/
LOCATION:Ross Dock Picnic Area\, Visitor Center\, Fort Lee\, NJ\, 07024
CATEGORIES:Group Run
END:VEVENT
END:VCALENDAR