BEGIN:VCALENDAR
VERSION:2.0
PRODID:-//North Jersey Masters Running Club - ECPv6.15.18//NONSGML v1.0//EN
CALSCALE:GREGORIAN
METHOD:PUBLISH
X-ORIGINAL-URL:https://njmasters.com
X-WR-CALDESC:Events for North Jersey Masters Running Club
REFRESH-INTERVAL;VALUE=DURATION:PT1H
X-Robots-Tag:noindex
X-PUBLISHED-TTL:PT1H
BEGIN:VTIMEZONE
TZID:UTC
BEGIN:STANDARD
TZOFFSETFROM:+0000
TZOFFSETTO:+0000
TZNAME:UTC
DTSTART:20230101T000000
END:STANDARD
END:VTIMEZONE
BEGIN:VEVENT
DTSTART;TZID=UTC:20240922T073000
DTEND;TZID=UTC:20240922T103000
DTSTAMP:20260419T081854
CREATED:20240909T204050Z
LAST-MODIFIED:20240927T233625Z
UID:10001210-1726990200-1727001000@njmasters.com
SUMMARY:Group Run
DESCRIPTION:Glen Rock Duck Pond \n  \nLong run 4 to 14 miles – Glen Rock Duck Pond – 2nd parking lot.
URL:https://njmasters.com/event/group-run-205/
CATEGORIES:Group Run
END:VEVENT
BEGIN:VEVENT
DTSTART;TZID=UTC:20240922T073000
DTEND;TZID=UTC:20240922T103000
DTSTAMP:20260419T081854
CREATED:20240923T003639Z
LAST-MODIFIED:20240923T003639Z
UID:10001216-1726990200-1727001000@njmasters.com
SUMMARY:
DESCRIPTION:Glen Rock Duck Pond \nLong run 4 to 14 miles – Glen Rock Duck Pond – 2nd parking lot.
URL:https://njmasters.com/event/61246/
CATEGORIES:Group Run
END:VEVENT
END:VCALENDAR