BEGIN:VCALENDAR
VERSION:2.0
PRODID:-//North Jersey Masters Running Club - ECPv6.15.18//NONSGML v1.0//EN
CALSCALE:GREGORIAN
METHOD:PUBLISH
X-WR-CALNAME:North Jersey Masters Running Club
X-ORIGINAL-URL:https://njmasters.com
X-WR-CALDESC:Events for North Jersey Masters Running Club
REFRESH-INTERVAL;VALUE=DURATION:PT1H
X-Robots-Tag:noindex
X-PUBLISHED-TTL:PT1H
BEGIN:VTIMEZONE
TZID:UTC
BEGIN:STANDARD
TZOFFSETFROM:+0000
TZOFFSETTO:+0000
TZNAME:UTC
DTSTART:20230101T000000
END:STANDARD
END:VTIMEZONE
BEGIN:VEVENT
DTSTART;TZID=UTC:20241102T080000
DTEND;TZID=UTC:20241102T103000
DTSTAMP:20260419T173639
CREATED:20241029T183333Z
LAST-MODIFIED:20241029T190522Z
UID:10001245-1730534400-1730543400@njmasters.com
SUMMARY:Group Run
DESCRIPTION:@Glen Rock Duck Pond \n  \n**Meet in the second parking area by the pavilion.** There will be several pace groups and a range of abilities within each.
URL:https://njmasters.com/event/group-run-228/
LOCATION:Glen Rock Duck pond
CATEGORIES:Group Run
ATTACH;FMTTYPE=image/jpeg:https://njmasters.com/wp-content/uploads/2016/04/Summer-2022-Group-Run.jpg
END:VEVENT
BEGIN:VEVENT
DTSTART;TZID=UTC:20241103T070000
DTEND;TZID=UTC:20241103T170000
DTSTAMP:20260419T173639
CREATED:20240923T013512Z
LAST-MODIFIED:20240923T013512Z
UID:10001220-1730617200-1730653200@njmasters.com
SUMMARY:NY CITY MARATHON
DESCRIPTION:Marathon Day!!\nNovember 3rd\, 2024
URL:https://njmasters.com/event/ny-city-marathon/
LOCATION:NY City Staten Island
CATEGORIES:Races
END:VEVENT
BEGIN:VEVENT
DTSTART;TZID=UTC:20241103T080000
DTEND;TZID=UTC:20241103T110000
DTSTAMP:20260419T173639
CREATED:20241029T183720Z
LAST-MODIFIED:20241029T190203Z
UID:10001246-1730620800-1730631600@njmasters.com
SUMMARY:Group Run
DESCRIPTION:@Glen Rock Duck Pond \nRemember to Turn your clocks back for today’s Fall Scheduled time. \n  \n**Meet in the second parking area by the pavilion.** There will be several pace groups and a range of abilities within each.
URL:https://njmasters.com/event/group-run-229/
LOCATION:Glen Rock Duck pond
CATEGORIES:Group Run
ATTACH;FMTTYPE=image/jpeg:https://njmasters.com/wp-content/uploads/2016/04/Summer-2022-Group-Run.jpg
END:VEVENT
BEGIN:VEVENT
DTSTART;TZID=UTC:20241103T083000
DTEND;TZID=UTC:20241103T100000
DTSTAMP:20260419T173639
CREATED:20241022T044253Z
LAST-MODIFIED:20241022T044504Z
UID:10001244-1730622600-1730628000@njmasters.com
SUMMARY:9th Annual Hero 5K Run/Walk
DESCRIPTION:Support the Veterans as you run on this scenic route through campus.
URL:https://njmasters.com/event/9th-annual-hero-5k-run-walk/
LOCATION:NJ
CATEGORIES:Races
END:VEVENT
BEGIN:VEVENT
DTSTART;TZID=UTC:20241104T090000
DTEND;TZID=UTC:20241104T103000
DTSTAMP:20260419T173639
CREATED:20241029T191253Z
LAST-MODIFIED:20241029T191253Z
UID:10001254-1730710800-1730716200@njmasters.com
SUMMARY:Group Run
DESCRIPTION:Meet at the Ridgewood Duck Pond in the last parking lot closest to the path.
URL:https://njmasters.com/event/group-run-237/
LOCATION:NJ
CATEGORIES:Group Run
ATTACH;FMTTYPE=image/jpeg:https://njmasters.com/wp-content/uploads/2016/04/Summer-2022-Group-Run.jpg
END:VEVENT
BEGIN:VEVENT
DTSTART;TZID=UTC:20241105T180000
DTEND;TZID=UTC:20241105T193000
DTSTAMP:20260419T173639
CREATED:20241007T004403Z
LAST-MODIFIED:20241105T011226Z
UID:10001236-1730829600-1730835000@njmasters.com
SUMMARY:Tuesday Track Workout
DESCRIPTION:With Coach Paul K:\n15-20 min warm up.\n4 x 100m strides. \n6-10 x 400m at 5k pace with 50-75% of your interval time as recovery.\n2 min 400 means jog/walk for 60-90 seconds. Etc. \nCool down 1 mile or 10 mins.
URL:https://njmasters.com/event/tuesday-track-workout-30/
LOCATION:Ben Franklin Middle School\, 335 N Van Dien Ave\, Ridgewood\, NJ\, 07450\, United States
CATEGORIES:Workouts
ATTACH;FMTTYPE=image/jpeg:https://njmasters.com/wp-content/uploads/2022/03/55826962_3139472089412181_1185756619779080192_n.jpeg
END:VEVENT
BEGIN:VEVENT
DTSTART;TZID=UTC:20241106T090000
DTEND;TZID=UTC:20241106T093000
DTSTAMP:20260419T173639
CREATED:20241029T191339Z
LAST-MODIFIED:20241029T191339Z
UID:10001255-1730883600-1730885400@njmasters.com
SUMMARY:Group Run
DESCRIPTION:Meet at the Ridgewood Duck Pond in the last parking lot closest to the path.
URL:https://njmasters.com/event/group-run-238/
LOCATION:NJ
CATEGORIES:Group Run
ATTACH;FMTTYPE=image/jpeg:https://njmasters.com/wp-content/uploads/2016/04/Summer-2022-Group-Run.jpg
END:VEVENT
BEGIN:VEVENT
DTSTART;TZID=UTC:20241109T080000
DTEND;TZID=UTC:20241109T103000
DTSTAMP:20260419T173639
CREATED:20241029T184018Z
LAST-MODIFIED:20241029T190038Z
UID:10001247-1731139200-1731148200@njmasters.com
SUMMARY:Group Run
DESCRIPTION:@Glen Rock Duck Pond \n  \n**Meet in the second parking area by the pavilion.** There will be several pace groups and a range of abilities within each.
URL:https://njmasters.com/event/group-run-230/
LOCATION:NJ
CATEGORIES:Group Run
ATTACH;FMTTYPE=image/jpeg:https://njmasters.com/wp-content/uploads/2016/04/Summer-2022-Group-Run.jpg
END:VEVENT
BEGIN:VEVENT
DTSTART;VALUE=DATE:20241110
DTEND;VALUE=DATE:20241111
DTSTAMP:20260419T173639
CREATED:20240113T191723Z
LAST-MODIFIED:20240113T191737Z
UID:10001044-1731196800-1731283199@njmasters.com
SUMMARY:GIRALDA FARMS 10K MASTERS MEN
DESCRIPTION:
URL:https://njmasters.com/event/giralda-farms-10k-masters-men/
LOCATION:NJ
END:VEVENT
BEGIN:VEVENT
DTSTART;TZID=UTC:20241110T080000
DTEND;TZID=UTC:20241110T110000
DTSTAMP:20260419T173639
CREATED:20241029T184119Z
LAST-MODIFIED:20241029T190554Z
UID:10001248-1731225600-1731236400@njmasters.com
SUMMARY:Group Run
DESCRIPTION:@Glen Rock Duck Pond \n  \n**Meet in the second parking area by the pavilion.** There will be several pace groups and a range of abilities within each.
URL:https://njmasters.com/event/group-run-231/
LOCATION:NJ
CATEGORIES:Group Run
ATTACH;FMTTYPE=image/jpeg:https://njmasters.com/wp-content/uploads/2016/04/Summer-2022-Group-Run.jpg
END:VEVENT
BEGIN:VEVENT
DTSTART;TZID=UTC:20241111T090000
DTEND;TZID=UTC:20241111T103000
DTSTAMP:20260419T173639
CREATED:20241029T191437Z
LAST-MODIFIED:20241029T191437Z
UID:10001256-1731315600-1731321000@njmasters.com
SUMMARY:Group Run
DESCRIPTION:Meet at the Ridgewood Duck Pond in the last parking lot closest to the path.
URL:https://njmasters.com/event/group-run-239/
LOCATION:NJ
CATEGORIES:Group Run
ATTACH;FMTTYPE=image/jpeg:https://njmasters.com/wp-content/uploads/2016/04/Summer-2022-Group-Run.jpg
END:VEVENT
BEGIN:VEVENT
DTSTART;TZID=UTC:20241112T180000
DTEND;TZID=UTC:20241112T193000
DTSTAMP:20260419T173639
CREATED:20241012T001847Z
LAST-MODIFIED:20241029T192047Z
UID:10001237-1731434400-1731439800@njmasters.com
SUMMARY:Tuesday Track Workout
DESCRIPTION:Come join us for the LAST TRACK WORKOUT OF THE SEASON. \nBring a head lamp to assist with visibility. \nWith Coach Joel:
URL:https://njmasters.com/event/tuesday-track-workout-31/
LOCATION:Ben Franklin Middle School\, 335 N Van Dien Ave\, Ridgewood\, NJ\, 07450\, United States
CATEGORIES:Workouts
ATTACH;FMTTYPE=image/jpeg:https://njmasters.com/wp-content/uploads/2022/03/55826962_3139472089412181_1185756619779080192_n.jpeg
END:VEVENT
BEGIN:VEVENT
DTSTART;TZID=UTC:20241113T090000
DTEND;TZID=UTC:20241113T103000
DTSTAMP:20260419T173639
CREATED:20241029T191517Z
LAST-MODIFIED:20241029T191517Z
UID:10001257-1731488400-1731493800@njmasters.com
SUMMARY:Group Run
DESCRIPTION:Meet at the Ridgewood Duck Pond in the last parking lot closest to the path.
URL:https://njmasters.com/event/group-run-240/
LOCATION:NJ
CATEGORIES:Group Run
ATTACH;FMTTYPE=image/jpeg:https://njmasters.com/wp-content/uploads/2016/04/Summer-2022-Group-Run.jpg
END:VEVENT
BEGIN:VEVENT
DTSTART;TZID=UTC:20241116T080000
DTEND;TZID=UTC:20241116T103000
DTSTAMP:20260419T173639
CREATED:20241029T184517Z
LAST-MODIFIED:20241029T184710Z
UID:10001250-1731744000-1731753000@njmasters.com
SUMMARY:Group Run
DESCRIPTION:@Glen Rock Duck Pond \n  \n**Meet in the second parking area by the pavilion.** There will be several pace groups and a range of abilities within each.
URL:https://njmasters.com/event/group-run-233/
LOCATION:Glen Rock Duck pond
CATEGORIES:Group Run
ATTACH;FMTTYPE=image/jpeg:https://njmasters.com/wp-content/uploads/2016/04/Summer-2022-Group-Run.jpg
END:VEVENT
BEGIN:VEVENT
DTSTART;VALUE=DATE:20241117
DTEND;VALUE=DATE:20241118
DTSTAMP:20260419T173639
CREATED:20240113T191821Z
LAST-MODIFIED:20240113T191821Z
UID:10001045-1731801600-1731887999@njmasters.com
SUMMARY:GARDEN STATE 8K XC ALL DIVISIONS
DESCRIPTION:
URL:https://njmasters.com/event/garden-state-8k-xc-all-divisions/
LOCATION:NJ
END:VEVENT
BEGIN:VEVENT
DTSTART;TZID=UTC:20241117T080000
DTEND;TZID=UTC:20241117T110000
DTSTAMP:20260419T173639
CREATED:20241029T184300Z
LAST-MODIFIED:20241029T184323Z
UID:10001249-1731830400-1731841200@njmasters.com
SUMMARY:Group Run
DESCRIPTION:  \n@Glen Rock Duck Pond \n**Meet in the second parking area by the pavilion.** There will be several pace groups and a range of abilities within each.
URL:https://njmasters.com/event/group-run-232/
LOCATION:Glen Rock Duck pond
CATEGORIES:Group Run
END:VEVENT
BEGIN:VEVENT
DTSTART;TZID=UTC:20241118T093000
DTEND;TZID=UTC:20241118T110000
DTSTAMP:20260419T173639
CREATED:20241029T191610Z
LAST-MODIFIED:20241113T211932Z
UID:10001258-1731922200-1731927600@njmasters.com
SUMMARY:Group Run
DESCRIPTION:Meet at the Ridgewood Duck Pond in the last parking lot closest to the path.
URL:https://njmasters.com/event/group-run-241/
LOCATION:NJ
CATEGORIES:Group Run
ATTACH;FMTTYPE=image/jpeg:https://njmasters.com/wp-content/uploads/2016/04/Summer-2022-Group-Run.jpg
END:VEVENT
BEGIN:VEVENT
DTSTART;TZID=UTC:20241120T093000
DTEND;TZID=UTC:20241120T110000
DTSTAMP:20260419T173639
CREATED:20241029T191742Z
LAST-MODIFIED:20241113T211852Z
UID:10001260-1732095000-1732100400@njmasters.com
SUMMARY:Group Run
DESCRIPTION:Meet at the Ridgewood Duck Pond in the last parking lot closest to the path.
URL:https://njmasters.com/event/group-run-243/
LOCATION:NJ
CATEGORIES:Group Run
ATTACH;FMTTYPE=image/jpeg:https://njmasters.com/wp-content/uploads/2016/04/Summer-2022-Group-Run.jpg
END:VEVENT
BEGIN:VEVENT
DTSTART;TZID=UTC:20241123T080000
DTEND;TZID=UTC:20241123T100000
DTSTAMP:20260419T173639
CREATED:20241029T185307Z
LAST-MODIFIED:20241029T185307Z
UID:10001251-1732348800-1732356000@njmasters.com
SUMMARY:Group Run
DESCRIPTION:@Glen Rock Duck Pond \n**Meet in the second parking area by the pavilion.** There will be several pace groups and a range of abilities within each.
URL:https://njmasters.com/event/group-run-234/
LOCATION:Glen Rock Duck pond
CATEGORIES:Group Run
ATTACH;FMTTYPE=image/jpeg:https://njmasters.com/wp-content/uploads/2016/04/Summer-2022-Group-Run.jpg
END:VEVENT
BEGIN:VEVENT
DTSTART;TZID=UTC:20241124T080000
DTEND;TZID=UTC:20241124T103000
DTSTAMP:20260419T173639
CREATED:20241029T185446Z
LAST-MODIFIED:20241126T192340Z
UID:10001252-1732435200-1732444200@njmasters.com
SUMMARY:Group Run and Thanksgiving Food Drive
DESCRIPTION:@Glen Rock Duck Pond \n**Meet in the second parking area by the pavilion.** There will be several pace groups and a range of abilities within each.
URL:https://njmasters.com/event/group-run-235/
LOCATION:Glen Rock Duck pond
CATEGORIES:Group Run
ATTACH;FMTTYPE=image/jpeg:https://njmasters.com/wp-content/uploads/2016/04/Summer-2022-Group-Run.jpg
END:VEVENT
BEGIN:VEVENT
DTSTART;TZID=UTC:20241125T093000
DTEND;TZID=UTC:20241125T110000
DTSTAMP:20260419T173639
CREATED:20241029T191658Z
LAST-MODIFIED:20241113T211526Z
UID:10001259-1732527000-1732532400@njmasters.com
SUMMARY:Group Run
DESCRIPTION:Meet at the Ridgewood Duck Pond in the last parking lot closest to the path.
URL:https://njmasters.com/event/group-run-242/
LOCATION:NJ
CATEGORIES:Group Run
ATTACH;FMTTYPE=image/jpeg:https://njmasters.com/wp-content/uploads/2016/04/Summer-2022-Group-Run.jpg
END:VEVENT
BEGIN:VEVENT
DTSTART;TZID=UTC:20241127T093000
DTEND;TZID=UTC:20241127T110000
DTSTAMP:20260419T173639
CREATED:20241029T191832Z
LAST-MODIFIED:20241113T211815Z
UID:10001261-1732699800-1732705200@njmasters.com
SUMMARY:Group Run
DESCRIPTION:Meet at the Ridgewood Duck Pond in the last parking lot closest to the path.
URL:https://njmasters.com/event/group-run-244/
LOCATION:NJ
CATEGORIES:Group Run
ATTACH;FMTTYPE=image/jpeg:https://njmasters.com/wp-content/uploads/2016/04/Summer-2022-Group-Run.jpg
END:VEVENT
BEGIN:VEVENT
DTSTART;TZID=UTC:20241128T090000
DTEND;TZID=UTC:20241128T100000
DTSTAMP:20260419T173639
CREATED:20241030T041857Z
LAST-MODIFIED:20241115T034047Z
UID:10001262-1732784400-1732788000@njmasters.com
SUMMARY:Upper Saddle River 5k Run
DESCRIPTION:https://www.raceforum.com/event/347463/sign-up
URL:https://njmasters.com/event/upper-saddle-river-5k-run/
LOCATION:NJ
CATEGORIES:Races
END:VEVENT
BEGIN:VEVENT
DTSTART;TZID=UTC:20241128T090000
DTEND;TZID=UTC:20241128T100000
DTSTAMP:20260419T173639
CREATED:20241030T042210Z
LAST-MODIFIED:20241030T042210Z
UID:10001263-1732784400-1732788000@njmasters.com
SUMMARY:The Glen Rock Thanksgiving Day 5K Run
DESCRIPTION:
URL:https://njmasters.com/event/the-glen-rock-thanksgiving-day-5k-run/
LOCATION:Glen Rock
CATEGORIES:Races
END:VEVENT
BEGIN:VEVENT
DTSTART;TZID=UTC:20241128T090000
DTEND;TZID=UTC:20241128T110000
DTSTAMP:20260419T173639
CREATED:20240113T191539Z
LAST-MODIFIED:20241030T042811Z
UID:10001042-1732784400-1732791600@njmasters.com
SUMMARY:ASHENFELTER 8K ALL DIVISIONS CHAMPIONSHIP
DESCRIPTION:
URL:https://njmasters.com/event/ashenfelter-8k-all-divisions/
LOCATION:Glen Ridge
CATEGORIES:Races
END:VEVENT
BEGIN:VEVENT
DTSTART;TZID=UTC:20241130T080000
DTEND;TZID=UTC:20241130T100000
DTSTAMP:20260419T173639
CREATED:20241029T185655Z
LAST-MODIFIED:20241029T185754Z
UID:10001253-1732953600-1732960800@njmasters.com
SUMMARY:Group Run
DESCRIPTION:@Glen Rock Duck Pond \n**Meet in the second parking area by the pavilion.** There will be several pace groups and a range of abilities within each.
URL:https://njmasters.com/event/group-run-236/
LOCATION:Glen Rock Duck pond
CATEGORIES:Group Run
ATTACH;FMTTYPE=image/jpeg:https://njmasters.com/wp-content/uploads/2016/04/Summer-2022-Group-Run.jpg
END:VEVENT
END:VCALENDAR