BEGIN:VCALENDAR
VERSION:2.0
PRODID:-//North Jersey Masters Running Club - ECPv6.15.18//NONSGML v1.0//EN
CALSCALE:GREGORIAN
METHOD:PUBLISH
X-WR-CALNAME:North Jersey Masters Running Club
X-ORIGINAL-URL:https://njmasters.com
X-WR-CALDESC:Events for North Jersey Masters Running Club
REFRESH-INTERVAL;VALUE=DURATION:PT1H
X-Robots-Tag:noindex
X-PUBLISHED-TTL:PT1H
BEGIN:VTIMEZONE
TZID:UTC
BEGIN:STANDARD
TZOFFSETFROM:+0000
TZOFFSETTO:+0000
TZNAME:UTC
DTSTART:20240101T000000
END:STANDARD
END:VTIMEZONE
BEGIN:VTIMEZONE
TZID:America/New_York
BEGIN:DAYLIGHT
TZOFFSETFROM:-0500
TZOFFSETTO:-0400
TZNAME:EDT
DTSTART:20240310T070000
END:DAYLIGHT
BEGIN:STANDARD
TZOFFSETFROM:-0400
TZOFFSETTO:-0500
TZNAME:EST
DTSTART:20241103T060000
END:STANDARD
BEGIN:DAYLIGHT
TZOFFSETFROM:-0500
TZOFFSETTO:-0400
TZNAME:EDT
DTSTART:20250309T070000
END:DAYLIGHT
BEGIN:STANDARD
TZOFFSETFROM:-0400
TZOFFSETTO:-0500
TZNAME:EST
DTSTART:20251102T060000
END:STANDARD
BEGIN:DAYLIGHT
TZOFFSETFROM:-0500
TZOFFSETTO:-0400
TZNAME:EDT
DTSTART:20260308T070000
END:DAYLIGHT
BEGIN:STANDARD
TZOFFSETFROM:-0400
TZOFFSETTO:-0500
TZNAME:EST
DTSTART:20261101T060000
END:STANDARD
END:VTIMEZONE
BEGIN:VEVENT
DTSTART;TZID=UTC:20250301T080000
DTEND;TZID=UTC:20250301T100000
DTSTAMP:20260419T111324
CREATED:20250202T204930Z
LAST-MODIFIED:20250202T204930Z
UID:10001345-1740816000-1740823200@njmasters.com
SUMMARY:Group Run
DESCRIPTION:Glen Rock Duck Pond \n**Meet in the second parking area by the pavilion.** There will be several pace groups and a range of abilities within each.
URL:https://njmasters.com/event/group-run-296/
LOCATION:Glen Rock Duck pond
CATEGORIES:Group Run
ATTACH;FMTTYPE=image/jpeg:https://njmasters.com/wp-content/uploads/2016/04/Summer-2022-Group-Run.jpg
END:VEVENT
BEGIN:VEVENT
DTSTART;TZID=UTC:20250302T080000
DTEND;TZID=UTC:20250302T100000
DTSTAMP:20260419T111324
CREATED:20250202T205047Z
LAST-MODIFIED:20250202T205047Z
UID:10001346-1740902400-1740909600@njmasters.com
SUMMARY:Group Run
DESCRIPTION:Glen Rock Duck Pond \nLong Run 4 to 14 miles \n**Meet in the second parking area by the pavilion.** There will be several pace groups and a range of abilities within each.
URL:https://njmasters.com/event/group-run-297/
LOCATION:Glen Rock Duck pond
CATEGORIES:Group Run
ATTACH;FMTTYPE=image/jpeg:https://njmasters.com/wp-content/uploads/2016/04/Summer-2022-Group-Run.jpg
END:VEVENT
BEGIN:VEVENT
DTSTART;TZID=UTC:20250303T080000
DTEND;TZID=UTC:20250303T100000
DTSTAMP:20260419T111324
CREATED:20250202T205906Z
LAST-MODIFIED:20250202T205906Z
UID:10001355-1740988800-1740996000@njmasters.com
SUMMARY:Group Run
DESCRIPTION:Ridgewood Duck Pond \nMeet at the Ridgewood Duck Pond in the last parking lot closest to the path
URL:https://njmasters.com/event/group-run-306/
LOCATION:Ridgewood Duck Pond
CATEGORIES:Group Run
ATTACH;FMTTYPE=image/jpeg:https://njmasters.com/wp-content/uploads/2016/04/Summer-2022-Group-Run.jpg
END:VEVENT
BEGIN:VEVENT
DTSTART;TZID=UTC:20250305T080000
DTEND;TZID=UTC:20250305T100000
DTSTAMP:20260419T111324
CREATED:20250202T210925Z
LAST-MODIFIED:20250202T210925Z
UID:10001357-1741161600-1741168800@njmasters.com
SUMMARY:Group Run
DESCRIPTION:Ridgewood Duck Pond \nMeet at the Ridgewood Duck Pond in the last parking lot closest to the path
URL:https://njmasters.com/event/group-run-308/
LOCATION:Ridgewood Duck Pond
CATEGORIES:Group Run
ATTACH;FMTTYPE=image/jpeg:https://njmasters.com/wp-content/uploads/2016/04/Summer-2022-Group-Run.jpg
END:VEVENT
BEGIN:VEVENT
DTSTART;TZID=UTC:20250308T080000
DTEND;TZID=UTC:20250308T100000
DTSTAMP:20260419T111324
CREATED:20250202T205136Z
LAST-MODIFIED:20250202T205136Z
UID:10001347-1741420800-1741428000@njmasters.com
SUMMARY:Group Run
DESCRIPTION:Glen Rock Duck Pond \n**Meet in the second parking area by the pavilion.** There will be several pace groups and a range of abilities within each.
URL:https://njmasters.com/event/group-run-298/
LOCATION:Glen Rock Duck pond
CATEGORIES:Group Run
ATTACH;FMTTYPE=image/jpeg:https://njmasters.com/wp-content/uploads/2016/04/Summer-2022-Group-Run.jpg
END:VEVENT
BEGIN:VEVENT
DTSTART;TZID=UTC:20250309T080000
DTEND;TZID=UTC:20250309T100000
DTSTAMP:20260419T111324
CREATED:20250202T205233Z
LAST-MODIFIED:20250202T205233Z
UID:10001348-1741507200-1741514400@njmasters.com
SUMMARY:Group Run
DESCRIPTION:Glen Rock Duck Pond \nLong run 4 to 14 miles \n**Meet in the second parking area by the pavilion.** There will be several pace groups and a range of abilities within each.
URL:https://njmasters.com/event/group-run-299/
LOCATION:Glen Rock Duck pond
CATEGORIES:Group Run
ATTACH;FMTTYPE=image/jpeg:https://njmasters.com/wp-content/uploads/2016/04/Summer-2022-Group-Run.jpg
END:VEVENT
BEGIN:VEVENT
DTSTART;TZID=UTC:20250309T080000
DTEND;TZID=UTC:20250309T100000
DTSTAMP:20260419T111324
CREATED:20250205T234241Z
LAST-MODIFIED:20250205T234241Z
UID:10001364-1741507200-1741514400@njmasters.com
SUMMARY:Destination Run /Pascack Brook County Park
DESCRIPTION:
URL:https://njmasters.com/event/destination-run-pascack-brook-county-park/
LOCATION:NJ
END:VEVENT
BEGIN:VEVENT
DTSTART;TZID=UTC:20250310T080000
DTEND;TZID=UTC:20250310T100000
DTSTAMP:20260419T111324
CREATED:20250202T210032Z
LAST-MODIFIED:20250202T210032Z
UID:10001356-1741593600-1741600800@njmasters.com
SUMMARY:Group Run
DESCRIPTION:Ridgewood Duck Pond \nMeet at the Ridgewood Duck Pond in the last parking lot closest to the path
URL:https://njmasters.com/event/group-run-307/
LOCATION:Ridgewood Duck Pond
CATEGORIES:Group Run
ATTACH;FMTTYPE=image/jpeg:https://njmasters.com/wp-content/uploads/2016/04/Summer-2022-Group-Run.jpg
END:VEVENT
BEGIN:VEVENT
DTSTART;TZID=UTC:20250312T080000
DTEND;TZID=UTC:20250312T100000
DTSTAMP:20260419T111324
CREATED:20250202T211019Z
LAST-MODIFIED:20250202T211206Z
UID:10001358-1741766400-1741773600@njmasters.com
SUMMARY:Group Run
DESCRIPTION:Ridgewood Duck Pond \nMeet at the Ridgewood Duck Pond in the last parking lot closest to the path
URL:https://njmasters.com/event/group-run-309/
LOCATION:Ridgewood Duck Pond
CATEGORIES:Group Run
ATTACH;FMTTYPE=image/jpeg:https://njmasters.com/wp-content/uploads/2016/04/Summer-2022-Group-Run.jpg
END:VEVENT
BEGIN:VEVENT
DTSTART;TZID=UTC:20250315T080000
DTEND;TZID=UTC:20250315T100000
DTSTAMP:20260419T111324
CREATED:20250202T205335Z
LAST-MODIFIED:20250202T205335Z
UID:10001349-1742025600-1742032800@njmasters.com
SUMMARY:Group Run
DESCRIPTION:Glen Rock Duck Pond \n**Meet in the second parking area by the pavilion.** There will be several pace groups and a range of abilities within each.
URL:https://njmasters.com/event/group-run-300/
LOCATION:Glen Rock Duck pond
CATEGORIES:Group Run
ATTACH;FMTTYPE=image/jpeg:https://njmasters.com/wp-content/uploads/2016/04/Summer-2022-Group-Run.jpg
END:VEVENT
BEGIN:VEVENT
DTSTART;TZID=UTC:20250316T080000
DTEND;TZID=UTC:20250316T100000
DTSTAMP:20260419T111324
CREATED:20250202T205428Z
LAST-MODIFIED:20250202T210144Z
UID:10001350-1742112000-1742119200@njmasters.com
SUMMARY:Group Run
DESCRIPTION:Glen Rock Duck Pond \nLong run 4 to 14 miles \n**Meet in the second parking area by the pavilion.** There will be several pace groups and a range of abilities within each.
URL:https://njmasters.com/event/group-run-301/
LOCATION:Glen Rock Duck pond
CATEGORIES:Group Run
ATTACH;FMTTYPE=image/jpeg:https://njmasters.com/wp-content/uploads/2016/04/Summer-2022-Group-Run.jpg
END:VEVENT
BEGIN:VEVENT
DTSTART;TZID=UTC:20250317T080000
DTEND;TZID=UTC:20250317T100000
DTSTAMP:20260419T111324
CREATED:20250202T211120Z
LAST-MODIFIED:20250202T211120Z
UID:10001359-1742198400-1742205600@njmasters.com
SUMMARY:Group Run
DESCRIPTION:Ridgewood Duck Pond \nMeet at the Ridgewood Duck Pond in the last parking lot closest to the path
URL:https://njmasters.com/event/group-run-310/
LOCATION:Ridgewood Duck Pond
CATEGORIES:Group Run
ATTACH;FMTTYPE=image/jpeg:https://njmasters.com/wp-content/uploads/2016/04/Summer-2022-Group-Run.jpg
END:VEVENT
BEGIN:VEVENT
DTSTART;TZID=UTC:20250319T080000
DTEND;TZID=UTC:20250319T100000
DTSTAMP:20260419T111324
CREATED:20250202T211254Z
LAST-MODIFIED:20250202T211254Z
UID:10001360-1742371200-1742378400@njmasters.com
SUMMARY:Group Run
DESCRIPTION:Ridgewood Duck Pond \nMeet at the Ridgewood Duck Pond in the last parking lot closest to the path
URL:https://njmasters.com/event/group-run-311/
LOCATION:Ridgewood Duck Pond
CATEGORIES:Group Run
ATTACH;FMTTYPE=image/jpeg:https://njmasters.com/wp-content/uploads/2016/04/Summer-2022-Group-Run.jpg
END:VEVENT
BEGIN:VEVENT
DTSTART;TZID=America/New_York:20250319T183000
DTEND;TZID=America/New_York:20250319T200000
DTSTAMP:20260419T111324
CREATED:20250301T022330Z
LAST-MODIFIED:20250301T022547Z
UID:10001377-1742409000-1742414400@njmasters.com
SUMMARY:Let's Make Pizza Event!
DESCRIPTION:
URL:https://njmasters.com/event/lets-make-pizza-event/
LOCATION:Health Barn\, Hillcrest Rd\, Ridgewood\, NJ\, Hillcrest\, Ridgewood\, United States
CATEGORIES:Club Event
END:VEVENT
BEGIN:VEVENT
DTSTART;TZID=UTC:20250322T080000
DTEND;TZID=UTC:20250322T100000
DTSTAMP:20260419T111324
CREATED:20250202T205510Z
LAST-MODIFIED:20251004T013508Z
UID:10001351-1742630400-1742637600@njmasters.com
SUMMARY:Group Run
DESCRIPTION:Glen Rock Duck Pond \n**Meet in the second parking area by the pavilion.** There will be several pace groups and a range of abilities within each.
URL:https://njmasters.com/event/group-run-302/
LOCATION:Glen Rock Duck pond
CATEGORIES:Group Run
ATTACH;FMTTYPE=image/jpeg:https://njmasters.com/wp-content/uploads/2016/04/Summer-2022-Group-Run.jpg
END:VEVENT
BEGIN:VEVENT
DTSTART;TZID=UTC:20250323T080000
DTEND;TZID=UTC:20250323T100000
DTSTAMP:20260419T111324
CREATED:20250202T205622Z
LAST-MODIFIED:20250202T210233Z
UID:10001352-1742716800-1742724000@njmasters.com
SUMMARY:Group Run
DESCRIPTION:Glen Rock Duck Pond \nLong run 4 to 14 miles \n**Meet in the second parking area by the pavilion.** There will be several pace groups and a range of abilities within each.
URL:https://njmasters.com/event/group-run-303/
LOCATION:Glen Rock Duck pond
CATEGORIES:Group Run
ATTACH;FMTTYPE=image/jpeg:https://njmasters.com/wp-content/uploads/2016/04/Summer-2022-Group-Run.jpg
END:VEVENT
BEGIN:VEVENT
DTSTART;TZID=UTC:20250323T093000
DTEND;TZID=UTC:20250323T113000
DTSTAMP:20260419T111324
CREATED:20250112T024041Z
LAST-MODIFIED:20250202T211932Z
UID:10001310-1742722200-1742729400@njmasters.com
SUMMARY:2025 Garden State 10 miler
DESCRIPTION:Description\n\n\n2025 Garden State 10 miler\n(Open & Masters Men 700pt) \nSunday\, March 23\, 2025\nFriday\n4pm-8pm: Packet Pickup\, Road Runner Sports (North Brunswick\, NJ)\nSaturday\n10am-2pm: Packet Pickup\, Road Runner Sports (North Brunswick\, NJ)\nSunday\n7:00am: Registration opens (packet pickup\, new registration)\n9:30am: Garden State10 Miler
URL:https://njmasters.com/event/2025-garden-state-10-miler/
LOCATION:NJ
CATEGORIES:Races
END:VEVENT
BEGIN:VEVENT
DTSTART;TZID=UTC:20250324T080000
DTEND;TZID=UTC:20250324T100000
DTSTAMP:20260419T111324
CREATED:20250202T211356Z
LAST-MODIFIED:20250202T211356Z
UID:10001361-1742803200-1742810400@njmasters.com
SUMMARY:Group Run
DESCRIPTION:Ridgewood Duck Pond \nMeet at the Ridgewood Duck Pond in the last parking lot closest to the path
URL:https://njmasters.com/event/group-run-312/
LOCATION:Ridgewood Duck Pond
CATEGORIES:Group Run
ATTACH;FMTTYPE=image/jpeg:https://njmasters.com/wp-content/uploads/2016/04/Summer-2022-Group-Run.jpg
END:VEVENT
BEGIN:VEVENT
DTSTART;TZID=America/New_York:20250325T180000
DTEND;TZID=America/New_York:20250325T193000
DTSTAMP:20260419T111324
CREATED:20250322T112142Z
LAST-MODIFIED:20250328T134732Z
UID:10001714-1742925600-1742931000@njmasters.com
SUMMARY:Tuesday Track Workout
DESCRIPTION:With Coach Joel: \n  \nEveryone warmup a mile. \nTrack drills. \nThen 4×100 strides. \nAt your 5k mile pace now. \nDo 6-14×400 with 1:30 recovery. \nAfter warm down mile
URL:https://njmasters.com/event/tuesday-track-workout-32/
LOCATION:Ben Franklin Middle School\, 335 N Van Dien Ave\, Ridgewood\, NJ\, 07450\, United States
CATEGORIES:Workouts
ATTACH;FMTTYPE=image/jpeg:https://njmasters.com/wp-content/uploads/2022/03/55826962_3139472089412181_1185756619779080192_n.jpeg
END:VEVENT
BEGIN:VEVENT
DTSTART;TZID=America/New_York:20250325T183000
DTEND;TZID=America/New_York:20250325T193000
DTSTAMP:20260419T111324
CREATED:20250305T030713Z
LAST-MODIFIED:20250322T005247Z
UID:10001378-1742927400-1742931000@njmasters.com
SUMMARY:Track Season Opens!
DESCRIPTION:Everyone warmup a mile. Track drills. Then 4×100 strides. At your 5k mile pace now. Do 6-14×400 with 1:30 recovery. After warm down mile
URL:https://njmasters.com/event/track-season-opens/
LOCATION:Ben Franklin Middle School\, 335 N Van Dien Ave\, Ridgewood\, NJ\, 07450\, United States
END:VEVENT
BEGIN:VEVENT
DTSTART;TZID=UTC:20250326T080000
DTEND;TZID=UTC:20250326T100000
DTSTAMP:20260419T111324
CREATED:20250202T211436Z
LAST-MODIFIED:20250202T211436Z
UID:10001362-1742976000-1742983200@njmasters.com
SUMMARY:Group Run
DESCRIPTION:Ridgewood Duck Pond \nMeet at the Ridgewood Duck Pond in the last parking lot closest to the path
URL:https://njmasters.com/event/group-run-313/
LOCATION:Ridgewood Duck Pond
CATEGORIES:Group Run
ATTACH;FMTTYPE=image/jpeg:https://njmasters.com/wp-content/uploads/2016/04/Summer-2022-Group-Run.jpg
END:VEVENT
BEGIN:VEVENT
DTSTART;TZID=America/New_York:20250326T093000
DTEND;TZID=America/New_York:20250326T103000
DTSTAMP:20260419T111324
CREATED:20250305T031049Z
LAST-MODIFIED:20250305T031049Z
UID:10001379-1742981400-1742985000@njmasters.com
SUMMARY:BEGINNER PROGRAM TRAINING
DESCRIPTION:
URL:https://njmasters.com/event/beginner-program-training/2025-03-26/
LOCATION:Ridgewood Duck Pond
END:VEVENT
BEGIN:VEVENT
DTSTART;TZID=America/New_York:20250329T080000
DTEND;TZID=America/New_York:20250329T100000
DTSTAMP:20260419T111324
CREATED:20250305T033321Z
LAST-MODIFIED:20250305T033321Z
UID:10001640-1743235200-1743242400@njmasters.com
SUMMARY:BEGINNER PROGRAM TRAINING
DESCRIPTION:
URL:https://njmasters.com/event/beginner-program-training-2/2025-03-29/
LOCATION:Glen Rock Duck Pond\, 658 County Rte S79\, Glen Rock\, NJ\, 07452\, United States
END:VEVENT
BEGIN:VEVENT
DTSTART;TZID=America/New_York:20250329T093000
DTEND;TZID=America/New_York:20250329T110000
DTSTAMP:20260419T111324
CREATED:20250219T214438Z
LAST-MODIFIED:20250219T214438Z
UID:10001376-1743240600-1743246000@njmasters.com
SUMMARY:Sleepy Hollow Half Marathon
DESCRIPTION:
URL:https://njmasters.com/event/sleepy-hollow-half-marathon/
LOCATION:NJ
END:VEVENT
BEGIN:VEVENT
DTSTART;TZID=UTC:20250330T080000
DTEND;TZID=UTC:20250330T100000
DTSTAMP:20260419T111324
CREATED:20250202T205800Z
LAST-MODIFIED:20250328T142243Z
UID:10001354-1743321600-1743328800@njmasters.com
SUMMARY:Group Run
DESCRIPTION:Glen Rock Duck Pond \nLong run 4 to 14 miles. \n**Meet in the second parking area by the pavilion.** There will be several pace groups and a range of abilities within each.
URL:https://njmasters.com/event/group-run-305/2025-03-30/
LOCATION:Glen Rock Duck pond
CATEGORIES:Group Run
ATTACH;FMTTYPE=image/jpeg:https://njmasters.com/wp-content/uploads/2016/04/Summer-2022-Group-Run.jpg
END:VEVENT
BEGIN:VEVENT
DTSTART;TZID=UTC:20250330T090000
DTEND;TZID=UTC:20250330T120000
DTSTAMP:20260419T111324
CREATED:20250112T024720Z
LAST-MODIFIED:20250202T212104Z
UID:10001311-1743325200-1743336000@njmasters.com
SUMMARY:Spring Distance Classic 15k
DESCRIPTION:Spring Distance Classic 15K\nSun March 30\, 2025Basking Ridge\, NJ 07920 US Directions \n\n\n(Open & Masters Women 700pt)\n\n\nSunday\n7:30 am – Registration and Packet Pickup Opens\n8:30 am – Kiddie Dash\n8:45 am – 15K Registration Closes\n9:00 am – 15K Race Goes Off
URL:https://njmasters.com/event/spring-distance-classic/
LOCATION:NJ
CATEGORIES:Races
END:VEVENT
BEGIN:VEVENT
DTSTART;TZID=UTC:20250331T080000
DTEND;TZID=UTC:20250331T100000
DTSTAMP:20260419T111324
CREATED:20250202T211514Z
LAST-MODIFIED:20250328T141128Z
UID:10001363-1743408000-1743415200@njmasters.com
SUMMARY:Group Run
DESCRIPTION:Ridgewood Duck Pond \nMeet at the Ridgewood Duck Pond in the last parking lot closest to the path
URL:https://njmasters.com/event/group-run-314/2025-03-31/
LOCATION:Ridgewood Duck Pond
CATEGORIES:Group Run
ATTACH;FMTTYPE=image/jpeg:https://njmasters.com/wp-content/uploads/2016/04/Summer-2022-Group-Run.jpg
END:VEVENT
END:VCALENDAR