BEGIN:VCALENDAR
VERSION:2.0
PRODID:-//North Jersey Masters Running Club - ECPv6.15.18//NONSGML v1.0//EN
CALSCALE:GREGORIAN
METHOD:PUBLISH
X-ORIGINAL-URL:https://njmasters.com
X-WR-CALDESC:Events for North Jersey Masters Running Club
REFRESH-INTERVAL;VALUE=DURATION:PT1H
X-Robots-Tag:noindex
X-PUBLISHED-TTL:PT1H
BEGIN:VTIMEZONE
TZID:America/New_York
BEGIN:DAYLIGHT
TZOFFSETFROM:-0500
TZOFFSETTO:-0400
TZNAME:EDT
DTSTART:20250309T070000
END:DAYLIGHT
BEGIN:STANDARD
TZOFFSETFROM:-0400
TZOFFSETTO:-0500
TZNAME:EST
DTSTART:20251102T060000
END:STANDARD
BEGIN:DAYLIGHT
TZOFFSETFROM:-0500
TZOFFSETTO:-0400
TZNAME:EDT
DTSTART:20260308T070000
END:DAYLIGHT
BEGIN:STANDARD
TZOFFSETFROM:-0400
TZOFFSETTO:-0500
TZNAME:EST
DTSTART:20261101T060000
END:STANDARD
BEGIN:DAYLIGHT
TZOFFSETFROM:-0500
TZOFFSETTO:-0400
TZNAME:EDT
DTSTART:20270314T070000
END:DAYLIGHT
BEGIN:STANDARD
TZOFFSETFROM:-0400
TZOFFSETTO:-0500
TZNAME:EST
DTSTART:20271107T060000
END:STANDARD
END:VTIMEZONE
BEGIN:VEVENT
DTSTART;TZID=America/New_York:20260425T080000
DTEND;TZID=America/New_York:20260425T100000
DTSTAMP:20260424T180612
CREATED:20260414T142932Z
LAST-MODIFIED:20260414T142932Z
UID:10002452-1777104000-1777111200@njmasters.com
SUMMARY:GROUP RUN - SOCIAL
DESCRIPTION:SATURDAY SOCIAL GROUP RUN EVENT: \nAnywhere from 3-6 miles. \nThe more the merrier! \nMeet in the second parking area by the pavilion. There will be several pace groups and a range of abilities within each. \nRemember: All ages\, all abilities\, all welcome!!
URL:https://njmasters.com/event/group-run-social/2026-04-25/
LOCATION:Glen Rock Duck pond
CATEGORIES:Group Run
ATTACH;FMTTYPE=image/jpeg:https://njmasters.com/wp-content/uploads/2018/08/Jan242018.jpg
ORGANIZER;CN="North Jersey Masters":MAILTO:info@njmasters.com
END:VEVENT
BEGIN:VEVENT
DTSTART;TZID=America/New_York:20260425T083000
DTEND;TZID=America/New_York:20260425T103000
DTSTAMP:20260424T180612
CREATED:20260206T205818Z
LAST-MODIFIED:20260206T205818Z
UID:10002260-1777105800-1777113000@njmasters.com
SUMMARY:15th Anniversary Susan Zabransky Hughes Memorial 5K Run/Walk 
DESCRIPTION:15th Anniversary Susan Zabransky Hughes Memorial 5K Run/Walk \nSaturday\, April 25\, 2026 \n8:30am \nZion Evangelical Lutheran Church\, Saddle River\, NJ \nWebsite: givehmh.org/zabransky5K
URL:https://njmasters.com/event/15th-anniversary-susan-zabransky-hughes-memorial-5k-run-walk/
LOCATION:NJ
CATEGORIES:Races
END:VEVENT
BEGIN:VEVENT
DTSTART;TZID=America/New_York:20260426T080000
DTEND;TZID=America/New_York:20260426T100000
DTSTAMP:20260424T180612
CREATED:20260414T144345Z
LAST-MODIFIED:20260414T144345Z
UID:10002489-1777190400-1777197600@njmasters.com
SUMMARY:GROUP RUN
DESCRIPTION:GLEN ROCK DUCK POND \nMembers run any distance up 14 miles plus! \n“There are a lot of benefits to NJM membership\, and the Sunday Group Run is right at the heart of what makes North Jersey Masters a great Club to be part of. It \nAll Ages\, All Abilities\, All Welcome!” \nMEET AT THE  2N PARKING LOT
URL:https://njmasters.com/event/group-run-304/2026-04-26/
LOCATION:Glen Rock Duck pond
CATEGORIES:Group Run
ATTACH;FMTTYPE=image/jpeg:https://njmasters.com/wp-content/uploads/2018/05/Spring-Formal.jpg
ORGANIZER;CN="North Jersey Masters":MAILTO:info@njmasters.com
END:VEVENT
BEGIN:VEVENT
DTSTART;TZID=America/New_York:20260426T083000
DTEND;TZID=America/New_York:20260426T093000
DTSTAMP:20260424T180612
CREATED:20260411T021558Z
LAST-MODIFIED:20260411T021558Z
UID:10002309-1777192200-1777195800@njmasters.com
SUMMARY:Healing Meals 5k - Ridgewood Duck pond
DESCRIPTION:@Ridgewood Duck Pond \n8:30am \n  \nApril 26th
URL:https://njmasters.com/event/healing-meals-5k-ridgewood-duck-pond/
LOCATION:Ridgewood Duck Pond
CATEGORIES:Races
END:VEVENT
BEGIN:VEVENT
DTSTART;TZID=America/New_York:20260428T180000
DTEND;TZID=America/New_York:20260428T193000
DTSTAMP:20260424T180612
CREATED:20260403T235503Z
LAST-MODIFIED:20260403T235503Z
UID:10002271-1777399200-1777404600@njmasters.com
SUMMARY:Tuesday Track Workout
DESCRIPTION:With Coach Paul: \nDetails will appear here weekly. \nWarmup \nWorkout \nCooldown
URL:https://njmasters.com/event/tuesday-track-workout-41/2026-04-28/
LOCATION:Ben Franklin Middle School\, 335 N Van Dien Ave\, Ridgewood\, NJ\, 07450\, United States
CATEGORIES:Workouts
ATTACH;FMTTYPE=image/jpeg:https://njmasters.com/wp-content/uploads/2022/03/55826962_3139472089412181_1185756619779080192_n.jpeg
ORGANIZER;CN="North Jersey Masters":MAILTO:info@njmasters.com
END:VEVENT
BEGIN:VEVENT
DTSTART;TZID=America/New_York:20260430T180000
DTEND;TZID=America/New_York:20260430T193000
DTSTAMP:20260424T180612
CREATED:20260414T001550Z
LAST-MODIFIED:20260414T001902Z
UID:10002311-1777572000-1777577400@njmasters.com
SUMMARY:Thursday Weekly Tempo Workout
DESCRIPTION:With Coach Paul: \n  \nWorkout will appear here  weekly.
URL:https://njmasters.com/event/thursday-weekly-tempo-workout-2/2026-04-30/
LOCATION:Dunkerhook Park\, Dunkerhook Rd.\, Paramus\, NJ\, 07652\, United States
CATEGORIES:Workouts
ATTACH;FMTTYPE=image/jpeg:https://njmasters.com/wp-content/uploads/2022/03/271597282_7509115862447760_1176948585121039041_n.jpeg
ORGANIZER;CN="North Jersey Masters":MAILTO:info@njmasters.com
END:VEVENT
END:VCALENDAR