BEGIN:VCALENDAR
VERSION:2.0
PRODID:-//North Jersey Masters Running Club - ECPv6.15.18//NONSGML v1.0//EN
CALSCALE:GREGORIAN
METHOD:PUBLISH
X-ORIGINAL-URL:https://njmasters.com
X-WR-CALDESC:Events for North Jersey Masters Running Club
REFRESH-INTERVAL;VALUE=DURATION:PT1H
X-Robots-Tag:noindex
X-PUBLISHED-TTL:PT1H
BEGIN:VTIMEZONE
TZID:America/New_York
BEGIN:DAYLIGHT
TZOFFSETFROM:-0500
TZOFFSETTO:-0400
TZNAME:EDT
DTSTART:20250309T070000
END:DAYLIGHT
BEGIN:STANDARD
TZOFFSETFROM:-0400
TZOFFSETTO:-0500
TZNAME:EST
DTSTART:20251102T060000
END:STANDARD
BEGIN:DAYLIGHT
TZOFFSETFROM:-0500
TZOFFSETTO:-0400
TZNAME:EDT
DTSTART:20260308T070000
END:DAYLIGHT
BEGIN:STANDARD
TZOFFSETFROM:-0400
TZOFFSETTO:-0500
TZNAME:EST
DTSTART:20261101T060000
END:STANDARD
BEGIN:DAYLIGHT
TZOFFSETFROM:-0500
TZOFFSETTO:-0400
TZNAME:EDT
DTSTART:20270314T070000
END:DAYLIGHT
BEGIN:STANDARD
TZOFFSETFROM:-0400
TZOFFSETTO:-0500
TZNAME:EST
DTSTART:20271107T060000
END:STANDARD
END:VTIMEZONE
BEGIN:VEVENT
DTSTART;TZID=America/New_York:20261011T080000
DTEND;TZID=America/New_York:20261011T100000
DTSTAMP:20260422T070456
CREATED:20260414T144345Z
LAST-MODIFIED:20260414T144345Z
UID:10002513-1791705600-1791712800@njmasters.com
SUMMARY:GROUP RUN
DESCRIPTION:GLEN ROCK DUCK POND \nMembers run any distance up 14 miles plus! \n“There are a lot of benefits to NJM membership\, and the Sunday Group Run is right at the heart of what makes North Jersey Masters a great Club to be part of. It \nAll Ages\, All Abilities\, All Welcome!” \nMEET AT THE  2N PARKING LOT
URL:https://njmasters.com/event/group-run-304/2026-10-11/
LOCATION:Glen Rock Duck pond
CATEGORIES:Group Run
ATTACH;FMTTYPE=image/jpeg:https://njmasters.com/wp-content/uploads/2018/05/Spring-Formal.jpg
ORGANIZER;CN="North Jersey Masters":MAILTO:info@njmasters.com
END:VEVENT
BEGIN:VEVENT
DTSTART;TZID=America/New_York:20261013T180000
DTEND;TZID=America/New_York:20261013T193000
DTSTAMP:20260422T070456
CREATED:20260403T235503Z
LAST-MODIFIED:20260403T235503Z
UID:10002283-1791914400-1791919800@njmasters.com
SUMMARY:Tuesday Track Workout
DESCRIPTION:With Coach Paul: \nDetails will appear here weekly. \nWarmup \nWorkout \nCooldown
URL:https://njmasters.com/event/tuesday-track-workout-41/2026-10-13/
LOCATION:Ben Franklin Middle School\, 335 N Van Dien Ave\, Ridgewood\, NJ\, 07450\, United States
CATEGORIES:Workouts
ATTACH;FMTTYPE=image/jpeg:https://njmasters.com/wp-content/uploads/2022/03/55826962_3139472089412181_1185756619779080192_n.jpeg
ORGANIZER;CN="North Jersey Masters":MAILTO:info@njmasters.com
END:VEVENT
BEGIN:VEVENT
DTSTART;TZID=America/New_York:20261015T180000
DTEND;TZID=America/New_York:20261015T193000
DTSTAMP:20260422T070456
CREATED:20260414T001550Z
LAST-MODIFIED:20260414T001902Z
UID:10002335-1792087200-1792092600@njmasters.com
SUMMARY:Thursday Weekly Tempo Workout
DESCRIPTION:With Coach Paul: \n  \nWorkout will appear here  weekly.
URL:https://njmasters.com/event/thursday-weekly-tempo-workout-2/2026-10-15/
LOCATION:Dunkerhook Park\, Dunkerhook Rd.\, Paramus\, NJ\, 07652\, United States
CATEGORIES:Workouts
ATTACH;FMTTYPE=image/jpeg:https://njmasters.com/wp-content/uploads/2022/03/271597282_7509115862447760_1176948585121039041_n.jpeg
ORGANIZER;CN="North Jersey Masters":MAILTO:info@njmasters.com
END:VEVENT
BEGIN:VEVENT
DTSTART;TZID=America/New_York:20261017T080000
DTEND;TZID=America/New_York:20261017T100000
DTSTAMP:20260422T070456
CREATED:20260414T142932Z
LAST-MODIFIED:20260414T142932Z
UID:10002477-1792224000-1792231200@njmasters.com
SUMMARY:GROUP RUN - SOCIAL
DESCRIPTION:SATURDAY SOCIAL GROUP RUN EVENT: \nAnywhere from 3-6 miles. \nThe more the merrier! \nMeet in the second parking area by the pavilion. There will be several pace groups and a range of abilities within each. \nRemember: All ages\, all abilities\, all welcome!!
URL:https://njmasters.com/event/group-run-social/2026-10-17/
LOCATION:Glen Rock Duck pond
CATEGORIES:Group Run
ATTACH;FMTTYPE=image/jpeg:https://njmasters.com/wp-content/uploads/2018/08/Jan242018.jpg
ORGANIZER;CN="North Jersey Masters":MAILTO:info@njmasters.com
END:VEVENT
BEGIN:VEVENT
DTSTART;TZID=America/New_York:20261018T080000
DTEND;TZID=America/New_York:20261018T100000
DTSTAMP:20260422T070456
CREATED:20260414T144345Z
LAST-MODIFIED:20260414T144345Z
UID:10002514-1792310400-1792317600@njmasters.com
SUMMARY:GROUP RUN
DESCRIPTION:GLEN ROCK DUCK POND \nMembers run any distance up 14 miles plus! \n“There are a lot of benefits to NJM membership\, and the Sunday Group Run is right at the heart of what makes North Jersey Masters a great Club to be part of. It \nAll Ages\, All Abilities\, All Welcome!” \nMEET AT THE  2N PARKING LOT
URL:https://njmasters.com/event/group-run-304/2026-10-18/
LOCATION:Glen Rock Duck pond
CATEGORIES:Group Run
ATTACH;FMTTYPE=image/jpeg:https://njmasters.com/wp-content/uploads/2018/05/Spring-Formal.jpg
ORGANIZER;CN="North Jersey Masters":MAILTO:info@njmasters.com
END:VEVENT
BEGIN:VEVENT
DTSTART;TZID=America/New_York:20261020T180000
DTEND;TZID=America/New_York:20261020T193000
DTSTAMP:20260422T070456
CREATED:20260403T235744Z
LAST-MODIFIED:20260403T235744Z
UID:10002302-1792519200-1792524600@njmasters.com
SUMMARY:Tuesday Track Workout
DESCRIPTION:With Coach Joel: \nDetails will appear here weekly. \nWarmup \nWorkout \nCooldown
URL:https://njmasters.com/event/tuesday-track-workout-42/2026-10-20/
LOCATION:Ben Franklin Middle School\, 335 N Van Dien Ave\, Ridgewood\, NJ\, 07450\, United States
CATEGORIES:Workouts
ATTACH;FMTTYPE=image/jpeg:https://njmasters.com/wp-content/uploads/2022/03/55826962_3139472089412181_1185756619779080192_n.jpeg
ORGANIZER;CN="North Jersey Masters":MAILTO:info@njmasters.com
END:VEVENT
BEGIN:VEVENT
DTSTART;TZID=America/New_York:20261022T180000
DTEND;TZID=America/New_York:20261022T193000
DTSTAMP:20260422T070456
CREATED:20260414T002402Z
LAST-MODIFIED:20260414T002601Z
UID:10002370-1792692000-1792697400@njmasters.com
SUMMARY:Thursday Weekly Tempo Workout
DESCRIPTION:With Coach Joel: \n  \nUpdates will appear here weekly
URL:https://njmasters.com/event/thursday-weekly-tempo-workout-3/2026-10-22/
LOCATION:Dunkerhook Park\, Dunkerhook Rd.\, Paramus\, NJ\, 07652\, United States
CATEGORIES:Workouts
ATTACH;FMTTYPE=image/jpeg:https://njmasters.com/wp-content/uploads/2022/03/271597282_7509115862447760_1176948585121039041_n.jpeg
ORGANIZER;CN="North Jersey Masters":MAILTO:info@njmasters.com
END:VEVENT
BEGIN:VEVENT
DTSTART;TZID=America/New_York:20261024T080000
DTEND;TZID=America/New_York:20261024T100000
DTSTAMP:20260422T070456
CREATED:20260414T142932Z
LAST-MODIFIED:20260414T142932Z
UID:10002478-1792828800-1792836000@njmasters.com
SUMMARY:GROUP RUN - SOCIAL
DESCRIPTION:SATURDAY SOCIAL GROUP RUN EVENT: \nAnywhere from 3-6 miles. \nThe more the merrier! \nMeet in the second parking area by the pavilion. There will be several pace groups and a range of abilities within each. \nRemember: All ages\, all abilities\, all welcome!!
URL:https://njmasters.com/event/group-run-social/2026-10-24/
LOCATION:Glen Rock Duck pond
CATEGORIES:Group Run
ATTACH;FMTTYPE=image/jpeg:https://njmasters.com/wp-content/uploads/2018/08/Jan242018.jpg
ORGANIZER;CN="North Jersey Masters":MAILTO:info@njmasters.com
END:VEVENT
BEGIN:VEVENT
DTSTART;TZID=America/New_York:20261025T080000
DTEND;TZID=America/New_York:20261025T100000
DTSTAMP:20260422T070456
CREATED:20260414T144345Z
LAST-MODIFIED:20260414T144345Z
UID:10002515-1792915200-1792922400@njmasters.com
SUMMARY:GROUP RUN
DESCRIPTION:GLEN ROCK DUCK POND \nMembers run any distance up 14 miles plus! \n“There are a lot of benefits to NJM membership\, and the Sunday Group Run is right at the heart of what makes North Jersey Masters a great Club to be part of. It \nAll Ages\, All Abilities\, All Welcome!” \nMEET AT THE  2N PARKING LOT
URL:https://njmasters.com/event/group-run-304/2026-10-25/
LOCATION:Glen Rock Duck pond
CATEGORIES:Group Run
ATTACH;FMTTYPE=image/jpeg:https://njmasters.com/wp-content/uploads/2018/05/Spring-Formal.jpg
ORGANIZER;CN="North Jersey Masters":MAILTO:info@njmasters.com
END:VEVENT
BEGIN:VEVENT
DTSTART;TZID=America/New_York:20261027T180000
DTEND;TZID=America/New_York:20261027T193000
DTSTAMP:20260422T070456
CREATED:20260403T235503Z
LAST-MODIFIED:20260403T235503Z
UID:10002284-1793124000-1793129400@njmasters.com
SUMMARY:Tuesday Track Workout
DESCRIPTION:With Coach Paul: \nDetails will appear here weekly. \nWarmup \nWorkout \nCooldown
URL:https://njmasters.com/event/tuesday-track-workout-41/2026-10-27/
LOCATION:Ben Franklin Middle School\, 335 N Van Dien Ave\, Ridgewood\, NJ\, 07450\, United States
CATEGORIES:Workouts
ATTACH;FMTTYPE=image/jpeg:https://njmasters.com/wp-content/uploads/2022/03/55826962_3139472089412181_1185756619779080192_n.jpeg
ORGANIZER;CN="North Jersey Masters":MAILTO:info@njmasters.com
END:VEVENT
BEGIN:VEVENT
DTSTART;TZID=America/New_York:20261029T180000
DTEND;TZID=America/New_York:20261029T193000
DTSTAMP:20260422T070456
CREATED:20260414T001550Z
LAST-MODIFIED:20260414T001902Z
UID:10002337-1793296800-1793302200@njmasters.com
SUMMARY:Thursday Weekly Tempo Workout
DESCRIPTION:With Coach Paul: \n  \nWorkout will appear here  weekly.
URL:https://njmasters.com/event/thursday-weekly-tempo-workout-2/2026-10-29/
LOCATION:Dunkerhook Park\, Dunkerhook Rd.\, Paramus\, NJ\, 07652\, United States
CATEGORIES:Workouts
ATTACH;FMTTYPE=image/jpeg:https://njmasters.com/wp-content/uploads/2022/03/271597282_7509115862447760_1176948585121039041_n.jpeg
ORGANIZER;CN="North Jersey Masters":MAILTO:info@njmasters.com
END:VEVENT
BEGIN:VEVENT
DTSTART;TZID=America/New_York:20261031T080000
DTEND;TZID=America/New_York:20261031T100000
DTSTAMP:20260422T070456
CREATED:20260414T142932Z
LAST-MODIFIED:20260414T142932Z
UID:10002479-1793433600-1793440800@njmasters.com
SUMMARY:GROUP RUN - SOCIAL
DESCRIPTION:SATURDAY SOCIAL GROUP RUN EVENT: \nAnywhere from 3-6 miles. \nThe more the merrier! \nMeet in the second parking area by the pavilion. There will be several pace groups and a range of abilities within each. \nRemember: All ages\, all abilities\, all welcome!!
URL:https://njmasters.com/event/group-run-social/2026-10-31/
LOCATION:Glen Rock Duck pond
CATEGORIES:Group Run
ATTACH;FMTTYPE=image/jpeg:https://njmasters.com/wp-content/uploads/2018/08/Jan242018.jpg
ORGANIZER;CN="North Jersey Masters":MAILTO:info@njmasters.com
END:VEVENT
BEGIN:VEVENT
DTSTART;TZID=America/New_York:20261101T080000
DTEND;TZID=America/New_York:20261101T100000
DTSTAMP:20260422T070456
CREATED:20260414T144345Z
LAST-MODIFIED:20260414T144345Z
UID:10002516-1793520000-1793527200@njmasters.com
SUMMARY:GROUP RUN
DESCRIPTION:GLEN ROCK DUCK POND \nMembers run any distance up 14 miles plus! \n“There are a lot of benefits to NJM membership\, and the Sunday Group Run is right at the heart of what makes North Jersey Masters a great Club to be part of. It \nAll Ages\, All Abilities\, All Welcome!” \nMEET AT THE  2N PARKING LOT
URL:https://njmasters.com/event/group-run-304/2026-11-01/
LOCATION:Glen Rock Duck pond
CATEGORIES:Group Run
ATTACH;FMTTYPE=image/jpeg:https://njmasters.com/wp-content/uploads/2018/05/Spring-Formal.jpg
ORGANIZER;CN="North Jersey Masters":MAILTO:info@njmasters.com
END:VEVENT
BEGIN:VEVENT
DTSTART;TZID=America/New_York:20261103T180000
DTEND;TZID=America/New_York:20261103T193000
DTSTAMP:20260422T070456
CREATED:20260403T235744Z
LAST-MODIFIED:20260403T235744Z
UID:10002303-1793728800-1793734200@njmasters.com
SUMMARY:Tuesday Track Workout
DESCRIPTION:With Coach Joel: \nDetails will appear here weekly. \nWarmup \nWorkout \nCooldown
URL:https://njmasters.com/event/tuesday-track-workout-42/2026-11-03/
LOCATION:Ben Franklin Middle School\, 335 N Van Dien Ave\, Ridgewood\, NJ\, 07450\, United States
CATEGORIES:Workouts
ATTACH;FMTTYPE=image/jpeg:https://njmasters.com/wp-content/uploads/2022/03/55826962_3139472089412181_1185756619779080192_n.jpeg
ORGANIZER;CN="North Jersey Masters":MAILTO:info@njmasters.com
END:VEVENT
BEGIN:VEVENT
DTSTART;TZID=America/New_York:20261105T180000
DTEND;TZID=America/New_York:20261105T193000
DTSTAMP:20260422T070456
CREATED:20260414T002402Z
LAST-MODIFIED:20260414T002601Z
UID:10002372-1793901600-1793907000@njmasters.com
SUMMARY:Thursday Weekly Tempo Workout
DESCRIPTION:With Coach Joel: \n  \nUpdates will appear here weekly
URL:https://njmasters.com/event/thursday-weekly-tempo-workout-3/2026-11-05/
LOCATION:Dunkerhook Park\, Dunkerhook Rd.\, Paramus\, NJ\, 07652\, United States
CATEGORIES:Workouts
ATTACH;FMTTYPE=image/jpeg:https://njmasters.com/wp-content/uploads/2022/03/271597282_7509115862447760_1176948585121039041_n.jpeg
ORGANIZER;CN="North Jersey Masters":MAILTO:info@njmasters.com
END:VEVENT
BEGIN:VEVENT
DTSTART;TZID=America/New_York:20261107T080000
DTEND;TZID=America/New_York:20261107T100000
DTSTAMP:20260422T070456
CREATED:20260414T142932Z
LAST-MODIFIED:20260414T142932Z
UID:10002480-1794038400-1794045600@njmasters.com
SUMMARY:GROUP RUN - SOCIAL
DESCRIPTION:SATURDAY SOCIAL GROUP RUN EVENT: \nAnywhere from 3-6 miles. \nThe more the merrier! \nMeet in the second parking area by the pavilion. There will be several pace groups and a range of abilities within each. \nRemember: All ages\, all abilities\, all welcome!!
URL:https://njmasters.com/event/group-run-social/2026-11-07/
LOCATION:Glen Rock Duck pond
CATEGORIES:Group Run
ATTACH;FMTTYPE=image/jpeg:https://njmasters.com/wp-content/uploads/2018/08/Jan242018.jpg
ORGANIZER;CN="North Jersey Masters":MAILTO:info@njmasters.com
END:VEVENT
BEGIN:VEVENT
DTSTART;TZID=America/New_York:20261108T080000
DTEND;TZID=America/New_York:20261108T100000
DTSTAMP:20260422T070456
CREATED:20260414T144345Z
LAST-MODIFIED:20260414T144345Z
UID:10002517-1794124800-1794132000@njmasters.com
SUMMARY:GROUP RUN
DESCRIPTION:GLEN ROCK DUCK POND \nMembers run any distance up 14 miles plus! \n“There are a lot of benefits to NJM membership\, and the Sunday Group Run is right at the heart of what makes North Jersey Masters a great Club to be part of. It \nAll Ages\, All Abilities\, All Welcome!” \nMEET AT THE  2N PARKING LOT
URL:https://njmasters.com/event/group-run-304/2026-11-08/
LOCATION:Glen Rock Duck pond
CATEGORIES:Group Run
ATTACH;FMTTYPE=image/jpeg:https://njmasters.com/wp-content/uploads/2018/05/Spring-Formal.jpg
ORGANIZER;CN="North Jersey Masters":MAILTO:info@njmasters.com
END:VEVENT
BEGIN:VEVENT
DTSTART;TZID=America/New_York:20261110T180000
DTEND;TZID=America/New_York:20261110T193000
DTSTAMP:20260422T070456
CREATED:20260403T235503Z
LAST-MODIFIED:20260403T235503Z
UID:10002285-1794333600-1794339000@njmasters.com
SUMMARY:Tuesday Track Workout
DESCRIPTION:With Coach Paul: \nDetails will appear here weekly. \nWarmup \nWorkout \nCooldown
URL:https://njmasters.com/event/tuesday-track-workout-41/2026-11-10/
LOCATION:Ben Franklin Middle School\, 335 N Van Dien Ave\, Ridgewood\, NJ\, 07450\, United States
CATEGORIES:Workouts
ATTACH;FMTTYPE=image/jpeg:https://njmasters.com/wp-content/uploads/2022/03/55826962_3139472089412181_1185756619779080192_n.jpeg
ORGANIZER;CN="North Jersey Masters":MAILTO:info@njmasters.com
END:VEVENT
BEGIN:VEVENT
DTSTART;TZID=America/New_York:20261112T180000
DTEND;TZID=America/New_York:20261112T193000
DTSTAMP:20260422T070456
CREATED:20260414T001550Z
LAST-MODIFIED:20260414T001902Z
UID:10002339-1794506400-1794511800@njmasters.com
SUMMARY:Thursday Weekly Tempo Workout
DESCRIPTION:With Coach Paul: \n  \nWorkout will appear here  weekly.
URL:https://njmasters.com/event/thursday-weekly-tempo-workout-2/2026-11-12/
LOCATION:Dunkerhook Park\, Dunkerhook Rd.\, Paramus\, NJ\, 07652\, United States
CATEGORIES:Workouts
ATTACH;FMTTYPE=image/jpeg:https://njmasters.com/wp-content/uploads/2022/03/271597282_7509115862447760_1176948585121039041_n.jpeg
ORGANIZER;CN="North Jersey Masters":MAILTO:info@njmasters.com
END:VEVENT
BEGIN:VEVENT
DTSTART;TZID=America/New_York:20261114T080000
DTEND;TZID=America/New_York:20261114T100000
DTSTAMP:20260422T070456
CREATED:20260414T142932Z
LAST-MODIFIED:20260414T142932Z
UID:10002481-1794643200-1794650400@njmasters.com
SUMMARY:GROUP RUN - SOCIAL
DESCRIPTION:SATURDAY SOCIAL GROUP RUN EVENT: \nAnywhere from 3-6 miles. \nThe more the merrier! \nMeet in the second parking area by the pavilion. There will be several pace groups and a range of abilities within each. \nRemember: All ages\, all abilities\, all welcome!!
URL:https://njmasters.com/event/group-run-social/2026-11-14/
LOCATION:Glen Rock Duck pond
CATEGORIES:Group Run
ATTACH;FMTTYPE=image/jpeg:https://njmasters.com/wp-content/uploads/2018/08/Jan242018.jpg
ORGANIZER;CN="North Jersey Masters":MAILTO:info@njmasters.com
END:VEVENT
BEGIN:VEVENT
DTSTART;TZID=America/New_York:20261115T080000
DTEND;TZID=America/New_York:20261115T100000
DTSTAMP:20260422T070456
CREATED:20260414T144345Z
LAST-MODIFIED:20260414T144345Z
UID:10002518-1794729600-1794736800@njmasters.com
SUMMARY:GROUP RUN
DESCRIPTION:GLEN ROCK DUCK POND \nMembers run any distance up 14 miles plus! \n“There are a lot of benefits to NJM membership\, and the Sunday Group Run is right at the heart of what makes North Jersey Masters a great Club to be part of. It \nAll Ages\, All Abilities\, All Welcome!” \nMEET AT THE  2N PARKING LOT
URL:https://njmasters.com/event/group-run-304/2026-11-15/
LOCATION:Glen Rock Duck pond
CATEGORIES:Group Run
ATTACH;FMTTYPE=image/jpeg:https://njmasters.com/wp-content/uploads/2018/05/Spring-Formal.jpg
ORGANIZER;CN="North Jersey Masters":MAILTO:info@njmasters.com
END:VEVENT
BEGIN:VEVENT
DTSTART;TZID=America/New_York:20261117T180000
DTEND;TZID=America/New_York:20261117T193000
DTSTAMP:20260422T070456
CREATED:20260403T235744Z
LAST-MODIFIED:20260403T235744Z
UID:10002304-1794938400-1794943800@njmasters.com
SUMMARY:Tuesday Track Workout
DESCRIPTION:With Coach Joel: \nDetails will appear here weekly. \nWarmup \nWorkout \nCooldown
URL:https://njmasters.com/event/tuesday-track-workout-42/2026-11-17/
LOCATION:Ben Franklin Middle School\, 335 N Van Dien Ave\, Ridgewood\, NJ\, 07450\, United States
CATEGORIES:Workouts
ATTACH;FMTTYPE=image/jpeg:https://njmasters.com/wp-content/uploads/2022/03/55826962_3139472089412181_1185756619779080192_n.jpeg
ORGANIZER;CN="North Jersey Masters":MAILTO:info@njmasters.com
END:VEVENT
BEGIN:VEVENT
DTSTART;TZID=America/New_York:20261119T180000
DTEND;TZID=America/New_York:20261119T193000
DTSTAMP:20260422T070456
CREATED:20260414T002402Z
LAST-MODIFIED:20260414T002601Z
UID:10002374-1795111200-1795116600@njmasters.com
SUMMARY:Thursday Weekly Tempo Workout
DESCRIPTION:With Coach Joel: \n  \nUpdates will appear here weekly
URL:https://njmasters.com/event/thursday-weekly-tempo-workout-3/2026-11-19/
LOCATION:Dunkerhook Park\, Dunkerhook Rd.\, Paramus\, NJ\, 07652\, United States
CATEGORIES:Workouts
ATTACH;FMTTYPE=image/jpeg:https://njmasters.com/wp-content/uploads/2022/03/271597282_7509115862447760_1176948585121039041_n.jpeg
ORGANIZER;CN="North Jersey Masters":MAILTO:info@njmasters.com
END:VEVENT
BEGIN:VEVENT
DTSTART;TZID=America/New_York:20261121T080000
DTEND;TZID=America/New_York:20261121T100000
DTSTAMP:20260422T070456
CREATED:20260414T142932Z
LAST-MODIFIED:20260414T142932Z
UID:10002482-1795248000-1795255200@njmasters.com
SUMMARY:GROUP RUN - SOCIAL
DESCRIPTION:SATURDAY SOCIAL GROUP RUN EVENT: \nAnywhere from 3-6 miles. \nThe more the merrier! \nMeet in the second parking area by the pavilion. There will be several pace groups and a range of abilities within each. \nRemember: All ages\, all abilities\, all welcome!!
URL:https://njmasters.com/event/group-run-social/2026-11-21/
LOCATION:Glen Rock Duck pond
CATEGORIES:Group Run
ATTACH;FMTTYPE=image/jpeg:https://njmasters.com/wp-content/uploads/2018/08/Jan242018.jpg
ORGANIZER;CN="North Jersey Masters":MAILTO:info@njmasters.com
END:VEVENT
BEGIN:VEVENT
DTSTART;TZID=America/New_York:20261122T080000
DTEND;TZID=America/New_York:20261122T100000
DTSTAMP:20260422T070456
CREATED:20260414T144345Z
LAST-MODIFIED:20260414T144345Z
UID:10002519-1795334400-1795341600@njmasters.com
SUMMARY:GROUP RUN
DESCRIPTION:GLEN ROCK DUCK POND \nMembers run any distance up 14 miles plus! \n“There are a lot of benefits to NJM membership\, and the Sunday Group Run is right at the heart of what makes North Jersey Masters a great Club to be part of. It \nAll Ages\, All Abilities\, All Welcome!” \nMEET AT THE  2N PARKING LOT
URL:https://njmasters.com/event/group-run-304/2026-11-22/
LOCATION:Glen Rock Duck pond
CATEGORIES:Group Run
ATTACH;FMTTYPE=image/jpeg:https://njmasters.com/wp-content/uploads/2018/05/Spring-Formal.jpg
ORGANIZER;CN="North Jersey Masters":MAILTO:info@njmasters.com
END:VEVENT
BEGIN:VEVENT
DTSTART;TZID=America/New_York:20261124T180000
DTEND;TZID=America/New_York:20261124T193000
DTSTAMP:20260422T070456
CREATED:20260403T235503Z
LAST-MODIFIED:20260403T235503Z
UID:10002286-1795543200-1795548600@njmasters.com
SUMMARY:Tuesday Track Workout
DESCRIPTION:With Coach Paul: \nDetails will appear here weekly. \nWarmup \nWorkout \nCooldown
URL:https://njmasters.com/event/tuesday-track-workout-41/2026-11-24/
LOCATION:Ben Franklin Middle School\, 335 N Van Dien Ave\, Ridgewood\, NJ\, 07450\, United States
CATEGORIES:Workouts
ATTACH;FMTTYPE=image/jpeg:https://njmasters.com/wp-content/uploads/2022/03/55826962_3139472089412181_1185756619779080192_n.jpeg
ORGANIZER;CN="North Jersey Masters":MAILTO:info@njmasters.com
END:VEVENT
BEGIN:VEVENT
DTSTART;TZID=America/New_York:20261126T180000
DTEND;TZID=America/New_York:20261126T193000
DTSTAMP:20260422T070456
CREATED:20260414T001550Z
LAST-MODIFIED:20260414T001902Z
UID:10002341-1795716000-1795721400@njmasters.com
SUMMARY:Thursday Weekly Tempo Workout
DESCRIPTION:With Coach Paul: \n  \nWorkout will appear here  weekly.
URL:https://njmasters.com/event/thursday-weekly-tempo-workout-2/2026-11-26/
LOCATION:Dunkerhook Park\, Dunkerhook Rd.\, Paramus\, NJ\, 07652\, United States
CATEGORIES:Workouts
ATTACH;FMTTYPE=image/jpeg:https://njmasters.com/wp-content/uploads/2022/03/271597282_7509115862447760_1176948585121039041_n.jpeg
ORGANIZER;CN="North Jersey Masters":MAILTO:info@njmasters.com
END:VEVENT
BEGIN:VEVENT
DTSTART;TZID=America/New_York:20261128T080000
DTEND;TZID=America/New_York:20261128T100000
DTSTAMP:20260422T070456
CREATED:20260414T142932Z
LAST-MODIFIED:20260414T142932Z
UID:10002483-1795852800-1795860000@njmasters.com
SUMMARY:GROUP RUN - SOCIAL
DESCRIPTION:SATURDAY SOCIAL GROUP RUN EVENT: \nAnywhere from 3-6 miles. \nThe more the merrier! \nMeet in the second parking area by the pavilion. There will be several pace groups and a range of abilities within each. \nRemember: All ages\, all abilities\, all welcome!!
URL:https://njmasters.com/event/group-run-social/2026-11-28/
LOCATION:Glen Rock Duck pond
CATEGORIES:Group Run
ATTACH;FMTTYPE=image/jpeg:https://njmasters.com/wp-content/uploads/2018/08/Jan242018.jpg
ORGANIZER;CN="North Jersey Masters":MAILTO:info@njmasters.com
END:VEVENT
BEGIN:VEVENT
DTSTART;TZID=America/New_York:20261129T080000
DTEND;TZID=America/New_York:20261129T100000
DTSTAMP:20260422T070456
CREATED:20260414T144345Z
LAST-MODIFIED:20260414T144345Z
UID:10002520-1795939200-1795946400@njmasters.com
SUMMARY:GROUP RUN
DESCRIPTION:GLEN ROCK DUCK POND \nMembers run any distance up 14 miles plus! \n“There are a lot of benefits to NJM membership\, and the Sunday Group Run is right at the heart of what makes North Jersey Masters a great Club to be part of. It \nAll Ages\, All Abilities\, All Welcome!” \nMEET AT THE  2N PARKING LOT
URL:https://njmasters.com/event/group-run-304/2026-11-29/
LOCATION:Glen Rock Duck pond
CATEGORIES:Group Run
ATTACH;FMTTYPE=image/jpeg:https://njmasters.com/wp-content/uploads/2018/05/Spring-Formal.jpg
ORGANIZER;CN="North Jersey Masters":MAILTO:info@njmasters.com
END:VEVENT
BEGIN:VEVENT
DTSTART;TZID=America/New_York:20261201T180000
DTEND;TZID=America/New_York:20261201T193000
DTSTAMP:20260422T070456
CREATED:20260403T235744Z
LAST-MODIFIED:20260403T235744Z
UID:10002305-1796148000-1796153400@njmasters.com
SUMMARY:Tuesday Track Workout
DESCRIPTION:With Coach Joel: \nDetails will appear here weekly. \nWarmup \nWorkout \nCooldown
URL:https://njmasters.com/event/tuesday-track-workout-42/2026-12-01/
LOCATION:Ben Franklin Middle School\, 335 N Van Dien Ave\, Ridgewood\, NJ\, 07450\, United States
CATEGORIES:Workouts
ATTACH;FMTTYPE=image/jpeg:https://njmasters.com/wp-content/uploads/2022/03/55826962_3139472089412181_1185756619779080192_n.jpeg
ORGANIZER;CN="North Jersey Masters":MAILTO:info@njmasters.com
END:VEVENT
END:VCALENDAR