BEGIN:VCALENDAR
VERSION:2.0
PRODID:-//North Jersey Masters Running Club - ECPv6.15.18//NONSGML v1.0//EN
CALSCALE:GREGORIAN
METHOD:PUBLISH
X-ORIGINAL-URL:https://njmasters.com
X-WR-CALDESC:Events for North Jersey Masters Running Club
REFRESH-INTERVAL;VALUE=DURATION:PT1H
X-Robots-Tag:noindex
X-PUBLISHED-TTL:PT1H
BEGIN:VTIMEZONE
TZID:America/New_York
BEGIN:DAYLIGHT
TZOFFSETFROM:-0500
TZOFFSETTO:-0400
TZNAME:EDT
DTSTART:20250309T070000
END:DAYLIGHT
BEGIN:STANDARD
TZOFFSETFROM:-0400
TZOFFSETTO:-0500
TZNAME:EST
DTSTART:20251102T060000
END:STANDARD
BEGIN:DAYLIGHT
TZOFFSETFROM:-0500
TZOFFSETTO:-0400
TZNAME:EDT
DTSTART:20260308T070000
END:DAYLIGHT
BEGIN:STANDARD
TZOFFSETFROM:-0400
TZOFFSETTO:-0500
TZNAME:EST
DTSTART:20261101T060000
END:STANDARD
BEGIN:DAYLIGHT
TZOFFSETFROM:-0500
TZOFFSETTO:-0400
TZNAME:EDT
DTSTART:20270314T070000
END:DAYLIGHT
BEGIN:STANDARD
TZOFFSETFROM:-0400
TZOFFSETTO:-0500
TZNAME:EST
DTSTART:20271107T060000
END:STANDARD
END:VTIMEZONE
BEGIN:VEVENT
DTSTART;TZID=America/New_York:20260820T180000
DTEND;TZID=America/New_York:20260820T193000
DTSTAMP:20260422T013548
CREATED:20260414T001550Z
LAST-MODIFIED:20260414T001902Z
UID:10002327-1787248800-1787254200@njmasters.com
SUMMARY:Thursday Weekly Tempo Workout
DESCRIPTION:With Coach Paul: \n  \nWorkout will appear here  weekly.
URL:https://njmasters.com/event/thursday-weekly-tempo-workout-2/2026-08-20/
LOCATION:Dunkerhook Park\, Dunkerhook Rd.\, Paramus\, NJ\, 07652\, United States
CATEGORIES:Workouts
ATTACH;FMTTYPE=image/jpeg:https://njmasters.com/wp-content/uploads/2022/03/271597282_7509115862447760_1176948585121039041_n.jpeg
ORGANIZER;CN="North Jersey Masters":MAILTO:info@njmasters.com
END:VEVENT
BEGIN:VEVENT
DTSTART;TZID=America/New_York:20260822T080000
DTEND;TZID=America/New_York:20260822T100000
DTSTAMP:20260422T013548
CREATED:20260414T142932Z
LAST-MODIFIED:20260414T142932Z
UID:10002469-1787385600-1787392800@njmasters.com
SUMMARY:GROUP RUN - SOCIAL
DESCRIPTION:SATURDAY SOCIAL GROUP RUN EVENT: \nAnywhere from 3-6 miles. \nThe more the merrier! \nMeet in the second parking area by the pavilion. There will be several pace groups and a range of abilities within each. \nRemember: All ages\, all abilities\, all welcome!!
URL:https://njmasters.com/event/group-run-social/2026-08-22/
LOCATION:Glen Rock Duck pond
CATEGORIES:Group Run
ATTACH;FMTTYPE=image/jpeg:https://njmasters.com/wp-content/uploads/2018/08/Jan242018.jpg
ORGANIZER;CN="North Jersey Masters":MAILTO:info@njmasters.com
END:VEVENT
BEGIN:VEVENT
DTSTART;TZID=America/New_York:20260823T080000
DTEND;TZID=America/New_York:20260823T100000
DTSTAMP:20260422T013548
CREATED:20260414T144345Z
LAST-MODIFIED:20260414T144345Z
UID:10002506-1787472000-1787479200@njmasters.com
SUMMARY:GROUP RUN
DESCRIPTION:GLEN ROCK DUCK POND \nMembers run any distance up 14 miles plus! \n“There are a lot of benefits to NJM membership\, and the Sunday Group Run is right at the heart of what makes North Jersey Masters a great Club to be part of. It \nAll Ages\, All Abilities\, All Welcome!” \nMEET AT THE  2N PARKING LOT
URL:https://njmasters.com/event/group-run-304/2026-08-23/
LOCATION:Glen Rock Duck pond
CATEGORIES:Group Run
ATTACH;FMTTYPE=image/jpeg:https://njmasters.com/wp-content/uploads/2018/05/Spring-Formal.jpg
ORGANIZER;CN="North Jersey Masters":MAILTO:info@njmasters.com
END:VEVENT
BEGIN:VEVENT
DTSTART;TZID=America/New_York:20260825T180000
DTEND;TZID=America/New_York:20260825T193000
DTSTAMP:20260422T013548
CREATED:20260403T235744Z
LAST-MODIFIED:20260403T235744Z
UID:10002298-1787680800-1787686200@njmasters.com
SUMMARY:Tuesday Track Workout
DESCRIPTION:With Coach Joel: \nDetails will appear here weekly. \nWarmup \nWorkout \nCooldown
URL:https://njmasters.com/event/tuesday-track-workout-42/2026-08-25/
LOCATION:Ben Franklin Middle School\, 335 N Van Dien Ave\, Ridgewood\, NJ\, 07450\, United States
CATEGORIES:Workouts
ATTACH;FMTTYPE=image/jpeg:https://njmasters.com/wp-content/uploads/2022/03/55826962_3139472089412181_1185756619779080192_n.jpeg
ORGANIZER;CN="North Jersey Masters":MAILTO:info@njmasters.com
END:VEVENT
BEGIN:VEVENT
DTSTART;TZID=America/New_York:20260827T180000
DTEND;TZID=America/New_York:20260827T193000
DTSTAMP:20260422T013548
CREATED:20260414T002402Z
LAST-MODIFIED:20260414T002601Z
UID:10002362-1787853600-1787859000@njmasters.com
SUMMARY:Thursday Weekly Tempo Workout
DESCRIPTION:With Coach Joel: \n  \nUpdates will appear here weekly
URL:https://njmasters.com/event/thursday-weekly-tempo-workout-3/2026-08-27/
LOCATION:Dunkerhook Park\, Dunkerhook Rd.\, Paramus\, NJ\, 07652\, United States
CATEGORIES:Workouts
ATTACH;FMTTYPE=image/jpeg:https://njmasters.com/wp-content/uploads/2022/03/271597282_7509115862447760_1176948585121039041_n.jpeg
ORGANIZER;CN="North Jersey Masters":MAILTO:info@njmasters.com
END:VEVENT
BEGIN:VEVENT
DTSTART;TZID=America/New_York:20260829T080000
DTEND;TZID=America/New_York:20260829T100000
DTSTAMP:20260422T013548
CREATED:20260414T142932Z
LAST-MODIFIED:20260414T142932Z
UID:10002470-1787990400-1787997600@njmasters.com
SUMMARY:GROUP RUN - SOCIAL
DESCRIPTION:SATURDAY SOCIAL GROUP RUN EVENT: \nAnywhere from 3-6 miles. \nThe more the merrier! \nMeet in the second parking area by the pavilion. There will be several pace groups and a range of abilities within each. \nRemember: All ages\, all abilities\, all welcome!!
URL:https://njmasters.com/event/group-run-social/2026-08-29/
LOCATION:Glen Rock Duck pond
CATEGORIES:Group Run
ATTACH;FMTTYPE=image/jpeg:https://njmasters.com/wp-content/uploads/2018/08/Jan242018.jpg
ORGANIZER;CN="North Jersey Masters":MAILTO:info@njmasters.com
END:VEVENT
BEGIN:VEVENT
DTSTART;TZID=America/New_York:20260830T080000
DTEND;TZID=America/New_York:20260830T100000
DTSTAMP:20260422T013548
CREATED:20260414T144345Z
LAST-MODIFIED:20260414T144345Z
UID:10002507-1788076800-1788084000@njmasters.com
SUMMARY:GROUP RUN
DESCRIPTION:GLEN ROCK DUCK POND \nMembers run any distance up 14 miles plus! \n“There are a lot of benefits to NJM membership\, and the Sunday Group Run is right at the heart of what makes North Jersey Masters a great Club to be part of. It \nAll Ages\, All Abilities\, All Welcome!” \nMEET AT THE  2N PARKING LOT
URL:https://njmasters.com/event/group-run-304/2026-08-30/
LOCATION:Glen Rock Duck pond
CATEGORIES:Group Run
ATTACH;FMTTYPE=image/jpeg:https://njmasters.com/wp-content/uploads/2018/05/Spring-Formal.jpg
ORGANIZER;CN="North Jersey Masters":MAILTO:info@njmasters.com
END:VEVENT
BEGIN:VEVENT
DTSTART;TZID=America/New_York:20260901T180000
DTEND;TZID=America/New_York:20260901T193000
DTSTAMP:20260422T013548
CREATED:20260403T235503Z
LAST-MODIFIED:20260403T235503Z
UID:10002280-1788285600-1788291000@njmasters.com
SUMMARY:Tuesday Track Workout
DESCRIPTION:With Coach Paul: \nDetails will appear here weekly. \nWarmup \nWorkout \nCooldown
URL:https://njmasters.com/event/tuesday-track-workout-41/2026-09-01/
LOCATION:Ben Franklin Middle School\, 335 N Van Dien Ave\, Ridgewood\, NJ\, 07450\, United States
CATEGORIES:Workouts
ATTACH;FMTTYPE=image/jpeg:https://njmasters.com/wp-content/uploads/2022/03/55826962_3139472089412181_1185756619779080192_n.jpeg
ORGANIZER;CN="North Jersey Masters":MAILTO:info@njmasters.com
END:VEVENT
BEGIN:VEVENT
DTSTART;TZID=America/New_York:20260903T180000
DTEND;TZID=America/New_York:20260903T193000
DTSTAMP:20260422T013548
CREATED:20260414T001550Z
LAST-MODIFIED:20260414T001902Z
UID:10002329-1788458400-1788463800@njmasters.com
SUMMARY:Thursday Weekly Tempo Workout
DESCRIPTION:With Coach Paul: \n  \nWorkout will appear here  weekly.
URL:https://njmasters.com/event/thursday-weekly-tempo-workout-2/2026-09-03/
LOCATION:Dunkerhook Park\, Dunkerhook Rd.\, Paramus\, NJ\, 07652\, United States
CATEGORIES:Workouts
ATTACH;FMTTYPE=image/jpeg:https://njmasters.com/wp-content/uploads/2022/03/271597282_7509115862447760_1176948585121039041_n.jpeg
ORGANIZER;CN="North Jersey Masters":MAILTO:info@njmasters.com
END:VEVENT
BEGIN:VEVENT
DTSTART;TZID=America/New_York:20260905T080000
DTEND;TZID=America/New_York:20260905T100000
DTSTAMP:20260422T013548
CREATED:20260414T142932Z
LAST-MODIFIED:20260414T142932Z
UID:10002471-1788595200-1788602400@njmasters.com
SUMMARY:GROUP RUN - SOCIAL
DESCRIPTION:SATURDAY SOCIAL GROUP RUN EVENT: \nAnywhere from 3-6 miles. \nThe more the merrier! \nMeet in the second parking area by the pavilion. There will be several pace groups and a range of abilities within each. \nRemember: All ages\, all abilities\, all welcome!!
URL:https://njmasters.com/event/group-run-social/2026-09-05/
LOCATION:Glen Rock Duck pond
CATEGORIES:Group Run
ATTACH;FMTTYPE=image/jpeg:https://njmasters.com/wp-content/uploads/2018/08/Jan242018.jpg
ORGANIZER;CN="North Jersey Masters":MAILTO:info@njmasters.com
END:VEVENT
BEGIN:VEVENT
DTSTART;TZID=America/New_York:20260906T080000
DTEND;TZID=America/New_York:20260906T100000
DTSTAMP:20260422T013548
CREATED:20260414T144345Z
LAST-MODIFIED:20260414T144345Z
UID:10002508-1788681600-1788688800@njmasters.com
SUMMARY:GROUP RUN
DESCRIPTION:GLEN ROCK DUCK POND \nMembers run any distance up 14 miles plus! \n“There are a lot of benefits to NJM membership\, and the Sunday Group Run is right at the heart of what makes North Jersey Masters a great Club to be part of. It \nAll Ages\, All Abilities\, All Welcome!” \nMEET AT THE  2N PARKING LOT
URL:https://njmasters.com/event/group-run-304/2026-09-06/
LOCATION:Glen Rock Duck pond
CATEGORIES:Group Run
ATTACH;FMTTYPE=image/jpeg:https://njmasters.com/wp-content/uploads/2018/05/Spring-Formal.jpg
ORGANIZER;CN="North Jersey Masters":MAILTO:info@njmasters.com
END:VEVENT
BEGIN:VEVENT
DTSTART;TZID=America/New_York:20260908T180000
DTEND;TZID=America/New_York:20260908T193000
DTSTAMP:20260422T013548
CREATED:20260403T235744Z
LAST-MODIFIED:20260403T235744Z
UID:10002299-1788890400-1788895800@njmasters.com
SUMMARY:Tuesday Track Workout
DESCRIPTION:With Coach Joel: \nDetails will appear here weekly. \nWarmup \nWorkout \nCooldown
URL:https://njmasters.com/event/tuesday-track-workout-42/2026-09-08/
LOCATION:Ben Franklin Middle School\, 335 N Van Dien Ave\, Ridgewood\, NJ\, 07450\, United States
CATEGORIES:Workouts
ATTACH;FMTTYPE=image/jpeg:https://njmasters.com/wp-content/uploads/2022/03/55826962_3139472089412181_1185756619779080192_n.jpeg
ORGANIZER;CN="North Jersey Masters":MAILTO:info@njmasters.com
END:VEVENT
BEGIN:VEVENT
DTSTART;TZID=America/New_York:20260910T180000
DTEND;TZID=America/New_York:20260910T193000
DTSTAMP:20260422T013548
CREATED:20260414T002402Z
LAST-MODIFIED:20260414T002601Z
UID:10002364-1789063200-1789068600@njmasters.com
SUMMARY:Thursday Weekly Tempo Workout
DESCRIPTION:With Coach Joel: \n  \nUpdates will appear here weekly
URL:https://njmasters.com/event/thursday-weekly-tempo-workout-3/2026-09-10/
LOCATION:Dunkerhook Park\, Dunkerhook Rd.\, Paramus\, NJ\, 07652\, United States
CATEGORIES:Workouts
ATTACH;FMTTYPE=image/jpeg:https://njmasters.com/wp-content/uploads/2022/03/271597282_7509115862447760_1176948585121039041_n.jpeg
ORGANIZER;CN="North Jersey Masters":MAILTO:info@njmasters.com
END:VEVENT
BEGIN:VEVENT
DTSTART;TZID=America/New_York:20260912T080000
DTEND;TZID=America/New_York:20260912T100000
DTSTAMP:20260422T013548
CREATED:20260414T142932Z
LAST-MODIFIED:20260414T142932Z
UID:10002472-1789200000-1789207200@njmasters.com
SUMMARY:GROUP RUN - SOCIAL
DESCRIPTION:SATURDAY SOCIAL GROUP RUN EVENT: \nAnywhere from 3-6 miles. \nThe more the merrier! \nMeet in the second parking area by the pavilion. There will be several pace groups and a range of abilities within each. \nRemember: All ages\, all abilities\, all welcome!!
URL:https://njmasters.com/event/group-run-social/2026-09-12/
LOCATION:Glen Rock Duck pond
CATEGORIES:Group Run
ATTACH;FMTTYPE=image/jpeg:https://njmasters.com/wp-content/uploads/2018/08/Jan242018.jpg
ORGANIZER;CN="North Jersey Masters":MAILTO:info@njmasters.com
END:VEVENT
BEGIN:VEVENT
DTSTART;TZID=America/New_York:20260913T080000
DTEND;TZID=America/New_York:20260913T100000
DTSTAMP:20260422T013548
CREATED:20260414T144345Z
LAST-MODIFIED:20260414T144345Z
UID:10002509-1789286400-1789293600@njmasters.com
SUMMARY:GROUP RUN
DESCRIPTION:GLEN ROCK DUCK POND \nMembers run any distance up 14 miles plus! \n“There are a lot of benefits to NJM membership\, and the Sunday Group Run is right at the heart of what makes North Jersey Masters a great Club to be part of. It \nAll Ages\, All Abilities\, All Welcome!” \nMEET AT THE  2N PARKING LOT
URL:https://njmasters.com/event/group-run-304/2026-09-13/
LOCATION:Glen Rock Duck pond
CATEGORIES:Group Run
ATTACH;FMTTYPE=image/jpeg:https://njmasters.com/wp-content/uploads/2018/05/Spring-Formal.jpg
ORGANIZER;CN="North Jersey Masters":MAILTO:info@njmasters.com
END:VEVENT
BEGIN:VEVENT
DTSTART;TZID=America/New_York:20260915T180000
DTEND;TZID=America/New_York:20260915T193000
DTSTAMP:20260422T013548
CREATED:20260403T235503Z
LAST-MODIFIED:20260403T235503Z
UID:10002281-1789495200-1789500600@njmasters.com
SUMMARY:Tuesday Track Workout
DESCRIPTION:With Coach Paul: \nDetails will appear here weekly. \nWarmup \nWorkout \nCooldown
URL:https://njmasters.com/event/tuesday-track-workout-41/2026-09-15/
LOCATION:Ben Franklin Middle School\, 335 N Van Dien Ave\, Ridgewood\, NJ\, 07450\, United States
CATEGORIES:Workouts
ATTACH;FMTTYPE=image/jpeg:https://njmasters.com/wp-content/uploads/2022/03/55826962_3139472089412181_1185756619779080192_n.jpeg
ORGANIZER;CN="North Jersey Masters":MAILTO:info@njmasters.com
END:VEVENT
BEGIN:VEVENT
DTSTART;TZID=America/New_York:20260917T180000
DTEND;TZID=America/New_York:20260917T193000
DTSTAMP:20260422T013548
CREATED:20260414T001550Z
LAST-MODIFIED:20260414T001902Z
UID:10002331-1789668000-1789673400@njmasters.com
SUMMARY:Thursday Weekly Tempo Workout
DESCRIPTION:With Coach Paul: \n  \nWorkout will appear here  weekly.
URL:https://njmasters.com/event/thursday-weekly-tempo-workout-2/2026-09-17/
LOCATION:Dunkerhook Park\, Dunkerhook Rd.\, Paramus\, NJ\, 07652\, United States
CATEGORIES:Workouts
ATTACH;FMTTYPE=image/jpeg:https://njmasters.com/wp-content/uploads/2022/03/271597282_7509115862447760_1176948585121039041_n.jpeg
ORGANIZER;CN="North Jersey Masters":MAILTO:info@njmasters.com
END:VEVENT
BEGIN:VEVENT
DTSTART;TZID=America/New_York:20260919T080000
DTEND;TZID=America/New_York:20260919T100000
DTSTAMP:20260422T013548
CREATED:20260414T142932Z
LAST-MODIFIED:20260414T142932Z
UID:10002473-1789804800-1789812000@njmasters.com
SUMMARY:GROUP RUN - SOCIAL
DESCRIPTION:SATURDAY SOCIAL GROUP RUN EVENT: \nAnywhere from 3-6 miles. \nThe more the merrier! \nMeet in the second parking area by the pavilion. There will be several pace groups and a range of abilities within each. \nRemember: All ages\, all abilities\, all welcome!!
URL:https://njmasters.com/event/group-run-social/2026-09-19/
LOCATION:Glen Rock Duck pond
CATEGORIES:Group Run
ATTACH;FMTTYPE=image/jpeg:https://njmasters.com/wp-content/uploads/2018/08/Jan242018.jpg
ORGANIZER;CN="North Jersey Masters":MAILTO:info@njmasters.com
END:VEVENT
BEGIN:VEVENT
DTSTART;TZID=America/New_York:20260920T080000
DTEND;TZID=America/New_York:20260920T100000
DTSTAMP:20260422T013548
CREATED:20260414T144345Z
LAST-MODIFIED:20260414T144345Z
UID:10002510-1789891200-1789898400@njmasters.com
SUMMARY:GROUP RUN
DESCRIPTION:GLEN ROCK DUCK POND \nMembers run any distance up 14 miles plus! \n“There are a lot of benefits to NJM membership\, and the Sunday Group Run is right at the heart of what makes North Jersey Masters a great Club to be part of. It \nAll Ages\, All Abilities\, All Welcome!” \nMEET AT THE  2N PARKING LOT
URL:https://njmasters.com/event/group-run-304/2026-09-20/
LOCATION:Glen Rock Duck pond
CATEGORIES:Group Run
ATTACH;FMTTYPE=image/jpeg:https://njmasters.com/wp-content/uploads/2018/05/Spring-Formal.jpg
ORGANIZER;CN="North Jersey Masters":MAILTO:info@njmasters.com
END:VEVENT
BEGIN:VEVENT
DTSTART;TZID=America/New_York:20260922T180000
DTEND;TZID=America/New_York:20260922T193000
DTSTAMP:20260422T013548
CREATED:20260403T235744Z
LAST-MODIFIED:20260403T235744Z
UID:10002300-1790100000-1790105400@njmasters.com
SUMMARY:Tuesday Track Workout
DESCRIPTION:With Coach Joel: \nDetails will appear here weekly. \nWarmup \nWorkout \nCooldown
URL:https://njmasters.com/event/tuesday-track-workout-42/2026-09-22/
LOCATION:Ben Franklin Middle School\, 335 N Van Dien Ave\, Ridgewood\, NJ\, 07450\, United States
CATEGORIES:Workouts
ATTACH;FMTTYPE=image/jpeg:https://njmasters.com/wp-content/uploads/2022/03/55826962_3139472089412181_1185756619779080192_n.jpeg
ORGANIZER;CN="North Jersey Masters":MAILTO:info@njmasters.com
END:VEVENT
BEGIN:VEVENT
DTSTART;TZID=America/New_York:20260924T180000
DTEND;TZID=America/New_York:20260924T193000
DTSTAMP:20260422T013548
CREATED:20260414T002402Z
LAST-MODIFIED:20260414T002601Z
UID:10002366-1790272800-1790278200@njmasters.com
SUMMARY:Thursday Weekly Tempo Workout
DESCRIPTION:With Coach Joel: \n  \nUpdates will appear here weekly
URL:https://njmasters.com/event/thursday-weekly-tempo-workout-3/2026-09-24/
LOCATION:Dunkerhook Park\, Dunkerhook Rd.\, Paramus\, NJ\, 07652\, United States
CATEGORIES:Workouts
ATTACH;FMTTYPE=image/jpeg:https://njmasters.com/wp-content/uploads/2022/03/271597282_7509115862447760_1176948585121039041_n.jpeg
ORGANIZER;CN="North Jersey Masters":MAILTO:info@njmasters.com
END:VEVENT
BEGIN:VEVENT
DTSTART;TZID=America/New_York:20260926T080000
DTEND;TZID=America/New_York:20260926T100000
DTSTAMP:20260422T013548
CREATED:20260414T142932Z
LAST-MODIFIED:20260414T142932Z
UID:10002474-1790409600-1790416800@njmasters.com
SUMMARY:GROUP RUN - SOCIAL
DESCRIPTION:SATURDAY SOCIAL GROUP RUN EVENT: \nAnywhere from 3-6 miles. \nThe more the merrier! \nMeet in the second parking area by the pavilion. There will be several pace groups and a range of abilities within each. \nRemember: All ages\, all abilities\, all welcome!!
URL:https://njmasters.com/event/group-run-social/2026-09-26/
LOCATION:Glen Rock Duck pond
CATEGORIES:Group Run
ATTACH;FMTTYPE=image/jpeg:https://njmasters.com/wp-content/uploads/2018/08/Jan242018.jpg
ORGANIZER;CN="North Jersey Masters":MAILTO:info@njmasters.com
END:VEVENT
BEGIN:VEVENT
DTSTART;TZID=America/New_York:20260927T080000
DTEND;TZID=America/New_York:20260927T100000
DTSTAMP:20260422T013548
CREATED:20260414T144345Z
LAST-MODIFIED:20260414T144345Z
UID:10002511-1790496000-1790503200@njmasters.com
SUMMARY:GROUP RUN
DESCRIPTION:GLEN ROCK DUCK POND \nMembers run any distance up 14 miles plus! \n“There are a lot of benefits to NJM membership\, and the Sunday Group Run is right at the heart of what makes North Jersey Masters a great Club to be part of. It \nAll Ages\, All Abilities\, All Welcome!” \nMEET AT THE  2N PARKING LOT
URL:https://njmasters.com/event/group-run-304/2026-09-27/
LOCATION:Glen Rock Duck pond
CATEGORIES:Group Run
ATTACH;FMTTYPE=image/jpeg:https://njmasters.com/wp-content/uploads/2018/05/Spring-Formal.jpg
ORGANIZER;CN="North Jersey Masters":MAILTO:info@njmasters.com
END:VEVENT
BEGIN:VEVENT
DTSTART;TZID=America/New_York:20260929T180000
DTEND;TZID=America/New_York:20260929T193000
DTSTAMP:20260422T013548
CREATED:20260403T235503Z
LAST-MODIFIED:20260403T235503Z
UID:10002282-1790704800-1790710200@njmasters.com
SUMMARY:Tuesday Track Workout
DESCRIPTION:With Coach Paul: \nDetails will appear here weekly. \nWarmup \nWorkout \nCooldown
URL:https://njmasters.com/event/tuesday-track-workout-41/2026-09-29/
LOCATION:Ben Franklin Middle School\, 335 N Van Dien Ave\, Ridgewood\, NJ\, 07450\, United States
CATEGORIES:Workouts
ATTACH;FMTTYPE=image/jpeg:https://njmasters.com/wp-content/uploads/2022/03/55826962_3139472089412181_1185756619779080192_n.jpeg
ORGANIZER;CN="North Jersey Masters":MAILTO:info@njmasters.com
END:VEVENT
BEGIN:VEVENT
DTSTART;TZID=America/New_York:20261001T180000
DTEND;TZID=America/New_York:20261001T193000
DTSTAMP:20260422T013548
CREATED:20260414T001550Z
LAST-MODIFIED:20260414T001902Z
UID:10002333-1790877600-1790883000@njmasters.com
SUMMARY:Thursday Weekly Tempo Workout
DESCRIPTION:With Coach Paul: \n  \nWorkout will appear here  weekly.
URL:https://njmasters.com/event/thursday-weekly-tempo-workout-2/2026-10-01/
LOCATION:Dunkerhook Park\, Dunkerhook Rd.\, Paramus\, NJ\, 07652\, United States
CATEGORIES:Workouts
ATTACH;FMTTYPE=image/jpeg:https://njmasters.com/wp-content/uploads/2022/03/271597282_7509115862447760_1176948585121039041_n.jpeg
ORGANIZER;CN="North Jersey Masters":MAILTO:info@njmasters.com
END:VEVENT
BEGIN:VEVENT
DTSTART;TZID=America/New_York:20261003T080000
DTEND;TZID=America/New_York:20261003T100000
DTSTAMP:20260422T013548
CREATED:20260414T142932Z
LAST-MODIFIED:20260414T142932Z
UID:10002475-1791014400-1791021600@njmasters.com
SUMMARY:GROUP RUN - SOCIAL
DESCRIPTION:SATURDAY SOCIAL GROUP RUN EVENT: \nAnywhere from 3-6 miles. \nThe more the merrier! \nMeet in the second parking area by the pavilion. There will be several pace groups and a range of abilities within each. \nRemember: All ages\, all abilities\, all welcome!!
URL:https://njmasters.com/event/group-run-social/2026-10-03/
LOCATION:Glen Rock Duck pond
CATEGORIES:Group Run
ATTACH;FMTTYPE=image/jpeg:https://njmasters.com/wp-content/uploads/2018/08/Jan242018.jpg
ORGANIZER;CN="North Jersey Masters":MAILTO:info@njmasters.com
END:VEVENT
BEGIN:VEVENT
DTSTART;TZID=America/New_York:20261004T080000
DTEND;TZID=America/New_York:20261004T100000
DTSTAMP:20260422T013548
CREATED:20260414T144345Z
LAST-MODIFIED:20260414T144345Z
UID:10002512-1791100800-1791108000@njmasters.com
SUMMARY:GROUP RUN
DESCRIPTION:GLEN ROCK DUCK POND \nMembers run any distance up 14 miles plus! \n“There are a lot of benefits to NJM membership\, and the Sunday Group Run is right at the heart of what makes North Jersey Masters a great Club to be part of. It \nAll Ages\, All Abilities\, All Welcome!” \nMEET AT THE  2N PARKING LOT
URL:https://njmasters.com/event/group-run-304/2026-10-04/
LOCATION:Glen Rock Duck pond
CATEGORIES:Group Run
ATTACH;FMTTYPE=image/jpeg:https://njmasters.com/wp-content/uploads/2018/05/Spring-Formal.jpg
ORGANIZER;CN="North Jersey Masters":MAILTO:info@njmasters.com
END:VEVENT
BEGIN:VEVENT
DTSTART;TZID=America/New_York:20261006T180000
DTEND;TZID=America/New_York:20261006T193000
DTSTAMP:20260422T013548
CREATED:20260403T235744Z
LAST-MODIFIED:20260403T235744Z
UID:10002301-1791309600-1791315000@njmasters.com
SUMMARY:Tuesday Track Workout
DESCRIPTION:With Coach Joel: \nDetails will appear here weekly. \nWarmup \nWorkout \nCooldown
URL:https://njmasters.com/event/tuesday-track-workout-42/2026-10-06/
LOCATION:Ben Franklin Middle School\, 335 N Van Dien Ave\, Ridgewood\, NJ\, 07450\, United States
CATEGORIES:Workouts
ATTACH;FMTTYPE=image/jpeg:https://njmasters.com/wp-content/uploads/2022/03/55826962_3139472089412181_1185756619779080192_n.jpeg
ORGANIZER;CN="North Jersey Masters":MAILTO:info@njmasters.com
END:VEVENT
BEGIN:VEVENT
DTSTART;TZID=America/New_York:20261008T180000
DTEND;TZID=America/New_York:20261008T193000
DTSTAMP:20260422T013548
CREATED:20260414T002402Z
LAST-MODIFIED:20260414T002601Z
UID:10002368-1791482400-1791487800@njmasters.com
SUMMARY:Thursday Weekly Tempo Workout
DESCRIPTION:With Coach Joel: \n  \nUpdates will appear here weekly
URL:https://njmasters.com/event/thursday-weekly-tempo-workout-3/2026-10-08/
LOCATION:Dunkerhook Park\, Dunkerhook Rd.\, Paramus\, NJ\, 07652\, United States
CATEGORIES:Workouts
ATTACH;FMTTYPE=image/jpeg:https://njmasters.com/wp-content/uploads/2022/03/271597282_7509115862447760_1176948585121039041_n.jpeg
ORGANIZER;CN="North Jersey Masters":MAILTO:info@njmasters.com
END:VEVENT
BEGIN:VEVENT
DTSTART;TZID=America/New_York:20261010T080000
DTEND;TZID=America/New_York:20261010T100000
DTSTAMP:20260422T013548
CREATED:20260414T142932Z
LAST-MODIFIED:20260414T142932Z
UID:10002476-1791619200-1791626400@njmasters.com
SUMMARY:GROUP RUN - SOCIAL
DESCRIPTION:SATURDAY SOCIAL GROUP RUN EVENT: \nAnywhere from 3-6 miles. \nThe more the merrier! \nMeet in the second parking area by the pavilion. There will be several pace groups and a range of abilities within each. \nRemember: All ages\, all abilities\, all welcome!!
URL:https://njmasters.com/event/group-run-social/2026-10-10/
LOCATION:Glen Rock Duck pond
CATEGORIES:Group Run
ATTACH;FMTTYPE=image/jpeg:https://njmasters.com/wp-content/uploads/2018/08/Jan242018.jpg
ORGANIZER;CN="North Jersey Masters":MAILTO:info@njmasters.com
END:VEVENT
END:VCALENDAR