BEGIN:VCALENDAR
VERSION:2.0
PRODID:-//North Jersey Masters Running Club - ECPv6.15.18//NONSGML v1.0//EN
CALSCALE:GREGORIAN
METHOD:PUBLISH
X-WR-CALNAME:North Jersey Masters Running Club
X-ORIGINAL-URL:https://njmasters.com
X-WR-CALDESC:Events for North Jersey Masters Running Club
REFRESH-INTERVAL;VALUE=DURATION:PT1H
X-Robots-Tag:noindex
X-PUBLISHED-TTL:PT1H
BEGIN:VTIMEZONE
TZID:America/New_York
BEGIN:DAYLIGHT
TZOFFSETFROM:-0500
TZOFFSETTO:-0400
TZNAME:EDT
DTSTART:20250309T070000
END:DAYLIGHT
BEGIN:STANDARD
TZOFFSETFROM:-0400
TZOFFSETTO:-0500
TZNAME:EST
DTSTART:20251102T060000
END:STANDARD
BEGIN:DAYLIGHT
TZOFFSETFROM:-0500
TZOFFSETTO:-0400
TZNAME:EDT
DTSTART:20260308T070000
END:DAYLIGHT
BEGIN:STANDARD
TZOFFSETFROM:-0400
TZOFFSETTO:-0500
TZNAME:EST
DTSTART:20261101T060000
END:STANDARD
BEGIN:DAYLIGHT
TZOFFSETFROM:-0500
TZOFFSETTO:-0400
TZNAME:EDT
DTSTART:20270314T070000
END:DAYLIGHT
BEGIN:STANDARD
TZOFFSETFROM:-0400
TZOFFSETTO:-0500
TZNAME:EST
DTSTART:20271107T060000
END:STANDARD
END:VTIMEZONE
BEGIN:VEVENT
DTSTART;TZID=America/New_York:20260709T180000
DTEND;TZID=America/New_York:20260709T193000
DTSTAMP:20260424T221627
CREATED:20260414T001550Z
LAST-MODIFIED:20260414T001902Z
UID:10002321-1783620000-1783625400@njmasters.com
SUMMARY:Thursday Weekly Tempo Workout
DESCRIPTION:With Coach Paul: \n  \nWorkout will appear here  weekly.
URL:https://njmasters.com/event/thursday-weekly-tempo-workout-2/2026-07-09/
LOCATION:Dunkerhook Park\, Dunkerhook Rd.\, Paramus\, NJ\, 07652\, United States
CATEGORIES:Workouts
ATTACH;FMTTYPE=image/jpeg:https://njmasters.com/wp-content/uploads/2022/03/271597282_7509115862447760_1176948585121039041_n.jpeg
ORGANIZER;CN="North Jersey Masters":MAILTO:info@njmasters.com
END:VEVENT
BEGIN:VEVENT
DTSTART;TZID=America/New_York:20260716T180000
DTEND;TZID=America/New_York:20260716T193000
DTSTAMP:20260424T221627
CREATED:20260414T002402Z
LAST-MODIFIED:20260414T002601Z
UID:10002356-1784224800-1784230200@njmasters.com
SUMMARY:Thursday Weekly Tempo Workout
DESCRIPTION:With Coach Joel: \n  \nUpdates will appear here weekly
URL:https://njmasters.com/event/thursday-weekly-tempo-workout-3/2026-07-16/
LOCATION:Dunkerhook Park\, Dunkerhook Rd.\, Paramus\, NJ\, 07652\, United States
CATEGORIES:Workouts
ATTACH;FMTTYPE=image/jpeg:https://njmasters.com/wp-content/uploads/2022/03/271597282_7509115862447760_1176948585121039041_n.jpeg
ORGANIZER;CN="North Jersey Masters":MAILTO:info@njmasters.com
END:VEVENT
BEGIN:VEVENT
DTSTART;TZID=America/New_York:20260723T180000
DTEND;TZID=America/New_York:20260723T193000
DTSTAMP:20260424T221627
CREATED:20260414T001550Z
LAST-MODIFIED:20260414T001902Z
UID:10002323-1784829600-1784835000@njmasters.com
SUMMARY:Thursday Weekly Tempo Workout
DESCRIPTION:With Coach Paul: \n  \nWorkout will appear here  weekly.
URL:https://njmasters.com/event/thursday-weekly-tempo-workout-2/2026-07-23/
LOCATION:Dunkerhook Park\, Dunkerhook Rd.\, Paramus\, NJ\, 07652\, United States
CATEGORIES:Workouts
ATTACH;FMTTYPE=image/jpeg:https://njmasters.com/wp-content/uploads/2022/03/271597282_7509115862447760_1176948585121039041_n.jpeg
ORGANIZER;CN="North Jersey Masters":MAILTO:info@njmasters.com
END:VEVENT
BEGIN:VEVENT
DTSTART;TZID=America/New_York:20260730T180000
DTEND;TZID=America/New_York:20260730T193000
DTSTAMP:20260424T221627
CREATED:20260414T002402Z
LAST-MODIFIED:20260414T002601Z
UID:10002358-1785434400-1785439800@njmasters.com
SUMMARY:Thursday Weekly Tempo Workout
DESCRIPTION:With Coach Joel: \n  \nUpdates will appear here weekly
URL:https://njmasters.com/event/thursday-weekly-tempo-workout-3/2026-07-30/
LOCATION:Dunkerhook Park\, Dunkerhook Rd.\, Paramus\, NJ\, 07652\, United States
CATEGORIES:Workouts
ATTACH;FMTTYPE=image/jpeg:https://njmasters.com/wp-content/uploads/2022/03/271597282_7509115862447760_1176948585121039041_n.jpeg
ORGANIZER;CN="North Jersey Masters":MAILTO:info@njmasters.com
END:VEVENT
BEGIN:VEVENT
DTSTART;TZID=America/New_York:20260806T180000
DTEND;TZID=America/New_York:20260806T193000
DTSTAMP:20260424T221627
CREATED:20260414T001550Z
LAST-MODIFIED:20260414T001902Z
UID:10002325-1786039200-1786044600@njmasters.com
SUMMARY:Thursday Weekly Tempo Workout
DESCRIPTION:With Coach Paul: \n  \nWorkout will appear here  weekly.
URL:https://njmasters.com/event/thursday-weekly-tempo-workout-2/2026-08-06/
LOCATION:Dunkerhook Park\, Dunkerhook Rd.\, Paramus\, NJ\, 07652\, United States
CATEGORIES:Workouts
ATTACH;FMTTYPE=image/jpeg:https://njmasters.com/wp-content/uploads/2022/03/271597282_7509115862447760_1176948585121039041_n.jpeg
ORGANIZER;CN="North Jersey Masters":MAILTO:info@njmasters.com
END:VEVENT
BEGIN:VEVENT
DTSTART;TZID=America/New_York:20260813T180000
DTEND;TZID=America/New_York:20260813T193000
DTSTAMP:20260424T221627
CREATED:20260414T002402Z
LAST-MODIFIED:20260414T002601Z
UID:10002360-1786644000-1786649400@njmasters.com
SUMMARY:Thursday Weekly Tempo Workout
DESCRIPTION:With Coach Joel: \n  \nUpdates will appear here weekly
URL:https://njmasters.com/event/thursday-weekly-tempo-workout-3/2026-08-13/
LOCATION:Dunkerhook Park\, Dunkerhook Rd.\, Paramus\, NJ\, 07652\, United States
CATEGORIES:Workouts
ATTACH;FMTTYPE=image/jpeg:https://njmasters.com/wp-content/uploads/2022/03/271597282_7509115862447760_1176948585121039041_n.jpeg
ORGANIZER;CN="North Jersey Masters":MAILTO:info@njmasters.com
END:VEVENT
BEGIN:VEVENT
DTSTART;TZID=America/New_York:20260820T180000
DTEND;TZID=America/New_York:20260820T193000
DTSTAMP:20260424T221627
CREATED:20260414T001550Z
LAST-MODIFIED:20260414T001902Z
UID:10002327-1787248800-1787254200@njmasters.com
SUMMARY:Thursday Weekly Tempo Workout
DESCRIPTION:With Coach Paul: \n  \nWorkout will appear here  weekly.
URL:https://njmasters.com/event/thursday-weekly-tempo-workout-2/2026-08-20/
LOCATION:Dunkerhook Park\, Dunkerhook Rd.\, Paramus\, NJ\, 07652\, United States
CATEGORIES:Workouts
ATTACH;FMTTYPE=image/jpeg:https://njmasters.com/wp-content/uploads/2022/03/271597282_7509115862447760_1176948585121039041_n.jpeg
ORGANIZER;CN="North Jersey Masters":MAILTO:info@njmasters.com
END:VEVENT
BEGIN:VEVENT
DTSTART;TZID=America/New_York:20260827T180000
DTEND;TZID=America/New_York:20260827T193000
DTSTAMP:20260424T221627
CREATED:20260414T002402Z
LAST-MODIFIED:20260414T002601Z
UID:10002362-1787853600-1787859000@njmasters.com
SUMMARY:Thursday Weekly Tempo Workout
DESCRIPTION:With Coach Joel: \n  \nUpdates will appear here weekly
URL:https://njmasters.com/event/thursday-weekly-tempo-workout-3/2026-08-27/
LOCATION:Dunkerhook Park\, Dunkerhook Rd.\, Paramus\, NJ\, 07652\, United States
CATEGORIES:Workouts
ATTACH;FMTTYPE=image/jpeg:https://njmasters.com/wp-content/uploads/2022/03/271597282_7509115862447760_1176948585121039041_n.jpeg
ORGANIZER;CN="North Jersey Masters":MAILTO:info@njmasters.com
END:VEVENT
BEGIN:VEVENT
DTSTART;TZID=America/New_York:20260903T180000
DTEND;TZID=America/New_York:20260903T193000
DTSTAMP:20260424T221627
CREATED:20260414T001550Z
LAST-MODIFIED:20260414T001902Z
UID:10002329-1788458400-1788463800@njmasters.com
SUMMARY:Thursday Weekly Tempo Workout
DESCRIPTION:With Coach Paul: \n  \nWorkout will appear here  weekly.
URL:https://njmasters.com/event/thursday-weekly-tempo-workout-2/2026-09-03/
LOCATION:Dunkerhook Park\, Dunkerhook Rd.\, Paramus\, NJ\, 07652\, United States
CATEGORIES:Workouts
ATTACH;FMTTYPE=image/jpeg:https://njmasters.com/wp-content/uploads/2022/03/271597282_7509115862447760_1176948585121039041_n.jpeg
ORGANIZER;CN="North Jersey Masters":MAILTO:info@njmasters.com
END:VEVENT
BEGIN:VEVENT
DTSTART;TZID=America/New_York:20260910T180000
DTEND;TZID=America/New_York:20260910T193000
DTSTAMP:20260424T221627
CREATED:20260414T002402Z
LAST-MODIFIED:20260414T002601Z
UID:10002364-1789063200-1789068600@njmasters.com
SUMMARY:Thursday Weekly Tempo Workout
DESCRIPTION:With Coach Joel: \n  \nUpdates will appear here weekly
URL:https://njmasters.com/event/thursday-weekly-tempo-workout-3/2026-09-10/
LOCATION:Dunkerhook Park\, Dunkerhook Rd.\, Paramus\, NJ\, 07652\, United States
CATEGORIES:Workouts
ATTACH;FMTTYPE=image/jpeg:https://njmasters.com/wp-content/uploads/2022/03/271597282_7509115862447760_1176948585121039041_n.jpeg
ORGANIZER;CN="North Jersey Masters":MAILTO:info@njmasters.com
END:VEVENT
BEGIN:VEVENT
DTSTART;TZID=America/New_York:20260917T180000
DTEND;TZID=America/New_York:20260917T193000
DTSTAMP:20260424T221627
CREATED:20260414T001550Z
LAST-MODIFIED:20260414T001902Z
UID:10002331-1789668000-1789673400@njmasters.com
SUMMARY:Thursday Weekly Tempo Workout
DESCRIPTION:With Coach Paul: \n  \nWorkout will appear here  weekly.
URL:https://njmasters.com/event/thursday-weekly-tempo-workout-2/2026-09-17/
LOCATION:Dunkerhook Park\, Dunkerhook Rd.\, Paramus\, NJ\, 07652\, United States
CATEGORIES:Workouts
ATTACH;FMTTYPE=image/jpeg:https://njmasters.com/wp-content/uploads/2022/03/271597282_7509115862447760_1176948585121039041_n.jpeg
ORGANIZER;CN="North Jersey Masters":MAILTO:info@njmasters.com
END:VEVENT
BEGIN:VEVENT
DTSTART;TZID=America/New_York:20260924T180000
DTEND;TZID=America/New_York:20260924T193000
DTSTAMP:20260424T221627
CREATED:20260414T002402Z
LAST-MODIFIED:20260414T002601Z
UID:10002366-1790272800-1790278200@njmasters.com
SUMMARY:Thursday Weekly Tempo Workout
DESCRIPTION:With Coach Joel: \n  \nUpdates will appear here weekly
URL:https://njmasters.com/event/thursday-weekly-tempo-workout-3/2026-09-24/
LOCATION:Dunkerhook Park\, Dunkerhook Rd.\, Paramus\, NJ\, 07652\, United States
CATEGORIES:Workouts
ATTACH;FMTTYPE=image/jpeg:https://njmasters.com/wp-content/uploads/2022/03/271597282_7509115862447760_1176948585121039041_n.jpeg
ORGANIZER;CN="North Jersey Masters":MAILTO:info@njmasters.com
END:VEVENT
BEGIN:VEVENT
DTSTART;TZID=America/New_York:20261001T180000
DTEND;TZID=America/New_York:20261001T193000
DTSTAMP:20260424T221627
CREATED:20260414T001550Z
LAST-MODIFIED:20260414T001902Z
UID:10002333-1790877600-1790883000@njmasters.com
SUMMARY:Thursday Weekly Tempo Workout
DESCRIPTION:With Coach Paul: \n  \nWorkout will appear here  weekly.
URL:https://njmasters.com/event/thursday-weekly-tempo-workout-2/2026-10-01/
LOCATION:Dunkerhook Park\, Dunkerhook Rd.\, Paramus\, NJ\, 07652\, United States
CATEGORIES:Workouts
ATTACH;FMTTYPE=image/jpeg:https://njmasters.com/wp-content/uploads/2022/03/271597282_7509115862447760_1176948585121039041_n.jpeg
ORGANIZER;CN="North Jersey Masters":MAILTO:info@njmasters.com
END:VEVENT
BEGIN:VEVENT
DTSTART;TZID=America/New_York:20261008T180000
DTEND;TZID=America/New_York:20261008T193000
DTSTAMP:20260424T221627
CREATED:20260414T002402Z
LAST-MODIFIED:20260414T002601Z
UID:10002368-1791482400-1791487800@njmasters.com
SUMMARY:Thursday Weekly Tempo Workout
DESCRIPTION:With Coach Joel: \n  \nUpdates will appear here weekly
URL:https://njmasters.com/event/thursday-weekly-tempo-workout-3/2026-10-08/
LOCATION:Dunkerhook Park\, Dunkerhook Rd.\, Paramus\, NJ\, 07652\, United States
CATEGORIES:Workouts
ATTACH;FMTTYPE=image/jpeg:https://njmasters.com/wp-content/uploads/2022/03/271597282_7509115862447760_1176948585121039041_n.jpeg
ORGANIZER;CN="North Jersey Masters":MAILTO:info@njmasters.com
END:VEVENT
BEGIN:VEVENT
DTSTART;TZID=America/New_York:20261015T180000
DTEND;TZID=America/New_York:20261015T193000
DTSTAMP:20260424T221627
CREATED:20260414T001550Z
LAST-MODIFIED:20260414T001902Z
UID:10002335-1792087200-1792092600@njmasters.com
SUMMARY:Thursday Weekly Tempo Workout
DESCRIPTION:With Coach Paul: \n  \nWorkout will appear here  weekly.
URL:https://njmasters.com/event/thursday-weekly-tempo-workout-2/2026-10-15/
LOCATION:Dunkerhook Park\, Dunkerhook Rd.\, Paramus\, NJ\, 07652\, United States
CATEGORIES:Workouts
ATTACH;FMTTYPE=image/jpeg:https://njmasters.com/wp-content/uploads/2022/03/271597282_7509115862447760_1176948585121039041_n.jpeg
ORGANIZER;CN="North Jersey Masters":MAILTO:info@njmasters.com
END:VEVENT
BEGIN:VEVENT
DTSTART;TZID=America/New_York:20261022T180000
DTEND;TZID=America/New_York:20261022T193000
DTSTAMP:20260424T221627
CREATED:20260414T002402Z
LAST-MODIFIED:20260414T002601Z
UID:10002370-1792692000-1792697400@njmasters.com
SUMMARY:Thursday Weekly Tempo Workout
DESCRIPTION:With Coach Joel: \n  \nUpdates will appear here weekly
URL:https://njmasters.com/event/thursday-weekly-tempo-workout-3/2026-10-22/
LOCATION:Dunkerhook Park\, Dunkerhook Rd.\, Paramus\, NJ\, 07652\, United States
CATEGORIES:Workouts
ATTACH;FMTTYPE=image/jpeg:https://njmasters.com/wp-content/uploads/2022/03/271597282_7509115862447760_1176948585121039041_n.jpeg
ORGANIZER;CN="North Jersey Masters":MAILTO:info@njmasters.com
END:VEVENT
BEGIN:VEVENT
DTSTART;TZID=America/New_York:20261029T180000
DTEND;TZID=America/New_York:20261029T193000
DTSTAMP:20260424T221627
CREATED:20260414T001550Z
LAST-MODIFIED:20260414T001902Z
UID:10002337-1793296800-1793302200@njmasters.com
SUMMARY:Thursday Weekly Tempo Workout
DESCRIPTION:With Coach Paul: \n  \nWorkout will appear here  weekly.
URL:https://njmasters.com/event/thursday-weekly-tempo-workout-2/2026-10-29/
LOCATION:Dunkerhook Park\, Dunkerhook Rd.\, Paramus\, NJ\, 07652\, United States
CATEGORIES:Workouts
ATTACH;FMTTYPE=image/jpeg:https://njmasters.com/wp-content/uploads/2022/03/271597282_7509115862447760_1176948585121039041_n.jpeg
ORGANIZER;CN="North Jersey Masters":MAILTO:info@njmasters.com
END:VEVENT
BEGIN:VEVENT
DTSTART;TZID=America/New_York:20261105T180000
DTEND;TZID=America/New_York:20261105T193000
DTSTAMP:20260424T221627
CREATED:20260414T002402Z
LAST-MODIFIED:20260414T002601Z
UID:10002372-1793901600-1793907000@njmasters.com
SUMMARY:Thursday Weekly Tempo Workout
DESCRIPTION:With Coach Joel: \n  \nUpdates will appear here weekly
URL:https://njmasters.com/event/thursday-weekly-tempo-workout-3/2026-11-05/
LOCATION:Dunkerhook Park\, Dunkerhook Rd.\, Paramus\, NJ\, 07652\, United States
CATEGORIES:Workouts
ATTACH;FMTTYPE=image/jpeg:https://njmasters.com/wp-content/uploads/2022/03/271597282_7509115862447760_1176948585121039041_n.jpeg
ORGANIZER;CN="North Jersey Masters":MAILTO:info@njmasters.com
END:VEVENT
BEGIN:VEVENT
DTSTART;TZID=America/New_York:20261112T180000
DTEND;TZID=America/New_York:20261112T193000
DTSTAMP:20260424T221627
CREATED:20260414T001550Z
LAST-MODIFIED:20260414T001902Z
UID:10002339-1794506400-1794511800@njmasters.com
SUMMARY:Thursday Weekly Tempo Workout
DESCRIPTION:With Coach Paul: \n  \nWorkout will appear here  weekly.
URL:https://njmasters.com/event/thursday-weekly-tempo-workout-2/2026-11-12/
LOCATION:Dunkerhook Park\, Dunkerhook Rd.\, Paramus\, NJ\, 07652\, United States
CATEGORIES:Workouts
ATTACH;FMTTYPE=image/jpeg:https://njmasters.com/wp-content/uploads/2022/03/271597282_7509115862447760_1176948585121039041_n.jpeg
ORGANIZER;CN="North Jersey Masters":MAILTO:info@njmasters.com
END:VEVENT
BEGIN:VEVENT
DTSTART;TZID=America/New_York:20261119T180000
DTEND;TZID=America/New_York:20261119T193000
DTSTAMP:20260424T221627
CREATED:20260414T002402Z
LAST-MODIFIED:20260414T002601Z
UID:10002374-1795111200-1795116600@njmasters.com
SUMMARY:Thursday Weekly Tempo Workout
DESCRIPTION:With Coach Joel: \n  \nUpdates will appear here weekly
URL:https://njmasters.com/event/thursday-weekly-tempo-workout-3/2026-11-19/
LOCATION:Dunkerhook Park\, Dunkerhook Rd.\, Paramus\, NJ\, 07652\, United States
CATEGORIES:Workouts
ATTACH;FMTTYPE=image/jpeg:https://njmasters.com/wp-content/uploads/2022/03/271597282_7509115862447760_1176948585121039041_n.jpeg
ORGANIZER;CN="North Jersey Masters":MAILTO:info@njmasters.com
END:VEVENT
BEGIN:VEVENT
DTSTART;TZID=America/New_York:20261126T180000
DTEND;TZID=America/New_York:20261126T193000
DTSTAMP:20260424T221627
CREATED:20260414T001550Z
LAST-MODIFIED:20260414T001902Z
UID:10002341-1795716000-1795721400@njmasters.com
SUMMARY:Thursday Weekly Tempo Workout
DESCRIPTION:With Coach Paul: \n  \nWorkout will appear here  weekly.
URL:https://njmasters.com/event/thursday-weekly-tempo-workout-2/2026-11-26/
LOCATION:Dunkerhook Park\, Dunkerhook Rd.\, Paramus\, NJ\, 07652\, United States
CATEGORIES:Workouts
ATTACH;FMTTYPE=image/jpeg:https://njmasters.com/wp-content/uploads/2022/03/271597282_7509115862447760_1176948585121039041_n.jpeg
ORGANIZER;CN="North Jersey Masters":MAILTO:info@njmasters.com
END:VEVENT
BEGIN:VEVENT
DTSTART;TZID=America/New_York:20261203T180000
DTEND;TZID=America/New_York:20261203T193000
DTSTAMP:20260424T221627
CREATED:20260414T002402Z
LAST-MODIFIED:20260414T002601Z
UID:10002376-1796320800-1796326200@njmasters.com
SUMMARY:Thursday Weekly Tempo Workout
DESCRIPTION:With Coach Joel: \n  \nUpdates will appear here weekly
URL:https://njmasters.com/event/thursday-weekly-tempo-workout-3/2026-12-03/
LOCATION:Dunkerhook Park\, Dunkerhook Rd.\, Paramus\, NJ\, 07652\, United States
CATEGORIES:Workouts
ATTACH;FMTTYPE=image/jpeg:https://njmasters.com/wp-content/uploads/2022/03/271597282_7509115862447760_1176948585121039041_n.jpeg
ORGANIZER;CN="North Jersey Masters":MAILTO:info@njmasters.com
END:VEVENT
END:VCALENDAR