BEGIN:VCALENDAR
VERSION:2.0
PRODID:-//North Jersey Masters Running Club - ECPv6.15.18//NONSGML v1.0//EN
CALSCALE:GREGORIAN
METHOD:PUBLISH
X-ORIGINAL-URL:https://njmasters.com
X-WR-CALDESC:Events for North Jersey Masters Running Club
REFRESH-INTERVAL;VALUE=DURATION:PT1H
X-Robots-Tag:noindex
X-PUBLISHED-TTL:PT1H
BEGIN:VTIMEZONE
TZID:UTC
BEGIN:STANDARD
TZOFFSETFROM:+0000
TZOFFSETTO:+0000
TZNAME:UTC
DTSTART:20220101T000000
END:STANDARD
END:VTIMEZONE
BEGIN:VEVENT
DTSTART;TZID=UTC:20230902T080000
DTEND;TZID=UTC:20230902T090000
DTSTAMP:20260422T031321
CREATED:20230625T215006Z
LAST-MODIFIED:20230625T215006Z
UID:10000925-1693641600-1693645200@njmasters.com
SUMMARY:GROUP RUN
DESCRIPTION:
URL:https://njmasters.com/event/group-run-71/
LOCATION:Glen Rock Duck Pond\, 658 County Rte S79\, Glen Rock\, NJ\, 07452\, United States
CATEGORIES:Group Run
END:VEVENT
BEGIN:VEVENT
DTSTART;TZID=UTC:20230827T073000
DTEND;TZID=UTC:20230827T090000
DTSTAMP:20260422T031321
CREATED:20230625T212345Z
LAST-MODIFIED:20230625T212345Z
UID:10000924-1693121400-1693126800@njmasters.com
SUMMARY:GROUP RUN
DESCRIPTION:
URL:https://njmasters.com/event/group-run-70/
LOCATION:Glen Rock Duck Pond\, 658 County Rte S79\, Glen Rock\, NJ\, 07452\, United States
CATEGORIES:Group Run
END:VEVENT
BEGIN:VEVENT
DTSTART;TZID=UTC:20230826T080000
DTEND;TZID=UTC:20230826T090000
DTSTAMP:20260422T031321
CREATED:20230625T212245Z
LAST-MODIFIED:20230625T212245Z
UID:10000923-1693036800-1693040400@njmasters.com
SUMMARY:GROUP RUN
DESCRIPTION:
URL:https://njmasters.com/event/group-run-69/
LOCATION:Glen Rock Duck Pond\, 658 County Rte S79\, Glen Rock\, NJ\, 07452\, United States
CATEGORIES:Group Run
END:VEVENT
BEGIN:VEVENT
DTSTART;TZID=UTC:20230820T073000
DTEND;TZID=UTC:20230820T090000
DTSTAMP:20260422T031321
CREATED:20230625T212004Z
LAST-MODIFIED:20230625T212004Z
UID:10000922-1692516600-1692522000@njmasters.com
SUMMARY:GROUP RUN
DESCRIPTION:
URL:https://njmasters.com/event/group-run-68/
LOCATION:Glen Rock Duck Pond\, 658 County Rte S79\, Glen Rock\, NJ\, 07452\, United States
CATEGORIES:Group Run
ORGANIZER;CN="North Jersey Masters":MAILTO:info@njmasters.com
END:VEVENT
BEGIN:VEVENT
DTSTART;TZID=UTC:20230819T080000
DTEND;TZID=UTC:20230819T090000
DTSTAMP:20260422T031321
CREATED:20230625T211837Z
LAST-MODIFIED:20230625T211843Z
UID:10000921-1692432000-1692435600@njmasters.com
SUMMARY:GROUP RUN
DESCRIPTION:
URL:https://njmasters.com/event/group-run-67/
LOCATION:Glen Rock Duck Pond\, 658 County Rte S79\, Glen Rock\, NJ\, 07452\, United States
END:VEVENT
BEGIN:VEVENT
DTSTART;TZID=UTC:20230813T073000
DTEND;TZID=UTC:20230813T090000
DTSTAMP:20260422T031321
CREATED:20230625T211745Z
LAST-MODIFIED:20230625T211745Z
UID:10000920-1691911800-1691917200@njmasters.com
SUMMARY:GROUP RUN
DESCRIPTION:
URL:https://njmasters.com/event/group-run-66/
LOCATION:Glen Rock Duck Pond\, 658 County Rte S79\, Glen Rock\, NJ\, 07452\, United States
CATEGORIES:Group Run
END:VEVENT
BEGIN:VEVENT
DTSTART;TZID=UTC:20230812T080000
DTEND;TZID=UTC:20230812T090000
DTSTAMP:20260422T031321
CREATED:20230625T211631Z
LAST-MODIFIED:20230625T211631Z
UID:10000919-1691827200-1691830800@njmasters.com
SUMMARY:GROUP RUN
DESCRIPTION:
URL:https://njmasters.com/event/group-run-65/
LOCATION:Glen Rock Duck Pond\, 658 County Rte S79\, Glen Rock\, NJ\, 07452\, United States
CATEGORIES:Group Run
END:VEVENT
BEGIN:VEVENT
DTSTART;TZID=UTC:20230806T073000
DTEND;TZID=UTC:20230806T090000
DTSTAMP:20260422T031321
CREATED:20230625T211529Z
LAST-MODIFIED:20230625T211529Z
UID:10000918-1691307000-1691312400@njmasters.com
SUMMARY:GROUP RUN
DESCRIPTION:
URL:https://njmasters.com/event/group-run-64/
LOCATION:Glen Rock Duck Pond\, 658 County Rte S79\, Glen Rock\, NJ\, 07452\, United States
CATEGORIES:Group Run
END:VEVENT
BEGIN:VEVENT
DTSTART;TZID=UTC:20230805T080000
DTEND;TZID=UTC:20230805T090000
DTSTAMP:20260422T031321
CREATED:20230625T211423Z
LAST-MODIFIED:20230625T211423Z
UID:10000917-1691222400-1691226000@njmasters.com
SUMMARY:GROUP RUN
DESCRIPTION:
URL:https://njmasters.com/event/group-run-63/
LOCATION:Glen Rock Duck Pond\, 658 County Rte S79\, Glen Rock\, NJ\, 07452\, United States
CATEGORIES:Group Run
END:VEVENT
BEGIN:VEVENT
DTSTART;TZID=UTC:20230730T073000
DTEND;TZID=UTC:20230730T090000
DTSTAMP:20260422T031321
CREATED:20230625T205601Z
LAST-MODIFIED:20230625T210039Z
UID:10000914-1690702200-1690707600@njmasters.com
SUMMARY:GROUP RUN
DESCRIPTION:
URL:https://njmasters.com/event/group-run-61/
LOCATION:Glen Rock Duck Pond\, 658 County Rte S79\, Glen Rock\, NJ\, 07452\, United States
CATEGORIES:Group Run
END:VEVENT
BEGIN:VEVENT
DTSTART;TZID=UTC:20230729T080000
DTEND;TZID=UTC:20230729T090000
DTSTAMP:20260422T031321
CREATED:20230625T210150Z
LAST-MODIFIED:20230625T210150Z
UID:10000915-1690617600-1690621200@njmasters.com
SUMMARY:GROUP RUN
DESCRIPTION:
URL:https://njmasters.com/event/group-run-62/
LOCATION:Glen Rock Duck Pond\, 658 County Rte S79\, Glen Rock\, NJ\, 07452\, United States
CATEGORIES:Group Run
END:VEVENT
BEGIN:VEVENT
DTSTART;TZID=UTC:20230723T073000
DTEND;TZID=UTC:20230723T090000
DTSTAMP:20260422T031321
CREATED:20230625T205509Z
LAST-MODIFIED:20230625T205833Z
UID:10000913-1690097400-1690102800@njmasters.com
SUMMARY:GROUP RUN
DESCRIPTION:
URL:https://njmasters.com/event/group-run-60/
LOCATION:Glen Rock Duck Pond\, 658 County Rte S79\, Glen Rock\, NJ\, 07452\, United States
CATEGORIES:Group Run
END:VEVENT
BEGIN:VEVENT
DTSTART;TZID=UTC:20230722T080000
DTEND;TZID=UTC:20230722T090000
DTSTAMP:20260422T031321
CREATED:20230625T203652Z
LAST-MODIFIED:20230625T203652Z
UID:10000909-1690012800-1690016400@njmasters.com
SUMMARY:GROUP RUN
DESCRIPTION:
URL:https://njmasters.com/event/group-run-53/
LOCATION:Glen Rock Duck Pond\, 658 County Rte S79\, Glen Rock\, NJ\, 07452\, United States
CATEGORIES:Group Run
END:VEVENT
BEGIN:VEVENT
DTSTART;TZID=UTC:20230716T073000
DTEND;TZID=UTC:20230716T090000
DTSTAMP:20260422T031322
CREATED:20230625T205414Z
LAST-MODIFIED:20230625T205414Z
UID:10000912-1689492600-1689498000@njmasters.com
SUMMARY:GROUP RUN
DESCRIPTION:
URL:https://njmasters.com/event/group-run-59/
LOCATION:Glen Rock Duck Pond\, 658 County Rte S79\, Glen Rock\, NJ\, 07452\, United States
CATEGORIES:Group Run
END:VEVENT
BEGIN:VEVENT
DTSTART;TZID=UTC:20230715T080000
DTEND;TZID=UTC:20230715T090000
DTSTAMP:20260422T031322
CREATED:20230625T210458Z
LAST-MODIFIED:20230625T210458Z
UID:10000916-1689408000-1689411600@njmasters.com
SUMMARY:GROUP RUN
DESCRIPTION:
URL:https://njmasters.com/event/group-run-56/
LOCATION:Glen Rock Duck Pond\, 658 County Rte S79\, Glen Rock\, NJ\, 07452\, United States
CATEGORIES:Group Run
END:VEVENT
BEGIN:VEVENT
DTSTART;TZID=UTC:20230708T080000
DTEND;TZID=UTC:20230708T090000
DTSTAMP:20260422T031322
CREATED:20230625T203531Z
LAST-MODIFIED:20230625T205928Z
UID:10000908-1688803200-1688806800@njmasters.com
SUMMARY:GROUP RUN
DESCRIPTION:
URL:https://njmasters.com/event/group-run-50/
LOCATION:Glen Rock Duck Pond\, 658 County Rte S79\, Glen Rock\, NJ\, 07452\, United States
CATEGORIES:Group Run
END:VEVENT
BEGIN:VEVENT
DTSTART;TZID=UTC:20230702T073000
DTEND;TZID=UTC:20230702T090000
DTSTAMP:20260422T031322
CREATED:20230625T205303Z
LAST-MODIFIED:20230625T205303Z
UID:10000911-1688283000-1688288400@njmasters.com
SUMMARY:GROUP RUN
DESCRIPTION:
URL:https://njmasters.com/event/group-run-58/
LOCATION:Glen Rock Duck Pond\, 658 County Rte S79\, Glen Rock\, NJ\, 07452\, United States
CATEGORIES:Group Run
END:VEVENT
BEGIN:VEVENT
DTSTART;TZID=UTC:20230701T080000
DTEND;TZID=UTC:20230701T090000
DTSTAMP:20260422T031322
CREATED:20230625T203154Z
LAST-MODIFIED:20230625T203154Z
UID:10000907-1688198400-1688202000@njmasters.com
SUMMARY:GROUP RUN
DESCRIPTION:
URL:https://njmasters.com/event/group-run-48/
LOCATION:Glen Rock Duck Pond\, 658 County Rte S79\, Glen Rock\, NJ\, 07452\, United States
CATEGORIES:Group Run
END:VEVENT
BEGIN:VEVENT
DTSTART;TZID=UTC:20230625T073000
DTEND;TZID=UTC:20230625T090000
DTSTAMP:20260422T031322
CREATED:20230530T164048Z
LAST-MODIFIED:20230625T205644Z
UID:10000905-1687678200-1687683600@njmasters.com
SUMMARY:GROUP RUN
DESCRIPTION:
URL:https://njmasters.com/event/group-run-54/
LOCATION:Glen Rock Duck Pond\, 658 County Rte S79\, Glen Rock\, NJ\, 07452\, United States
END:VEVENT
BEGIN:VEVENT
DTSTART;TZID=UTC:20230624T080000
DTEND;TZID=UTC:20230624T090000
DTSTAMP:20260422T031322
CREATED:20230530T164242Z
LAST-MODIFIED:20230530T164242Z
UID:10000906-1687593600-1687597200@njmasters.com
SUMMARY:GROUP RUN
DESCRIPTION:
URL:https://njmasters.com/event/group-run-57/
LOCATION:Glen Rock Duck Pond\, 658 County Rte S79\, Glen Rock\, NJ\, 07452\, United States
END:VEVENT
BEGIN:VEVENT
DTSTART;TZID=UTC:20230617T090000
DTEND;TZID=UTC:20230617T103000
DTSTAMP:20260422T031322
CREATED:20230304T075620Z
LAST-MODIFIED:20230407T220235Z
UID:10000872-1686992400-1686997800@njmasters.com
SUMMARY:GROUP RUN
DESCRIPTION:
URL:https://njmasters.com/event/group-run-43/
LOCATION:Glen Rock Duck Pond\, 658 County Rte S79\, Glen Rock\, NJ\, 07452\, United States
END:VEVENT
BEGIN:VEVENT
DTSTART;TZID=UTC:20230611T080000
DTEND;TZID=UTC:20230611T090000
DTSTAMP:20260422T031322
CREATED:20230530T163922Z
LAST-MODIFIED:20230530T163922Z
UID:10000904-1686470400-1686474000@njmasters.com
SUMMARY:GROUP RUN
DESCRIPTION:
URL:https://njmasters.com/event/group-run-52/
LOCATION:Glen Rock Duck Pond\, 658 County Rte S79\, Glen Rock\, NJ\, 07452\, United States
END:VEVENT
BEGIN:VEVENT
DTSTART;TZID=UTC:20230610T090000
DTEND;TZID=UTC:20230610T103000
DTSTAMP:20260422T031322
CREATED:20230304T075518Z
LAST-MODIFIED:20230407T220201Z
UID:10000871-1686387600-1686393000@njmasters.com
SUMMARY:GROUP RUN
DESCRIPTION:
URL:https://njmasters.com/event/group-run-42/
LOCATION:Glen Rock Duck Pond\, 658 County Rte S79\, Glen Rock\, NJ\, 07452\, United States
END:VEVENT
BEGIN:VEVENT
DTSTART;TZID=UTC:20230604T080000
DTEND;TZID=UTC:20230604T090000
DTSTAMP:20260422T031322
CREATED:20230530T163806Z
LAST-MODIFIED:20230530T163806Z
UID:10000903-1685865600-1685869200@njmasters.com
SUMMARY:GROUP RUN
DESCRIPTION:
URL:https://njmasters.com/event/group-run-51/
LOCATION:Glen Rock Duck Pond\, 658 County Rte S79\, Glen Rock\, NJ\, 07452\, United States
END:VEVENT
BEGIN:VEVENT
DTSTART;TZID=UTC:20230603T090000
DTEND;TZID=UTC:20230603T103000
DTSTAMP:20260422T031322
CREATED:20230304T080004Z
LAST-MODIFIED:20230407T214937Z
UID:10000874-1685782800-1685788200@njmasters.com
SUMMARY:GROUP RUN
DESCRIPTION:
URL:https://njmasters.com/event/group-run-46/
LOCATION:Glen Rock Duck Pond\, 658 County Rte S79\, Glen Rock\, NJ\, 07452\, United States
END:VEVENT
BEGIN:VEVENT
DTSTART;TZID=UTC:20230528T080000
DTEND;TZID=UTC:20230528T093000
DTSTAMP:20260422T031322
CREATED:20230304T075349Z
LAST-MODIFIED:20230304T075406Z
UID:10000870-1685260800-1685266200@njmasters.com
SUMMARY:GROUP RUN
DESCRIPTION:
URL:https://njmasters.com/event/group-run-41/
LOCATION:Glen Rock Duck Pond\, 658 County Rte S79\, Glen Rock\, NJ\, 07452\, United States
END:VEVENT
BEGIN:VEVENT
DTSTART;TZID=UTC:20230514T080000
DTEND;TZID=UTC:20230514T090000
DTSTAMP:20260422T031322
CREATED:20230304T080315Z
LAST-MODIFIED:20230304T080315Z
UID:10000876-1684051200-1684054800@njmasters.com
SUMMARY:GROUP RUN
DESCRIPTION:
URL:https://njmasters.com/event/group-run-44/
LOCATION:Glen Rock Duck Pond\, 658 County Rte S79\, Glen Rock\, NJ\, 07452\, United States
END:VEVENT
BEGIN:VEVENT
DTSTART;TZID=UTC:20230513T090000
DTEND;TZID=UTC:20230513T103000
DTSTAMP:20260422T031322
CREATED:20230304T075049Z
LAST-MODIFIED:20230407T215443Z
UID:10000867-1683968400-1683973800@njmasters.com
SUMMARY:GROUP RUN
DESCRIPTION:
URL:https://njmasters.com/event/group-run-38/
LOCATION:Glen Rock Duck Pond\, 658 County Rte S79\, Glen Rock\, NJ\, 07452\, United States
END:VEVENT
BEGIN:VEVENT
DTSTART;TZID=UTC:20230507T080000
DTEND;TZID=UTC:20230507T093000
DTSTAMP:20260422T031322
CREATED:20230304T075919Z
LAST-MODIFIED:20230304T075919Z
UID:10000873-1683446400-1683451800@njmasters.com
SUMMARY:GROUP RUN
DESCRIPTION:
URL:https://njmasters.com/event/group-run-45/
LOCATION:Glen Rock Duck Pond\, 658 County Rte S79\, Glen Rock\, NJ\, 07452\, United States
END:VEVENT
BEGIN:VEVENT
DTSTART;TZID=UTC:20230506T090000
DTEND;TZID=UTC:20230506T103000
DTSTAMP:20260422T031322
CREATED:20230304T074912Z
LAST-MODIFIED:20230407T215539Z
UID:10000865-1683363600-1683369000@njmasters.com
SUMMARY:GROUP RUN
DESCRIPTION:
URL:https://njmasters.com/event/group-run-27/
LOCATION:Glen Rock Duck Pond\, 658 County Rte S79\, Glen Rock\, NJ\, 07452\, United States
CATEGORIES:Group Run
END:VEVENT
END:VCALENDAR