BEGIN:VCALENDAR
VERSION:2.0
PRODID:-//North Jersey Masters Running Club - ECPv6.15.18//NONSGML v1.0//EN
CALSCALE:GREGORIAN
METHOD:PUBLISH
X-WR-CALNAME:North Jersey Masters Running Club
X-ORIGINAL-URL:https://njmasters.com
X-WR-CALDESC:Events for North Jersey Masters Running Club
REFRESH-INTERVAL;VALUE=DURATION:PT1H
X-Robots-Tag:noindex
X-PUBLISHED-TTL:PT1H
BEGIN:VTIMEZONE
TZID:UTC
BEGIN:STANDARD
TZOFFSETFROM:+0000
TZOFFSETTO:+0000
TZNAME:UTC
DTSTART:20210101T000000
END:STANDARD
END:VTIMEZONE
BEGIN:VEVENT
DTSTART;TZID=UTC:20220828T073000
DTEND;TZID=UTC:20220828T090000
DTSTAMP:20260422T125759
CREATED:20220821T172011Z
LAST-MODIFIED:20220821T172011Z
UID:10000773-1661671800-1661677200@njmasters.com
SUMMARY:GROUP RUN
DESCRIPTION:
URL:https://njmasters.com/event/group-run-2/
LOCATION:Glen Rock Duck Pond\, 658 County Rte S79\, Glen Rock\, NJ\, 07452\, United States
CATEGORIES:Group Run
END:VEVENT
BEGIN:VEVENT
DTSTART;TZID=UTC:20220827T080000
DTEND;TZID=UTC:20220827T090000
DTSTAMP:20260422T125759
CREATED:20220821T113037Z
LAST-MODIFIED:20220822T072947Z
UID:10000769-1661587200-1661590800@njmasters.com
SUMMARY:GROUP RUN
DESCRIPTION:
URL:https://njmasters.com/event/group-run/
LOCATION:Glen Rock Duck Pond\, 658 County Rte S79\, Glen Rock\, NJ\, 07452\, United States
CATEGORIES:Group Run
END:VEVENT
BEGIN:VEVENT
DTSTART;TZID=UTC:20220227T080000
DTEND;TZID=UTC:20220227T090000
DTSTAMP:20260422T125759
CREATED:20220213T003651Z
LAST-MODIFIED:20220214T004255Z
UID:10000699-1645948800-1645952400@njmasters.com
SUMMARY:Sunday Group Run at 8:00am
DESCRIPTION:North Jersey Masters meets for a Group Run each Sunday morning at 8:00am.  All paces\, all distances\, all welcome.  Meet up with us at the Glen Rock Duckpond\, second parking area.
URL:https://njmasters.com/event/sunday-long-run-72-2-2-2/
LOCATION:Glen Rock Duck Pond\, 658 County Rte S79\, Glen Rock\, NJ\, 07452\, United States
CATEGORIES:Group Run,Workouts
ATTACH;FMTTYPE=image/jpeg:https://njmasters.com/wp-content/uploads/2021/09/273220539_7715963128429698_2162027863977801025_n.jpg
ORGANIZER;CN="North Jersey Masters":MAILTO:info@njmasters.com
END:VEVENT
BEGIN:VEVENT
DTSTART;TZID=UTC:20220220T080000
DTEND;TZID=UTC:20220220T090000
DTSTAMP:20260422T125759
CREATED:20220213T003651Z
LAST-MODIFIED:20220214T004331Z
UID:10000697-1645344000-1645347600@njmasters.com
SUMMARY:Sunday Group Run at 8:00am
DESCRIPTION:North Jersey Masters meets for a Group Run each Sunday morning at 8:00am.  All paces\, all distances\, all welcome.  Meet up with us at the Glen Rock Duckpond\, second parking area.
URL:https://njmasters.com/event/sunday-long-run-72-2-2/
LOCATION:Glen Rock Duck Pond\, 658 County Rte S79\, Glen Rock\, NJ\, 07452\, United States
CATEGORIES:Group Run,Workouts
ATTACH;FMTTYPE=image/jpeg:https://njmasters.com/wp-content/uploads/2021/09/273220539_7715963128429698_2162027863977801025_n.jpg
ORGANIZER;CN="North Jersey Masters":MAILTO:info@njmasters.com
END:VEVENT
BEGIN:VEVENT
DTSTART;TZID=UTC:20220213T080000
DTEND;TZID=UTC:20220213T090000
DTSTAMP:20260422T125759
CREATED:20220213T003651Z
LAST-MODIFIED:20220214T004351Z
UID:10000695-1644739200-1644742800@njmasters.com
SUMMARY:Sunday Group Run at 8:00am
DESCRIPTION:North Jersey Masters meets for a Group Run each Sunday morning at 8:00am.  All paces\, all distances\, all welcome.  Meet up with us at the Glen Rock Duckpond\, second parking area.
URL:https://njmasters.com/event/sunday-long-run-72-2/
LOCATION:Glen Rock Duck Pond\, 658 County Rte S79\, Glen Rock\, NJ\, 07452\, United States
CATEGORIES:Group Run,Workouts
ATTACH;FMTTYPE=image/jpeg:https://njmasters.com/wp-content/uploads/2021/09/273220539_7715963128429698_2162027863977801025_n.jpg
ORGANIZER;CN="North Jersey Masters":MAILTO:info@njmasters.com
END:VEVENT
END:VCALENDAR