BEGIN:VCALENDAR
VERSION:2.0
PRODID:-//North Jersey Masters Running Club - ECPv6.15.18//NONSGML v1.0//EN
CALSCALE:GREGORIAN
METHOD:PUBLISH
X-WR-CALNAME:North Jersey Masters Running Club
X-ORIGINAL-URL:https://njmasters.com
X-WR-CALDESC:Events for North Jersey Masters Running Club
REFRESH-INTERVAL;VALUE=DURATION:PT1H
X-Robots-Tag:noindex
X-PUBLISHED-TTL:PT1H
BEGIN:VTIMEZONE
TZID:UTC
BEGIN:STANDARD
TZOFFSETFROM:+0000
TZOFFSETTO:+0000
TZNAME:UTC
DTSTART:20220101T000000
END:STANDARD
END:VTIMEZONE
BEGIN:VEVENT
DTSTART;TZID=UTC:20240128T080000
DTEND;TZID=UTC:20240128T080000
DTSTAMP:20260421T220332
CREATED:20231226T085249Z
LAST-MODIFIED:20231226T085249Z
UID:10001007-1706428800-1706428800@njmasters.com
SUMMARY:GROUP RUN
DESCRIPTION:
URL:https://njmasters.com/event/group-run-108/
LOCATION:Glen Rock Duck Pond\, 658 County Rte S79\, Glen Rock\, NJ\, 07452\, United States
END:VEVENT
BEGIN:VEVENT
DTSTART;TZID=UTC:20240127T080000
DTEND;TZID=UTC:20240127T090000
DTSTAMP:20260421T220332
CREATED:20231226T085146Z
LAST-MODIFIED:20231226T085146Z
UID:10001006-1706342400-1706346000@njmasters.com
SUMMARY:GROUP RUN
DESCRIPTION:
URL:https://njmasters.com/event/group-run-107/
LOCATION:Glen Rock Duck Pond\, 658 County Rte S79\, Glen Rock\, NJ\, 07452\, United States
END:VEVENT
BEGIN:VEVENT
DTSTART;TZID=UTC:20240121T080000
DTEND;TZID=UTC:20240121T090000
DTSTAMP:20260421T220332
CREATED:20231226T085406Z
LAST-MODIFIED:20231226T085406Z
UID:10001008-1705824000-1705827600@njmasters.com
SUMMARY:GROUP RUN
DESCRIPTION:
URL:https://njmasters.com/event/group-run-109/
LOCATION:Glen Rock Duck Pond\, 658 County Rte S79\, Glen Rock\, NJ\, 07452\, United States
END:VEVENT
BEGIN:VEVENT
DTSTART;TZID=UTC:20240120T080000
DTEND;TZID=UTC:20240120T090000
DTSTAMP:20260421T220332
CREATED:20231226T085059Z
LAST-MODIFIED:20231226T085059Z
UID:10001005-1705737600-1705741200@njmasters.com
SUMMARY:GROUP RUN
DESCRIPTION:
URL:https://njmasters.com/event/group-run-106/
LOCATION:Glen Rock Duck Pond\, 658 County Rte S79\, Glen Rock\, NJ\, 07452\, United States
END:VEVENT
BEGIN:VEVENT
DTSTART;TZID=UTC:20240114T080000
DTEND;TZID=UTC:20240114T090000
DTSTAMP:20260421T220332
CREATED:20231226T085819Z
LAST-MODIFIED:20231226T085819Z
UID:10001011-1705219200-1705222800@njmasters.com
SUMMARY:GROUP RUN
DESCRIPTION:
URL:https://njmasters.com/event/group-run-112/
LOCATION:Glen Rock Duck Pond\, 658 County Rte S79\, Glen Rock\, NJ\, 07452\, United States
END:VEVENT
BEGIN:VEVENT
DTSTART;TZID=UTC:20240113T080000
DTEND;TZID=UTC:20240113T090000
DTSTAMP:20260421T220332
CREATED:20231226T085012Z
LAST-MODIFIED:20231226T085012Z
UID:10001004-1705132800-1705136400@njmasters.com
SUMMARY:GROUP RUN
DESCRIPTION:
URL:https://njmasters.com/event/group-run-105/
LOCATION:Glen Rock Duck Pond\, 658 County Rte S79\, Glen Rock\, NJ\, 07452\, United States
END:VEVENT
BEGIN:VEVENT
DTSTART;TZID=UTC:20240107T080000
DTEND;TZID=UTC:20240107T090000
DTSTAMP:20260421T220332
CREATED:20231226T084910Z
LAST-MODIFIED:20231226T084910Z
UID:10001003-1704614400-1704618000@njmasters.com
SUMMARY:GROUP RUN
DESCRIPTION:
URL:https://njmasters.com/event/group-run-104/
LOCATION:Glen Rock Duck Pond\, 658 County Rte S79\, Glen Rock\, NJ\, 07452\, United States
END:VEVENT
BEGIN:VEVENT
DTSTART;TZID=UTC:20240106T080000
DTEND;TZID=UTC:20240106T090000
DTSTAMP:20260421T220332
CREATED:20231226T084826Z
LAST-MODIFIED:20231226T084826Z
UID:10001002-1704528000-1704531600@njmasters.com
SUMMARY:GROUP RUN
DESCRIPTION:
URL:https://njmasters.com/event/group-run-103/
LOCATION:Glen Rock Duck Pond\, 658 County Rte S79\, Glen Rock\, NJ\, 07452\, United States
END:VEVENT
BEGIN:VEVENT
DTSTART;TZID=UTC:20240101T080000
DTEND;TZID=UTC:20240101T093000
DTSTAMP:20260421T220332
CREATED:20240101T081641Z
LAST-MODIFIED:20240101T081641Z
UID:10001019-1704096000-1704101400@njmasters.com
SUMMARY:GROUP RUN
DESCRIPTION:
URL:https://njmasters.com/event/group-run-114/
LOCATION:Glen Rock Duck Pond\, 658 County Rte S79\, Glen Rock\, NJ\, 07452\, United States
END:VEVENT
BEGIN:VEVENT
DTSTART;TZID=UTC:20231231T080000
DTEND;TZID=UTC:20231231T090000
DTSTAMP:20260421T220332
CREATED:20231106T074031Z
LAST-MODIFIED:20231106T074031Z
UID:10000991-1704009600-1704013200@njmasters.com
SUMMARY:GROUP RUN
DESCRIPTION:
URL:https://njmasters.com/event/group-run-102/
LOCATION:Glen Rock Duck Pond\, 658 County Rte S79\, Glen Rock\, NJ\, 07452\, United States
END:VEVENT
BEGIN:VEVENT
DTSTART;TZID=UTC:20231230T080000
DTEND;TZID=UTC:20231230T090000
DTSTAMP:20260421T220332
CREATED:20231106T073837Z
LAST-MODIFIED:20231106T073837Z
UID:10000989-1703923200-1703926800@njmasters.com
SUMMARY:GROUP RUN
DESCRIPTION:
URL:https://njmasters.com/event/group-run-101/
LOCATION:Glen Rock Duck Pond\, 658 County Rte S79\, Glen Rock\, NJ\, 07452\, United States
END:VEVENT
BEGIN:VEVENT
DTSTART;TZID=UTC:20231224T080000
DTEND;TZID=UTC:20231224T090000
DTSTAMP:20260421T220332
CREATED:20231106T073758Z
LAST-MODIFIED:20231106T073758Z
UID:10000988-1703404800-1703408400@njmasters.com
SUMMARY:GROUP RUN
DESCRIPTION:
URL:https://njmasters.com/event/group-run-100/
LOCATION:Glen Rock Duck Pond\, 658 County Rte S79\, Glen Rock\, NJ\, 07452\, United States
END:VEVENT
BEGIN:VEVENT
DTSTART;TZID=UTC:20231223T080000
DTEND;TZID=UTC:20231223T090000
DTSTAMP:20260421T220332
CREATED:20231024T193508Z
LAST-MODIFIED:20231024T194133Z
UID:10000974-1703318400-1703322000@njmasters.com
SUMMARY:NORTH JERSEY MASTERS HOLIDAY RUN
DESCRIPTION:
URL:https://njmasters.com/event/north-jersey-masters-holiday-run/
LOCATION:Glen Rock Duck Pond\, 658 County Rte S79\, Glen Rock\, NJ\, 07452\, United States
END:VEVENT
BEGIN:VEVENT
DTSTART;TZID=UTC:20231217T080000
DTEND;TZID=UTC:20231217T090000
DTSTAMP:20260421T220332
CREATED:20231106T073416Z
LAST-MODIFIED:20231106T073416Z
UID:10000986-1702800000-1702803600@njmasters.com
SUMMARY:GROUP RUN
DESCRIPTION:
URL:https://njmasters.com/event/group-run-98/
LOCATION:Glen Rock Duck Pond\, 658 County Rte S79\, Glen Rock\, NJ\, 07452\, United States
END:VEVENT
BEGIN:VEVENT
DTSTART;TZID=UTC:20231216T080000
DTEND;TZID=UTC:20231216T090000
DTSTAMP:20260421T220332
CREATED:20231106T073327Z
LAST-MODIFIED:20231106T073327Z
UID:10000985-1702713600-1702717200@njmasters.com
SUMMARY:GROUP RUN
DESCRIPTION:
URL:https://njmasters.com/event/group-run-97/
LOCATION:Glen Rock Duck Pond\, 658 County Rte S79\, Glen Rock\, NJ\, 07452\, United States
END:VEVENT
BEGIN:VEVENT
DTSTART;TZID=UTC:20231209T080000
DTEND;TZID=UTC:20231209T090000
DTSTAMP:20260421T220332
CREATED:20231106T073137Z
LAST-MODIFIED:20231106T073137Z
UID:10000983-1702108800-1702112400@njmasters.com
SUMMARY:GROUP RUN
DESCRIPTION:
URL:https://njmasters.com/event/group-run-95/
LOCATION:Glen Rock Duck Pond\, 658 County Rte S79\, Glen Rock\, NJ\, 07452\, United States
END:VEVENT
BEGIN:VEVENT
DTSTART;TZID=UTC:20231203T080000
DTEND;TZID=UTC:20231203T170000
DTSTAMP:20260421T220332
CREATED:20231106T073039Z
LAST-MODIFIED:20231106T073039Z
UID:10000982-1701590400-1701622800@njmasters.com
SUMMARY:GROUP RUN
DESCRIPTION:
URL:https://njmasters.com/event/group-run-94/
LOCATION:Glen Rock Duck Pond\, 658 County Rte S79\, Glen Rock\, NJ\, 07452\, United States
END:VEVENT
BEGIN:VEVENT
DTSTART;TZID=UTC:20231202T080000
DTEND;TZID=UTC:20231202T090000
DTSTAMP:20260421T220332
CREATED:20231106T073253Z
LAST-MODIFIED:20231106T073253Z
UID:10000984-1701504000-1701507600@njmasters.com
SUMMARY:GROUP RUN
DESCRIPTION:
URL:https://njmasters.com/event/group-run-96/
LOCATION:Glen Rock Duck Pond\, 658 County Rte S79\, Glen Rock\, NJ\, 07452\, United States
END:VEVENT
BEGIN:VEVENT
DTSTART;TZID=UTC:20231126T080000
DTEND;TZID=UTC:20231126T090000
DTSTAMP:20260421T220332
CREATED:20231106T072917Z
LAST-MODIFIED:20231106T072917Z
UID:10000981-1700985600-1700989200@njmasters.com
SUMMARY:GROUP RUN
DESCRIPTION:
URL:https://njmasters.com/event/group-run-93/
LOCATION:Glen Rock Duck Pond\, 658 County Rte S79\, Glen Rock\, NJ\, 07452\, United States
END:VEVENT
BEGIN:VEVENT
DTSTART;TZID=UTC:20231125T080000
DTEND;TZID=UTC:20231125T090000
DTSTAMP:20260421T220332
CREATED:20231106T072844Z
LAST-MODIFIED:20231106T072844Z
UID:10000980-1700899200-1700902800@njmasters.com
SUMMARY:GROUP RUN
DESCRIPTION:
URL:https://njmasters.com/event/group-run-92/
LOCATION:Glen Rock Duck Pond\, 658 County Rte S79\, Glen Rock\, NJ\, 07452\, United States
END:VEVENT
BEGIN:VEVENT
DTSTART;TZID=UTC:20231112T080000
DTEND;TZID=UTC:20231112T090000
DTSTAMP:20260421T220332
CREATED:20231106T072803Z
LAST-MODIFIED:20231106T072803Z
UID:10000979-1699776000-1699779600@njmasters.com
SUMMARY:GROUP RUN
DESCRIPTION:
URL:https://njmasters.com/event/group-run-91/
LOCATION:Glen Rock Duck Pond\, 658 County Rte S79\, Glen Rock\, NJ\, 07452\, United States
END:VEVENT
BEGIN:VEVENT
DTSTART;TZID=UTC:20231111T080000
DTEND;TZID=UTC:20231111T090000
DTSTAMP:20260421T220332
CREATED:20231106T073605Z
LAST-MODIFIED:20231106T073640Z
UID:10000987-1699689600-1699693200@njmasters.com
SUMMARY:GRADUATION RUN!
DESCRIPTION:
URL:https://njmasters.com/event/group-run-99/
LOCATION:Glen Rock Duck Pond\, 658 County Rte S79\, Glen Rock\, NJ\, 07452\, United States
END:VEVENT
BEGIN:VEVENT
DTSTART;TZID=UTC:20230930T080000
DTEND;TZID=UTC:20230930T090000
DTSTAMP:20260421T220332
CREATED:20230625T215902Z
LAST-MODIFIED:20230625T215902Z
UID:10000932-1696060800-1696064400@njmasters.com
SUMMARY:GROUP RUN
DESCRIPTION:
URL:https://njmasters.com/event/group-run-78/
LOCATION:Glen Rock Duck Pond\, 658 County Rte S79\, Glen Rock\, NJ\, 07452\, United States
CATEGORIES:Group Run
END:VEVENT
BEGIN:VEVENT
DTSTART;TZID=UTC:20230924T080000
DTEND;TZID=UTC:20230924T093000
DTSTAMP:20260421T220332
CREATED:20230625T215725Z
LAST-MODIFIED:20230625T215725Z
UID:10000931-1695542400-1695547800@njmasters.com
SUMMARY:GROUP RUN
DESCRIPTION:
URL:https://njmasters.com/event/group-run-77/
LOCATION:Glen Rock Duck Pond\, 658 County Rte S79\, Glen Rock\, NJ\, 07452\, United States
CATEGORIES:Group Run
END:VEVENT
BEGIN:VEVENT
DTSTART;TZID=UTC:20230923T080000
DTEND;TZID=UTC:20230923T090000
DTSTAMP:20260421T220332
CREATED:20230625T215635Z
LAST-MODIFIED:20230625T215635Z
UID:10000930-1695456000-1695459600@njmasters.com
SUMMARY:GROUP RUN
DESCRIPTION:
URL:https://njmasters.com/event/group-run-76/
LOCATION:Glen Rock Duck Pond\, 658 County Rte S79\, Glen Rock\, NJ\, 07452\, United States
CATEGORIES:Group Run
END:VEVENT
BEGIN:VEVENT
DTSTART;TZID=UTC:20230917T080000
DTEND;TZID=UTC:20230917T090000
DTSTAMP:20260421T220332
CREATED:20230625T215505Z
LAST-MODIFIED:20230625T215517Z
UID:10000929-1694937600-1694941200@njmasters.com
SUMMARY:GROUP RUN
DESCRIPTION:
URL:https://njmasters.com/event/group-run-75/
LOCATION:Glen Rock Duck Pond\, 658 County Rte S79\, Glen Rock\, NJ\, 07452\, United States
CATEGORIES:Group Run
END:VEVENT
BEGIN:VEVENT
DTSTART;TZID=UTC:20230910T080000
DTEND;TZID=UTC:20230910T090000
DTSTAMP:20260421T220332
CREATED:20230625T215214Z
LAST-MODIFIED:20230625T215333Z
UID:10000927-1694332800-1694336400@njmasters.com
SUMMARY:GROUP RUN
DESCRIPTION:
URL:https://njmasters.com/event/group-run-73/
LOCATION:Glen Rock Duck Pond\, 658 County Rte S79\, Glen Rock\, NJ\, 07452\, United States
CATEGORIES:Group Run
END:VEVENT
BEGIN:VEVENT
DTSTART;TZID=UTC:20230909T080000
DTEND;TZID=UTC:20230909T100000
DTSTAMP:20260421T220332
CREATED:20230221T233942Z
LAST-MODIFIED:20230720T060459Z
UID:10000847-1694246400-1694253600@njmasters.com
SUMMARY:FALL BEGINNER RUNNING PROGRAM BEGINS (SAT SESSION)
DESCRIPTION:
URL:https://njmasters.com/event/fall-beginner-running-program-begins-sat-session/
LOCATION:Glen Rock Duck Pond\, 658 County Rte S79\, Glen Rock\, NJ\, 07452\, United States
END:VEVENT
BEGIN:VEVENT
DTSTART;TZID=UTC:20230909T080000
DTEND;TZID=UTC:20230909T090000
DTSTAMP:20260421T220332
CREATED:20230625T221520Z
LAST-MODIFIED:20230625T221520Z
UID:10000946-1694246400-1694250000@njmasters.com
SUMMARY:GROUP RUN
DESCRIPTION:
URL:https://njmasters.com/event/group-run-80/
LOCATION:Glen Rock Duck Pond\, 658 County Rte S79\, Glen Rock\, NJ\, 07452\, United States
CATEGORIES:Group Run
END:VEVENT
BEGIN:VEVENT
DTSTART;TZID=UTC:20230903T073000
DTEND;TZID=UTC:20230903T090000
DTSTAMP:20260421T220332
CREATED:20230625T215115Z
LAST-MODIFIED:20230625T215115Z
UID:10000926-1693726200-1693731600@njmasters.com
SUMMARY:GROUP RUN
DESCRIPTION:
URL:https://njmasters.com/event/group-run-72/
LOCATION:Glen Rock Duck Pond\, 658 County Rte S79\, Glen Rock\, NJ\, 07452\, United States
CATEGORIES:Group Run
END:VEVENT
END:VCALENDAR